- Раздел: Путешествия
- Дата съёмки: 30.08.2007 05:26
- Дата загрузки фото: 05.09.2007 23:24
- Оригинальная фотография: 3264 x 2448 (3,3 Мб)
- Технические характеристики:
- Фотоаппарат: Minolta DiMAGE A200
- Выдержка: 1/320
- Гиперфокальное расстояние: 84,54 m
- Диафрагма: 4,0
- Светочувствительность: 50
- Фокусное расстояние: 50,8mm (35mm эквивалент: 200,0mm)
- Полный EXIF
- ColorTransform: YCbCr
- Composite
- Aperture: 4,0
- CircleOfConfusion: 0,008 mm
- EV: 13,3
- FocalLength35efl: 50,8mm (35mm equivalent: 200,0mm)
- HyperfocalDistance: 84,54 m
- ScaleFactor35efl: 3,9
- ShutterSpeed: 1/320
- ExifIFD
- ApertureValue: 4,0
- BrightnessValue: 8,4
- ColorSpace: sRGB
- Contrast: Normal
- CreateDate: 2007:08:22 13:20:47
- CustomRendered: Normal
- DateTimeOriginal: 2007:08:22 13:20:47
- DigitalZoomRatio: 0
- ExifImageLength: 2448
- ExifImageWidth: 3264
- ExposureCompensation: 0
- ExposureMode: Auto
- ExposureProgram: Program AE
- ExposureTime: 1/320
- FNumber: 4,0
- Flash: Off
- FocalLength: 50,8mm
- FocalLengthIn35mmFormat: 200
- GainControl: None
- ISO: 50
- LightSource: Unknown (0)
- MaxApertureValue: 3,5
- MeteringMode: Center-weighted average
- Saturation: Normal
- SceneCaptureType: Standard
- SceneType: Unknown (0)
- Sharpness: Normal
- ShutterSpeedValue: 1/320
- SubjectDistanceRange: Macro
- SubjectLocation: 1632 1224 424 325
- WhiteBalance: Auto
- ICC-header
- ICC-meas
- ICC-view
- IFD0
- ImageDescription: KONICA MINOLTA DIGITAL CAMERA
- Make: KONICA MINOLTA
- Model: DiMAGE A200
- ModifyDate: 2007:08:30 05:26:17
- Orientation: Horizontal (normal)
- TimeZoneOffset: 4 4
- IFD1
- IPTC
- Caption-Abstract: KONICA MINOLTA DIGITAL CAMERA
- XMP-aux
- XMP-crs
- AlreadyApplied: True
- BlueHue: 0
- BlueSaturation: 0
- Brightness: +68
- CameraProfile: ACR 2.4
- ChromaticAberrationB: 0
- ChromaticAberrationR: 0
- Clarity: 0
- ColorNoiseReduction: 25
- Contrast: +39
- ConvertToGrayscale: False
- Defringe: 0
- Exposure: 0.00
- FillLight: 0
- GreenHue: 0
- GreenSaturation: 0
- HasCrop: False
- HasSettings: True
- HighlightRecovery: 9
- HueAdjustmentAqua: 0
- HueAdjustmentBlue: 0
- HueAdjustmentGreen: 0
- HueAdjustmentMagenta: 0
- HueAdjustmentOrange: 0
- HueAdjustmentPurple: 0
- HueAdjustmentRed: 0
- HueAdjustmentYellow: 0
- LuminanceAdjustmentAqua: 0
- LuminanceAdjustmentBlue: 0
- LuminanceAdjustmentGreen: 0
- LuminanceAdjustmentMagenta: 0
- LuminanceAdjustmentOrange: 0
- LuminanceAdjustmentPurple: 0
- LuminanceAdjustmentRed: 0
- LuminanceAdjustmentYellow: 0
- LuminanceSmoothing: 0
- ParametricDarks: 0
- ParametricHighlightSplit: 75
- ParametricHighlights: 0
- ParametricLights: 0
- ParametricMidtoneSplit: 50
- ParametricShadowSplit: 25
- ParametricShadows: 0
- RawFileName: 2007-08-22 (13-20-46).MRW
- RedHue: 0
- RedSaturation: 0
- Saturation: 0
- SaturationAdjustmentAqua: 0
- SaturationAdjustmentBlue: 0
- SaturationAdjustmentGreen: 0
- SaturationAdjustmentMagenta: 0
- SaturationAdjustmentOrange: 0
- SaturationAdjustmentPurple: 0
- SaturationAdjustmentRed: 0
- SaturationAdjustmentYellow: 0
- ShadowTint: 0
- Shadows: 9
- SharpenDetail: 25
- SharpenEdgeMasking: 0
- SharpenRadius: +1.0
- Sharpness: 25
- SplitToningBalance: 0
- SplitToningHighlightHue: 0
- SplitToningHighlightSaturation: 0
- SplitToningShadowHue: 0
- SplitToningShadowSaturation: 0
- Temperature: 4950
- Tint: -6
- ToneCurve: 0, 0, 32, 22, 64, 56, 128, 128, 192, 196, 255, 255
- ToneCurveName: Medium Contrast
- Version: 4.1
- Vibrance: 0
- VignetteAmount: 0
- WhiteBalance: As Shot
- XMP-dc
- Description: KONICA MINOLTA DIGITAL CAMERA
- Format: image/jpeg
- XMP-exif
- DateTimeDigitized: 2007:08:22 13:20:47+04:00
- DateTimeOriginal: 2007:08:22 13:20:47+04:00
- ExifImageHeight: 2448
- FlashFired: False
- FlashFunction: False
- FlashMode: Off
- FlashRedEyeMode: False
- FlashReturn: No return detection
- SubjectArea: 1632, 1224, 424, 325
- XMP-tiff
- XMP-xmp
- CreateDate: 2007:08:30 05:26:17+04:00
- ModifyDate: 2007:08:30 05:26:17+04:00
- Rating: 0
- XMP-xmpMM
- DerivedFrom:
- Просмотров: 363
- Рейтинг: голосов еще нет
- Отзывов: 0