| » Участники » Виталий Орлов » Макро » Облепиховый чай с лимоном |
Уважаемые друзья и участники проекта iXBT.photo! К сожалению, 1 марта 2026 года проект iXBT.photo прекратит свою работу и будет закрыт. Мы высоко ценим ваше участие и тот вклад, который вы внесли в развитие нашего сообщества. Пожалуйста, не забудьте сохранить ваши фотографии до этой даты.
С уважением, команда iXBT.com
| Облепиховый чай с лимоном |
Облепиховый чай с лимоном
- Раздел: Другое, разное
- Дата съёмки: неизвестно
- Дата загрузки фото: 21.02.2019 17:06
- Оригинальная фотография: 4780 x 3187 (13,2 Мб)
- Технические характеристики:
- Фотоаппарат: Samsung NX3000
- Выдержка: 0,0
- Диафрагма: 1,0
- Светочувствительность: 800
- Полный EXIF
- Adobe
- ColorTransform: YCbCr
- Composite
- Aperture: 1,0
- CircleOfConfusion: 0,017 mm
- Megapixels: 15,2
- ScaleFactor35efl: 1,8
- ShutterSpeed: 0,0
- ExifIFD
- ApertureValue: 1,0
- ColorSpace: sRGB
- CreateDate: 2019:01:12 13:31:11
- DateTimeOriginal: 2019:01:12 13:31:11
- ExposureCompensation: 0
- ExposureProgram: Aperture-priority AE
- ExposureTime: 0,0
- FNumber: 1,0
- Flash: No Flash
- ISO: 800
- LightSource: Unknown
- MaxApertureValue: 1,4
- MeteringMode: Multi-segment
- SerialNumber:
- ShutterSpeedValue: 1/32
- ICC-header
- ICC-meas
- ICC-view
- IFD0
- Make: SAMSUNG
- Model: NX3000
- ModifyDate: 2019:01:16 20:30:18
- IFD1
- IPTC
- DateCreated: 2019:01:12
- System
- XMP-aux
- Firmware: NXF1_01.11
- LateralChromaticAberrationCorrectionAlreadyApplied: True
- XMP-crs
- AlreadyApplied: True
- AutoLateralCA: 0
- AutoWhiteVersion: 134348800
- Blacks2012: -23
- BlueHue: -10
- BlueSaturation: +40
- Clarity2012: +13
- ColorNoiseReduction: 30
- ColorNoiseReductionDetail: 50
- ColorNoiseReductionSmoothness: 50
- ColorTemperature: 2750
- Contrast2012: +7
- ConvertToGrayscale: False
- CropAngle: 0
- CropBottom: 0.873564
- CropConstrainToWarp: 0
- CropLeft: 0.126436
- CropRight: 1
- CropTop: 0
- DefringeGreenAmount: 0
- DefringeGreenHueHi: 60
- DefringeGreenHueLo: 40
- DefringePurpleAmount: 0
- DefringePurpleHueHi: 70
- DefringePurpleHueLo: 30
- Dehaze: +10
- Exposure2012: +0.41
- GrainAmount: 0
- GreenHue: 0
- GreenSaturation: +100
- HasCrop: True
- HasSettings: True
- Highlights2012: -35
- HueAdjustmentAqua: +20
- HueAdjustmentBlue: 0
- HueAdjustmentGreen: +29
- HueAdjustmentMagenta: 0
- HueAdjustmentOrange: 0
- HueAdjustmentPurple: 0
- HueAdjustmentRed: 0
- HueAdjustmentYellow: +10
- LensManualDistortionAmount: 0
- LensProfileEnable: 0
- LensProfileSetup: LensDefaults
- LuminanceAdjustmentAqua: +33
- LuminanceAdjustmentBlue: +23
- LuminanceAdjustmentGreen: +51
- LuminanceAdjustmentMagenta: 0
- LuminanceAdjustmentOrange: +20
- LuminanceAdjustmentPurple: 0
- LuminanceAdjustmentRed: -15
- LuminanceAdjustmentYellow: +26
- LuminanceSmoothing: 0
- PaintCorrectionActive: true
- PaintCorrectionAmount: 1.000000
- PaintCorrectionBrightness: 0.000000
- PaintCorrectionClarity2012: -0.054950
- PaintCorrectionContrast2012: -0.054950
- PaintCorrectionDefringe: 0.000000
- PaintCorrectionExposure2012: 0.000000
- PaintCorrectionHighlights2012: -0.648350
- PaintCorrectionHue: 0.000000
- PaintCorrectionLocalBlacks2012: 0.000000
- PaintCorrectionLocalDehaze: 0.000000
- PaintCorrectionLocalWhites2012: 0.010990
- PaintCorrectionLuminanceNoise: 0.000000
- PaintCorrectionMaskCenterWeight: 0.349837
- PaintCorrectionMaskFlow: 0.800000
- PaintCorrectionMaskRadius: 0.015452
- PaintCorrectionMaskValue: 1.000000
- PaintCorrectionMaskWhat: Mask/Paint
- PaintCorrectionMoire: 0.000000
- PaintCorrectionSaturation: 0.000000
- PaintCorrectionShadows2012: -0.208790
- PaintCorrectionSharpness: 0.000000
- PaintCorrectionTemperature: 0.208790
- PaintCorrectionTint: -0.076920
- PaintCorrectionWhat: Correction
- ParametricDarks: -4
- ParametricHighlightSplit: 75
- ParametricHighlights: -4
- ParametricLights: 0
- ParametricMidtoneSplit: 50
- ParametricShadowSplit: 25
- ParametricShadows: 0
- PerspectiveAspect: 0
- PerspectiveHorizontal: 0
- PerspectiveRotate: 0.0
- PerspectiveScale: 100
- PerspectiveUpright: 0
- PerspectiveVertical: 0
- PerspectiveX: 0.00
- PerspectiveY: 0.00
- PostCropVignetteAmount: 0
- ProcessVersion: 6.7
- RedHue: -10
- RedSaturation: +66
- Saturation: -31
- SaturationAdjustmentAqua: -62
- SaturationAdjustmentBlue: -65
- SaturationAdjustmentGreen: -53
- SaturationAdjustmentMagenta: -21
- SaturationAdjustmentOrange: +30
- SaturationAdjustmentPurple: -39
- SaturationAdjustmentRed: +15
- SaturationAdjustmentYellow: 0
- ShadowTint: 0
- Shadows2012: +40
- SharpenDetail: 10
- SharpenEdgeMasking: 0
- SharpenRadius: +1.0
- Sharpness: 100
- SplitToningBalance: 0
- SplitToningHighlightHue: 56
- SplitToningHighlightSaturation: 2
- SplitToningShadowHue: 332
- SplitToningShadowSaturation: 0
- Tint: +20
- ToneCurve: 0, 0, 255, 255
- ToneCurveBlue: 0, 0, 255, 255
- ToneCurveGreen: 0, 0, 255, 255
- ToneCurveName: Linear
- ToneCurveName2012: Custom
- ToneCurvePV2012: 0, 0, 27, 17, 53, 42, 85, 78, 130, 129, 201, 202, 255, 250
- ToneCurvePV2012Blue: 0, 13, 80, 80, 126, 123, 255, 252
- ToneCurvePV2012Green: 0, 0, 255, 255
- ToneCurvePV2012Red: 0, 26, 55, 42, 94, 79, 120, 116, 182, 183, 255, 255
- ToneCurveRed: 0, 0, 255, 255
- ToneMapStrength: 0
- Version: 10.0
- Vibrance: +2
- VignetteAmount: 0
- WhiteBalance: As Shot
- Whites2012: +45
- XMP-dc
- XMP-xmp
- Label: Green
- ModifyDate: 2019:01:16 20:30:18+06:00
- Rating: 5
- XMP-xmpMM
- Просмотров: 143
- Рейтинг: голосов еще нет
- Отзывов: 0
Получить код для блога
| Вставка фотографии в текущем разрешении |
Вставка миниатюры |
HTML (для вставки в блог):
BBCode (для вставки в форум):
Ссылка на фото:
Ссылка на миниатюру:
- Послать ссылку другу
| Комментарии к фотографии |