- Раздел: Путешествия
- Дата съёмки: 21.08.2007 10:41
- Дата загрузки фото: 09.09.2007 15:46
- Оригинальная фотография: 3000 x 4500 (2,8 Мб)
- Технические характеристики:
- Фотоаппарат: Kodak DCS Pro SLR/n
- Выдержка: 1/250
- Диафрагма: 9,5
- Светочувствительность: 160
- Фокусное расстояние: 24,0mm
- Экспокоррекция: -1/2
- Полный EXIF
- ColorTransform: YCbCr
- Composite
- Aperture: 9,5
- EV: 13,8
- FocalLength35efl: 24,0mm
- ShutterSpeed: 1/250
- ExifIFD
- ApertureValue: 9,5
- DateTimeOriginal: 2007:08:21 10:41:48
- ExposureCompensation: -1/2
- ExposureIndex: 160
- ExposureProgram: Aperture-priority AE
- ExposureTime: 1/250
- FNumber: 9,5
- Flash: No Flash
- FocalLength: 24,0mm
- ISO: 160
- LightSource: Unknown (0)
- MaxApertureValue: 3,4
- MeteringMode: Multi-spot
- SensingMethod: One-chip color area
- ShutterSpeedValue: 1/250
- ICC-header
- ICC-meas
- ICC-view
- IFD0
- Make: Kodak
- Model: DCS Pro SLR/n
- ModifyDate: 2007:09:01 09:59:42
- Software: 5.4.9
- XMP-aux
- ImageNumber: 1331
- SerialNumber: PSLRN-21042
- XMP-crs
- AlreadyApplied: True
- BlueHue: 0
- BlueSaturation: 0
- Brightness: +21
- CameraProfile: ACR 2.4
- ChromaticAberrationB: +25
- ChromaticAberrationR: 0
- ColorNoiseReduction: 25
- Contrast: +8
- ConvertToGrayscale: False
- Exposure: 0.00
- FillLight: 19
- GreenHue: 0
- GreenSaturation: 0
- HasCrop: False
- HasSettings: True
- HighlightRecovery: 52
- HueAdjustmentAqua: 0
- HueAdjustmentBlue: 0
- HueAdjustmentGreen: 0
- HueAdjustmentMagenta: 0
- HueAdjustmentOrange: 0
- HueAdjustmentPurple: 0
- HueAdjustmentRed: 0
- HueAdjustmentYellow: 0
- LuminanceAdjustmentAqua: 0
- LuminanceAdjustmentBlue: 0
- LuminanceAdjustmentGreen: 0
- LuminanceAdjustmentMagenta: 0
- LuminanceAdjustmentOrange: 0
- LuminanceAdjustmentPurple: 0
- LuminanceAdjustmentRed: 0
- LuminanceAdjustmentYellow: 0
- LuminanceSmoothing: 2
- ParametricDarks: 0
- ParametricHighlightSplit: 75
- ParametricHighlights: 0
- ParametricLights: 0
- ParametricMidtoneSplit: 50
- ParametricShadowSplit: 25
- ParametricShadows: 0
- RedHue: 0
- RedSaturation: 0
- Saturation: 0
- SaturationAdjustmentAqua: 0
- SaturationAdjustmentBlue: 0
- SaturationAdjustmentGreen: 0
- SaturationAdjustmentMagenta: 0
- SaturationAdjustmentOrange: 0
- SaturationAdjustmentPurple: 0
- SaturationAdjustmentRed: 0
- SaturationAdjustmentYellow: 0
- ShadowTint: 0
- Shadows: 3
- Sharpness: 25
- SplitToningBalance: 0
- SplitToningHighlightHue: 0
- SplitToningHighlightSaturation: 0
- SplitToningShadowHue: 0
- SplitToningShadowSaturation: 0
- Temperature: 5882
- Tint: +1
- ToneCurve: 0, 0, 32, 22, 64, 56, 128, 128, 192, 196, 255, 255
- ToneCurveName: Medium Contrast
- Version: 1.0
- Vibrance: 0
- VignetteAmount: 0
- WhiteBalance: Custom
- XMP-exif
- DateTimeOriginal: 2007:08:21 10:41:48+04:00
- FlashFired: False
- XMP-tiff
- ImageHeight: 4500
- ImageWidth: 3000
- XMP-xmp
- ModifyDate: 2007:09:01 09:59:42+04:00
- Просмотров: 479
- Рейтинг: голосов еще нет
- Отзывов: 0