Уважаемые друзья и участники проекта iXBT.photo! К сожалению, 1 марта 2026 года проект iXBT.photo прекратит свою работу и будет закрыт. Мы высоко ценим ваше участие и тот вклад, который вы внесли в развитие нашего сообщества. Пожалуйста, не забудьте сохранить ваши фотографии до этой даты.
С уважением, команда iXBT.com
| IMG_0810.jpg |
IMG_0810.jpg
- Раздел: Животные
- Дата съёмки: 30.08.2007 09:21
- Дата загрузки фото: 09.09.2007 19:42
- Оригинальная фотография: 800 x 533 (134 Кб)
- Технические характеристики:
- Фотоаппарат: Canon EOS 20D
- Выдержка: 1/320
- Гиперфокальное расстояние: 472,84 m
- Диафрагма: 9,0
- Светочувствительность: 100
- Фокусное расстояние: 135,0mm (35mm эквивалент: 947,1mm)
- Полный EXIF
- ColorTransform: YCbCr
- Composite
- Aperture: 9,0
- CircleOfConfusion: 0,004 mm
- EV: 14,7
- FocalLength35efl: 135,0mm (35mm equivalent: 947,1mm)
- HyperfocalDistance: 472,84 m
- ScaleFactor35efl: 7,0
- ShutterSpeed: 1/320
- ExifIFD
- ApertureValue: 9,0
- ColorSpace: sRGB
- CreateDate: 2007:08:30 09:21:10
- CustomRendered: Normal
- DateTimeOriginal: 2007:08:30 09:21:10
- ExifImageLength: 533
- ExifImageWidth: 800
- ExposureCompensation: 0
- ExposureMode: Auto
- ExposureProgram: Aperture-priority AE
- ExposureTime: 1/320
- FNumber: 9,0
- Flash: Off
- FocalLength: 135,0mm
- ISO: 100
- MaxApertureValue: 5,6
- MeteringMode: Average
- SceneCaptureType: Standard
- ShutterSpeedValue: 1/320
- WhiteBalance: Auto
- ICC-header
- ICC-meas
- ICC-view
- IFD0
- Artist: Alexei Kireev
- Make: Canon
- Model: Canon EOS 20D
- ModifyDate: 2007:09:09 16:00:00
- Orientation: Horizontal (normal)
- TimeZoneOffset: 3 3
- IFD1
- IPTC
- By-line: Alexei Kireev
- XMP-aux
- Firmware: 2.0.3
- FlashCompensation: 0
- ImageNumber: 42
- Lens: 28.0-135.0 mm
- LensInfo: 28
- OwnerName: Alexei Kireev
- SerialNumber: 1320706735
- XMP-crs
- AlreadyApplied: True
- BlueHue: 0
- BlueSaturation: 0
- Brightness: +50
- CameraProfile: ACR 2.4
- ChromaticAberrationB: 0
- ChromaticAberrationR: 0
- Clarity: 0
- ColorNoiseReduction: 0
- Contrast: +25
- ConvertToGrayscale: False
- Defringe: 0
- Exposure: 0.00
- FillLight: 0
- GreenHue: 0
- GreenSaturation: 0
- HasCrop: False
- HasSettings: True
- HighlightRecovery: 0
- HueAdjustmentAqua: 0
- HueAdjustmentBlue: 0
- HueAdjustmentGreen: 0
- HueAdjustmentMagenta: 0
- HueAdjustmentOrange: 0
- HueAdjustmentPurple: 0
- HueAdjustmentRed: 0
- HueAdjustmentYellow: 0
- LuminanceAdjustmentAqua: 0
- LuminanceAdjustmentBlue: 0
- LuminanceAdjustmentGreen: 0
- LuminanceAdjustmentMagenta: 0
- LuminanceAdjustmentOrange: 0
- LuminanceAdjustmentPurple: 0
- LuminanceAdjustmentRed: 0
- LuminanceAdjustmentYellow: 0
- LuminanceSmoothing: 0
- ParametricDarks: 0
- ParametricHighlightSplit: 75
- ParametricHighlights: 0
- ParametricLights: 0
- ParametricMidtoneSplit: 50
- ParametricShadowSplit: 25
- ParametricShadows: 0
- RawFileName: IMG_0810.CR2
- RedHue: 0
- RedSaturation: 0
- Saturation: +10
- SaturationAdjustmentAqua: 0
- SaturationAdjustmentBlue: 0
- SaturationAdjustmentGreen: 0
- SaturationAdjustmentMagenta: 0
- SaturationAdjustmentOrange: 0
- SaturationAdjustmentPurple: 0
- SaturationAdjustmentRed: 0
- SaturationAdjustmentYellow: 0
- ShadowTint: 0
- Shadows: 0
- SharpenDetail: 25
- SharpenEdgeMasking: 0
- SharpenRadius: +1.0
- Sharpness: 0
- SplitToningBalance: 0
- SplitToningHighlightHue: 0
- SplitToningHighlightSaturation: 0
- SplitToningShadowHue: 0
- SplitToningShadowSaturation: 0
- Temperature: 4600
- Tint: +3
- ToneCurve: 0, 0, 32, 22, 64, 56, 128, 128, 192, 196, 255, 255
- ToneCurveName: Medium Contrast
- Version: 4.1
- Vibrance: +10
- VignetteAmount: 0
- WhiteBalance: As Shot
- XMP-dc
- Creator: Alexei Kireev
- Format: image/jpeg
- XMP-exif
- DateTimeDigitized: 2007:08:30 09:21:10+03:00
- DateTimeOriginal: 2007:08:30 09:21:10+03:00
- ExifImageHeight: 533
- FlashFired: False
- FlashFunction: False
- FlashMode: Off
- FlashRedEyeMode: False
- FlashReturn: No return detection
- XMP-tiff
- XMP-xmp
- CreateDate: 2007-09-09T16:00+03:00
- ModifyDate: 2007-09-09T16:00+03:00
- Rating: 0
- XMP-xmpMM
- DerivedFrom:
- Просмотров: 323
- Рейтинг: голосов еще нет
- Отзывов: 0
Получить код для блога
| Вставка фотографии в текущем разрешении |
Вставка миниатюры |
HTML (для вставки в блог):
BBCode (для вставки в форум):
Ссылка на фото:
Ссылка на миниатюру:
- Послать ссылку другу
| Комментарии к фотографии |