- Раздел: Архитектура
- Дата съёмки: 18.03.2012 17:13
- Дата загрузки фото: 21.03.2019 20:45
- Оригинальная фотография: 675 x 900 (549 Кб)
- Технические характеристики:
- Фотоаппарат: Olympus E-520
- Выдержка: 0,0
- Диафрагма: 6,3
- Светочувствительность: 100
- Фокусное расстояние: 14,0 mm
- Полный EXIF
- Adobe
- ColorTransform: YCbCr
- Composite
- Aperture: 6,3
- Flash: Auto, Did not fire
- FocalLength35efl: 14,0 mm
- Megapixels: 0,608
- ShutterSpeed: 0,0
- ExifIFD
- ApertureValue: 5,7
- CFAPattern: [Red,Green][Green,Blue]
- ColorSpace: sRGB
- Contrast: High
- CreateDate: 2012:03:18 17:13:29
- CustomRendered: Normal
- DateTimeOriginal: 2012:03:18 17:13:29
- DigitalZoomRatio: 1
- ExifImageHeight: 900
- ExifImageWidth: 675
- ExposureCompensation: 0
- ExposureMode: Auto
- ExposureProgram: Creative (Slow speed)
- ExposureTime: 0,0
- FNumber: 6,3
- FocalLength: 14,0 mm
- GainControl: None
- ISO: 100
- LightSource: Unknown
- MaxApertureValue: 2,8
- MeteringMode: Multi-segment
- Saturation: High
- SceneCaptureType: Landscape
- Sharpness: Hard
- ShutterSpeedValue: 1/128
- WhiteBalance: Manual
- ICC-header
- ICC-meas
- ICC-view
- IFD0
- ImageDescription: OLYMPUS DIGITAL CAMERA
- Make: OLYMPUS IMAGING CORP.
- Model: E-520
- ModifyDate: 2012:03:18 21:30:16
- Orientation: Horizontal (normal)
- IFD1
- IPTC
- Caption-Abstract: OLYMPUS DIGITAL CAMERA
- System
- XMP-aux
- FlashCompensation: 0
- Lens: 14.0-42.0 mm f/3.5-5.6
- LensInfo: 14-42mm f/3.5-5.6
- LensSerialNumber: 212484188
- SerialNumber: G28505926
- XMP-crs
- AlreadyApplied: True
- BlueHue: 0
- BlueSaturation: 0
- Brightness: +61
- CameraProfile: ACR 4.5
- ChromaticAberrationB: 0
- ChromaticAberrationR: 0
- Clarity: +11
- ColorNoiseReduction: 25
- ColorTemperature: 6750
- Contrast: +33
- ConvertToGrayscale: False
- Defringe: 0
- Exposure: +0.10
- FillLight: 23
- GreenHue: 0
- GreenSaturation: 0
- HasCrop: False
- HasSettings: True
- HighlightRecovery: 51
- HueAdjustmentAqua: 0
- HueAdjustmentBlue: 0
- HueAdjustmentGreen: 0
- HueAdjustmentMagenta: 0
- HueAdjustmentOrange: 0
- HueAdjustmentPurple: 0
- HueAdjustmentRed: 0
- HueAdjustmentYellow: 0
- LuminanceAdjustmentAqua: 0
- LuminanceAdjustmentBlue: 0
- LuminanceAdjustmentGreen: 0
- LuminanceAdjustmentMagenta: 0
- LuminanceAdjustmentOrange: 0
- LuminanceAdjustmentPurple: 0
- LuminanceAdjustmentRed: 0
- LuminanceAdjustmentYellow: 0
- LuminanceSmoothing: 0
- ParametricDarks: -9
- ParametricHighlightSplit: 75
- ParametricHighlights: +9
- ParametricLights: +9
- ParametricMidtoneSplit: 50
- ParametricShadowSplit: 25
- ParametricShadows: +13
- PostCropVignetteAmount: 0
- RawFileName: P3186894.ORF
- RedHue: 0
- RedSaturation: 0
- Saturation: 0
- SaturationAdjustmentAqua: 0
- SaturationAdjustmentBlue: 0
- SaturationAdjustmentGreen: 0
- SaturationAdjustmentMagenta: 0
- SaturationAdjustmentOrange: 0
- SaturationAdjustmentPurple: 0
- SaturationAdjustmentRed: 0
- SaturationAdjustmentYellow: 0
- ShadowTint: 0
- Shadows: 11
- SharpenDetail: 25
- SharpenEdgeMasking: 0
- SharpenRadius: +1.0
- Sharpness: 25
- SplitToningBalance: 0
- SplitToningHighlightHue: 0
- SplitToningHighlightSaturation: 0
- SplitToningShadowHue: 0
- SplitToningShadowSaturation: 0
- Tint: +1
- ToneCurve: 0, 0, 32, 22, 64, 56, 128, 128, 192, 196, 255, 255
- ToneCurveName: Medium Contrast
- Version: 4.6
- Vibrance: 0
- VignetteAmount: 0
- WhiteBalance: Custom
- XMP-dc
- Description: OLYMPUS DIGITAL CAMERA
- Format: image/jpeg
- XMP-exif
- ApertureValue: 6,3
- DateTimeDigitized: 2012:03:18 17:13:29+04:00
- DateTimeOriginal: 2012:03:18 17:13:29+04:00
- ExposureTime: 1/200
- FlashFired: False
- FlashFunction: False
- FlashMode: Auto
- FlashRedEyeMode: False
- FlashReturn: No return detection
- MaxApertureValue: 3,5
- ShutterSpeedValue: 1/200
- XMP-tiff
- XMP-xmp
- CreateDate: 2012:03:18 21:30:16+04:00
- ModifyDate: 2012:03:18 21:30:16+04:00
- Rating: 0
- XMP-xmpMM
- DerivedFrom:
- Просмотров: 129
- Рейтинг: голосов еще нет
- Отзывов: 0