| » Участники » art2k » Испания » DSCF0565-2.jpg |
Уважаемые друзья и участники проекта iXBT.photo! К сожалению, 1 марта 2026 года проект iXBT.photo прекратит свою работу и будет закрыт. Мы высоко ценим ваше участие и тот вклад, который вы внесли в развитие нашего сообщества. Пожалуйста, не забудьте сохранить ваши фотографии до этой даты.
С уважением, команда iXBT.com
| DSCF0565-2.jpg |
DSCF0565-2.jpg
- Раздел: Путешествия
- Дата съёмки: 13.08.2007 18:39
- Дата загрузки фото: 20.09.2007 12:10
- Оригинальная фотография: 2848 x 2136 (346 Кб)
- Технические характеристики:
- Фотоаппарат: FujiFilm FinePix S6500fd
- Выдержка: 1/80
- Гиперфокальное расстояние: 2,06 m
- Диафрагма: 2,8
- Светочувствительность: 100
- Фокусное расстояние: 6,2mm (35mm эквивалент: 27,9mm)
- Полный EXIF
- ColorTransform: YCbCr
- Composite
- Aperture: 2,8
- CircleOfConfusion: 0,007 mm
- EV: 9,3
- FocalLength35efl: 6,2mm (35mm equivalent: 27,9mm)
- HyperfocalDistance: 2,06 m
- ScaleFactor35efl: 4,5
- ShutterSpeed: 1/80
- ExifIFD
- ApertureValue: 2,8
- BrightnessValue: 4,33
- CreateDate: 2007:08:13 18:39:59
- CustomRendered: Normal
- DateTimeOriginal: 2007:08:13 18:39:59
- ExposureCompensation: 0
- ExposureMode: Auto
- ExposureProgram: Program AE
- ExposureTime: 1/80
- FNumber: 2,8
- Flash: Off
- FocalLength: 6,2mm
- ISO: 100
- LightSource: Unknown (0)
- MaxApertureValue: 2,8
- MeteringMode: Multi-segment
- SceneCaptureType: Standard
- SceneType: Directly photographed
- SensingMethod: One-chip color area
- Sharpness: Soft
- ShutterSpeedValue: 1/80
- WhiteBalance: Auto
- ICC-header
- ICC-meas
- ICC-view
- IFD0
- Make: FUJIFILM
- Model: FinePix S6500fd
- ModifyDate: 2007:08:27 17:06:51
- Software: Digital Camera FinePix S6500fd Ver1.00
- TimeZoneOffset: 4 4
- XMP-crs
- AlreadyApplied: True
- BlueHue: -60
- BlueSaturation: +3
- Brightness: +72
- CameraProfile: ACR 2.4
- ChromaticAberrationB: 0
- ChromaticAberrationR: 0
- Clarity: 0
- ColorNoiseReduction: 25
- Contrast: +3
- ConvertToGrayscale: False
- Defringe: 0
- Exposure: +1.15
- FillLight: 16
- GreenHue: +100
- GreenSaturation: +100
- HasCrop: False
- HasSettings: True
- HighlightRecovery: 0
- HueAdjustmentAqua: 0
- HueAdjustmentBlue: 0
- HueAdjustmentGreen: 0
- HueAdjustmentMagenta: 0
- HueAdjustmentOrange: 0
- HueAdjustmentPurple: 0
- HueAdjustmentRed: 0
- HueAdjustmentYellow: 0
- IncrementalTemperature: -29
- IncrementalTint: -65
- LuminanceAdjustmentAqua: 0
- LuminanceAdjustmentBlue: 0
- LuminanceAdjustmentGreen: 0
- LuminanceAdjustmentMagenta: 0
- LuminanceAdjustmentOrange: 0
- LuminanceAdjustmentPurple: 0
- LuminanceAdjustmentRed: 0
- LuminanceAdjustmentYellow: 0
- LuminanceSmoothing: 0
- ParametricDarks: -3
- ParametricHighlightSplit: 75
- ParametricHighlights: 0
- ParametricLights: 0
- ParametricMidtoneSplit: 50
- ParametricShadowSplit: 25
- ParametricShadows: -14
- RedHue: +100
- RedSaturation: -100
- Saturation: -86
- SaturationAdjustmentAqua: 0
- SaturationAdjustmentBlue: +83
- SaturationAdjustmentGreen: 0
- SaturationAdjustmentMagenta: 0
- SaturationAdjustmentOrange: 0
- SaturationAdjustmentPurple: +42
- SaturationAdjustmentRed: 0
- SaturationAdjustmentYellow: 0
- ShadowTint: -4
- Shadows: 13
- SharpenDetail: 50
- SharpenEdgeMasking: 0
- SharpenRadius: +1.0
- Sharpness: 25
- SplitToningBalance: 0
- SplitToningHighlightHue: 0
- SplitToningHighlightSaturation: 0
- SplitToningShadowHue: 0
- SplitToningShadowSaturation: 0
- ToneCurve: 0, 0, 255, 255
- ToneCurveName: Linear
- Version: 1.0
- Vibrance: +38
- VignetteAmount: 0
- WhiteBalance: Custom
- XMP-exif
- DateTimeDigitized: 2007:08:13 18:39:59+04:00
- DateTimeOriginal: 2007:08:13 18:39:59+04:00
- FlashFired: False
- FlashFunction: False
- FlashMode: Off
- FlashRedEyeMode: False
- FlashReturn: No return detection
- SubjectDistanceRange: Unknown
- XMP-tiff
- ImageHeight: 2136
- ImageWidth: 2848
- XMP-xmp
- ModifyDate: 2007:08:27 17:06:51+04:00
- Просмотров: 193
- Рейтинг: голосов еще нет
- Отзывов: 0
Получить код для блога
| Вставка фотографии в текущем разрешении |
Вставка миниатюры |
HTML (для вставки в блог):
BBCode (для вставки в форум):
Ссылка на фото:
Ссылка на миниатюру:
- Послать ссылку другу
| Комментарии к фотографии |