- Раздел: Другое, разное
- Дата съёмки: неизвестно
- Дата загрузки фото: 14.02.2020 18:16
- Оригинальная фотография: 4000 x 6000 (3,1 Мб)
- Технические характеристики:
- Фотоаппарат: Canon EOS M100
- Выдержка: 0,0
- Гиперфокальное расстояние: inf m
- Диафрагма: 8,0
- Светочувствительность: 100
- Фокусное расстояние: 60,0 mm (35 mm equivalent: 60,0 mm)
- Полный EXIF
- Canon
- AEBBracketValue: 0
- AFAreaHeights: 420 0 0 0 0 0 0 0 -24288 17708 -11669 7213 103 -24288 17708 -11669 -24288 17708 -11669 7213 103 720 0 0 -1 -1 0 -1 683 0 1 7 -8792 7577 103 0 0 11 -5949 106 0 0 1 0 536 -5455 23867 5 4
- AFAreaMode: Flexizone Single
- AFAreaWidths: 684 0 0 0 0 0 0 0 -1 -1 0 -1 0 -1 -1 0 -1 -1 0 -1 0 7600 1 0 -927 -927 1 -927 -688 -17584 720 0 0 7 0 7672 7 0 0 0 -4964 0 15248 0 -11676 11 -3020 0 24372
- AFAreaXPositions: 0 0 0 0 0 0 0 0 0 0 0 0 0 0 0 0 0 0 0 0 0 0 0 0 0 0 0 0 0 0 0 0 0 0 684 0 0 0 0 684 0 0 0 0 684 0 0 0 0
- AFAreaYPositions: 0 0 0 0 0 0 0 0 0 0 0 0 0 0 0 0 0 0 0 0 0 0 0 0 0 0 0 0 0 0 0 0 0 0 420 0 0 0 0 420 0 0 0 0 420 0 0 0 0
- AFImageHeight: 4000
- AFImageWidth: 6000
- AFPoint: Manual AF point selection
- AFPointsInFocus: 0
- AFPointsSelected: (none)
- AmbienceSelection: Standard
- AspectRatio: 3:2
- AutoExposureBracketing: Off
- AutoISO: 100
- AutoLightingOptimizer: Off
- AutoRotate: Rotate 270 CW
- BaseISO: 100
- BlackMaskBottomBorder: 0
- BlackMaskLeftBorder: 0
- BlackMaskRightBorder: 0
- BlackMaskTopBorder: 0
- BracketMode: Off
- BracketShotNumber: 0
- BracketValue: 0
- BulbDuration: 0
- CameraISO: 100
- CameraTemperature: 27 C
- CameraType: Compact
- CanonExposureMode: Manual
- CanonFirmwareVersion: Firmware Version 1.00
- CanonFlashMode: On
- CanonImageHeight: 4000
- CanonImageType: IMG:High definition image
- CanonImageWidth: 6000
- CanonModelID: Unknown (0x3980000)
- Categories: People
- ChromaticAberrationCorr: Off
- ChromaticAberrationSetting: Off
- ColorTempAsShot: -573
- ColorTempAuto: 1024
- ColorTempCloudy: 1024
- ColorTempDaylight: 1611
- ColorTempFlash: 36
- ColorTempFluorescent: -548
- ColorTempKelvin: 1024
- ColorTempMeasured: 6
- ColorTempShade: 680
- ColorTempTungsten: 5538
- ColorTone: Normal
- ContinuousDrive: Single
- Contrast: Normal
- ControlMode: Camera Local Control
- CroppedImageHeight: 4000
- CroppedImageLeft: 0
- CroppedImageTop: 0
- CroppedImageWidth: 6000
- CustomPictureStyleFileName:
- DateStampMode: Off
- DaylightSavings: Off
- DigitalZoom: None
- DisplayAperture: 1,7
- EasyMode: Manual
- ExposureCompensation: 0
- ExposureTime: 1/202
- FNumber: 8
- FacesDetected: 65535
- FileNumber: 199-0055
- FirmwareRevision: 1.00 rev 1.00
- FisheyeFilter: Off
- FlashBits: Manual, Built-in
- FlashExposureComp: 0
- FlashExposureLock: Off
- FlashGuideNumber: 6,03125
- FlashOutput: 13
- FocalUnits: 1/mm
- FocusContinuous: Single
- FocusDistanceLower: 0,89 m
- FocusDistanceUpper: 1,05 m
- FocusMode: One-shot AF
- FocusRange: Auto
- GrainyBWFilter: Off
- HighISONoiseReduction: Standard
- HighlightTonePriority: Off
- ImageStabilization: Off (2)
- IntelligentContrast: n/a
- InternalSerialNumber: CG0066526
- LensType: Canon EF 85mm f/1.8 USM
- LiveViewShooting: On
- LongExposureNoiseReduction: Off
- MacroMode: Normal
- ManualFlashOutput: Low
- MaxAperture: 1,2
- MaxFocalLength: 85 mm
- MeasuredEV: 5,31
- MeasuredRGGB: 1346 1024 1024 1334
- MeteringMode: Evaluative
- MinAperture: 16
- MinFocalLength: 85 mm
- MiniatureFilter: Off
- MiniatureFilterOrientation: Unknown (-1)
- MiniatureFilterParameter: -1
- MiniatureFilterPosition: -1
- NDFilter: n/a
- NumAFPoints: 49
- OpticalZoomCode: 0
- OriginalImageHeight: 1228
- OriginalImageWidth: 0
- PaintingFilter: Off
- PerChannelBlackLevel: 10000 0 0 532
- PeripheralIlluminationCorr: On
- PeripheralLighting: Off
- PeripheralLightingSetting: Off
- PeripheralLightingValue: 0
- PictureStylePC: n/a; n/a; n/a
- PictureStyleUserDef: Auto; Auto; Auto
- Quality: Fine
- RawJpgQuality: RAW
- RecordMode: CR2+JPEG
- SRAWQuality: n/a
- Saturation: Normal
- SelfTimer: Off
- SelfTimer2: 0
- SensorBottomBorder: 4047
- SensorHeight: 4056
- SensorLeftBorder: 276
- SensorRightBorder: 6275
- SensorTopBorder: 48
- SensorWidth: 6288
- SequenceNumber: 0
- SlowShutter: Off
- SoftFocusFilter: Off
- SpotMeteringMode: Center
- TargetAperture: 8
- TargetExposureTime: 1/202
- TimeZone: +02:00
- TimeZoneCity: (not set)
- ToyCameraFilter: Off
- VRDOffset: 0
- ValidAFPoints: 1
- VignettingCorrVersion: 0
- WBBracketMode: Off
- WBBracketValueAB: 0
- WBBracketValueGM: 0
- WB_RGGBLevelsAsShot: 1854 1024 1024 1125
- WB_RGGBLevelsAuto: 754 6 7606 1854
- WB_RGGBLevelsCloudy: 40 5538 1611 1024
- WB_RGGBLevelsDaylight: -573 754 6 7606
- WB_RGGBLevelsFlash: 1024 1232 -385 698
- WB_RGGBLevelsFluorescent: 1862 1024 1024 1150
- WB_RGGBLevelsKelvin: 724 33 7466 1739
- WB_RGGBLevelsMeasured: 1024 1125 -573 754
- WB_RGGBLevelsShade: 1024 1024 1325 -205
- WB_RGGBLevelsTungsten: 1325 -205 680 40
- WatercolorFilter: Off
- WhiteBalance: Auto
- ZoomSourceWidth: 6000
- ZoomTargetWidth: 6000
- CanonCustom
- CustomControls: 0 0 1 1 0 0 0 0 0 0
- DialDirectionTvAv: Normal
- ISOExpansion: Off
- SafetyShift: Disable
- Composite
- Aperture: 8,0
- BlueBalance: 1,098633
- CircleOfConfusion: 0,019 mm
- ConditionalFEC: 0
- DOF: inf (0,00 m - inf)
- DriveMode: Single-frame Shooting
- FOV: 33,0 deg
- Flash: On, Fired
- FlashType: Built-In Flash
- FocalLength35efl: 60,0 mm (35 mm equivalent: 60,0 mm)
- HyperfocalDistance: inf m
- ISO: 100
- Lens: 85,0 mm
- Lens35efl: 85,0 mm (35 mm equivalent: 137,1 mm)
- LensID: Canon EF 85mm f/1.8 USM
- Megapixels: 24,0
- RedBalance: 1,810547
- RedEyeReduction: Off
- ScaleFactor35efl: 1,6
- ShootingMode: Manual
- ShutterCurtainHack: 1st-curtain sync
- ShutterSpeed: 0,0
- WB_RGGBLevels: 1854 1024 1024 1125
- ExifIFD
- ApertureValue: 8,0
- ColorSpace: sRGB
- CompressedBitsPerPixel: 3
- CreateDate: 2020:02:14 16:21:17
- CustomRendered: Normal
- DateTimeOriginal: 2020:02:14 16:21:17
- DigitalZoomRatio: 1
- ExifImageHeight: 6000
- ExifImageWidth: 4000
- ExposureMode: Manual
- ExposureProgram: Manual
- ExposureTime: 0,0
- FNumber: 8,0
- FocalLength: 60,0 mm
- LensInfo: 85mm f/0
- LensModel: EF85mm f/1.8 USM
- LensSerialNumber: 000001c9a1
- MeteringMode: Multi-segment
- OwnerName:
- RecommendedExposureIndex: 100
- SceneCaptureType: Standard
- SensingMethod: One-chip color area
- SensitivityType: Recommended Exposure Index
- SerialNumber: 503050001474
- ShutterSpeedValue: 1/128
- SubjectDistance: 1,05 m
- UserComment:
- GPS
- IFD0
- Artist:
- Copyright:
- ImageDescription:
- Make: Canon
- Model: Canon EOS M100
- ModifyDate: 2020:02:14 16:21:17
- Orientation: Horizontal (normal)
- Software: DxO PhotoLab 3.0
- IFD1
- RelatedImageHeight: 4000
- RelatedImageWidth: 6000
- System
- XMP-aux
- ApproximateFocusDistance: 0,95
- Firmware: 1.00
- FlashCompensation: 0
- ImageNumber: 0
- Lens: EF85mm f/1.8 USM
- LensID: 155
- LensInfo: 85mm f/?
- XMP-crs
- AlreadyApplied: True
- AutoLateralCA: 0
- Blacks2012: +20
- BlueHue: 0
- BlueSaturation: 0
- CameraProfile: Camera Standard
- Clarity2012: 0
- ColorNoiseReduction: 0
- ColorTemperature: 6300
- Contrast2012: 0
- ConvertToGrayscale: False
- DefringeGreenAmount: 0
- DefringeGreenHueHi: 60
- DefringeGreenHueLo: 40
- DefringePurpleAmount: 0
- DefringePurpleHueHi: 70
- DefringePurpleHueLo: 30
- Dehaze: 0
- Exposure2012: +0.30
- GrainAmount: 0
- GreenHue: 0
- GreenSaturation: 0
- HasCrop: False
- HasSettings: True
- Highlights2012: 0
- HueAdjustmentAqua: 0
- HueAdjustmentBlue: 0
- HueAdjustmentGreen: 0
- HueAdjustmentMagenta: 0
- HueAdjustmentOrange: 0
- HueAdjustmentPurple: 0
- HueAdjustmentRed: 0
- HueAdjustmentYellow: 0
- LensManualDistortionAmount: 0
- LensProfileEnable: 0
- LensProfileSetup: LensDefaults
- LookName:
- LuminanceAdjustmentAqua: 0
- LuminanceAdjustmentBlue: 0
- LuminanceAdjustmentGreen: 0
- LuminanceAdjustmentMagenta: 0
- LuminanceAdjustmentOrange: 0
- LuminanceAdjustmentPurple: 0
- LuminanceAdjustmentRed: 0
- LuminanceAdjustmentYellow: 0
- LuminanceSmoothing: 0
- OverrideLookVignette: False
- ParametricDarks: 0
- ParametricHighlightSplit: 75
- ParametricHighlights: 0
- ParametricLights: 0
- ParametricMidtoneSplit: 50
- ParametricShadowSplit: 25
- ParametricShadows: 0
- PerspectiveAspect: 0
- PerspectiveHorizontal: 0
- PerspectiveRotate: 0.0
- PerspectiveScale: 100
- PerspectiveUpright: 0
- PerspectiveVertical: 0
- PerspectiveX: 0.00
- PerspectiveY: 0.00
- PostCropVignetteAmount: 0
- ProcessVersion: 11.0
- RedHue: 0
- RedSaturation: 0
- Saturation: 0
- SaturationAdjustmentAqua: 0
- SaturationAdjustmentBlue: 0
- SaturationAdjustmentGreen: 0
- SaturationAdjustmentMagenta: 0
- SaturationAdjustmentOrange: 0
- SaturationAdjustmentPurple: 0
- SaturationAdjustmentRed: 0
- SaturationAdjustmentYellow: 0
- ShadowTint: 0
- Shadows2012: +20
- SharpenDetail: 25
- SharpenEdgeMasking: 0
- SharpenRadius: +1.0
- Sharpness: 40
- SplitToningBalance: 0
- SplitToningHighlightHue: 0
- SplitToningHighlightSaturation: 0
- SplitToningShadowHue: 0
- SplitToningShadowSaturation: 0
- Texture: 0
- Tint: -10
- ToneCurve: 0, 0, 32, 22, 64, 56, 128, 128, 192, 196, 255, 255
- ToneCurveBlue: 0, 0, 255, 255
- ToneCurveGreen: 0, 0, 255, 255
- ToneCurveName: Medium Contrast
- ToneCurveName2012: Linear
- ToneCurvePV2012: 0, 0, 255, 255
- ToneCurvePV2012Blue: 0, 0, 255, 255
- ToneCurvePV2012Green: 0, 0, 255, 255
- ToneCurvePV2012Red: 0, 0, 255, 255
- ToneCurveRed: 0, 0, 255, 255
- ToneMapStrength: 0
- Version: 12.1
- Vibrance: 0
- VignetteAmount: 0
- WhiteBalance: Custom
- Whites2012: 0
- XMP-dc
- Format: image/x-canon-cr2
- XMP-exif
- DateTimeOriginal: 2020:02:14 16:21:17.88
- ExposureTime: 1/200
- FlashFired: True
- FlashFunction: False
- FlashMode: On
- FlashRedEyeMode: False
- FlashReturn: No return detection
- MaxApertureValue: 1,2
- SensitivityType: 2
- ShutterSpeedValue: 1/200
- XMP-exifEX
- XMP-tiff
- XMP-x
- XMP-xmp
- CreateDate: 2020:02:14 16:21:17.88
- ModifyDate: 2020:02:14 16:21:17.88
- Rating: 0
- XMP-xmpMM
- Просмотров: 189
- Рейтинг: голосов еще нет
- Отзывов: отключены