- Раздел: Путешествия
- Дата съёмки: неизвестно
- Дата загрузки фото: 14.10.2020 13:21
- Оригинальная фотография: 3791 x 2852 (5,7 Мб)
- Технические характеристики:
- Фотоаппарат: Samsung SM-G930F
- Выдержка: 0,0
- Гиперфокальное расстояние: inf m
- Диафрагма: 1,7
- Светочувствительность: 200
- Фокусное расстояние: 4,0 mm (35 mm equivalent: 24,0 mm)
- Экспокоррекция: -2
- Полный EXIF
- Adobe
- ColorTransform: YCbCr
- Composite
- Aperture: 1,7
- CircleOfConfusion: 0,005 mm
- FOV: 73,0 deg
- FocalLength35efl: 4,0 mm (35 mm equivalent: 24,0 mm)
- GPSAltitude: 128 m Above Sea Level
- GPSDateTime: 2020:10:13 17:43:19Z
- GPSLatitude: 55 deg 45' 6,00" N
- GPSLongitude: 37 deg 37' 28,00" E
- GPSPosition: 55 deg 45' 6,00" N, 37 deg 37' 28,00" E
- HyperfocalDistance: inf m
- Megapixels: 10,8
- ScaleFactor35efl: 6,5
- ShutterSpeed: 0,0
- ExifIFD
- ApertureValue: 1,4
- BrightnessValue: -0,71
- ColorSpace: sRGB
- CreateDate: 2020:10:13 20:43:34
- DateTimeOriginal: 2020:10:13 20:43:34
- ExposureCompensation: -2
- ExposureMode: Auto
- ExposureProgram: Program AE
- ExposureTime: 0,0
- FNumber: 1,7
- Flash: No Flash
- FocalLength: 4,0 mm
- FocalLengthIn35mmFormat: 26 mm
- ISO: 200
- LensModel: Samsung Galaxy S7 Rear Camera
- MaxApertureValue: 1,4
- MeteringMode: Spot
- SceneCaptureType: Standard
- ShutterSpeedValue: 1/32
- WhiteBalance: Auto
- GPS
- GPSAltitude: 128 m
- GPSAltitudeRef: Above Sea Level
- GPSDateStamp: 2020:10:13
- GPSLatitude: 55 deg 45' 6,00"
- GPSLatitudeRef: North
- GPSLongitude: 37 deg 37' 28,00"
- GPSLongitudeRef: East
- GPSTimeStamp: 17:43:19
- GPSVersionID: 2.2.0.0
- ICC-header
- ICC-meas
- ICC-view
- IFD0
- Make: samsung
- Model: SM-G930F
- ModifyDate: 2020:10:14 02:51:43
- IFD1
- IPTC
- DateCreated: 2020:10:13
- System
- XMP-aux
- DistortionCorrectionAlreadyApplied: True
- Lens: Samsung Galaxy S7 Rear Camera
- XMP-crs
- AlreadyApplied: True
- AutoLateralCA: 0
- Blacks2012: +40
- BlueHue: 0
- BlueSaturation: 0
- CameraProfile: Embedded
- Clarity2012: +10
- ColorNoiseReduction: 25
- ColorNoiseReductionDetail: 50
- ColorNoiseReductionSmoothness: 50
- Contrast2012: -15
- ConvertToGrayscale: False
- CropAngle: 1.43274
- CropBottom: 0.974135
- CropConstrainToWarp: 0
- CropLeft: 0.055748
- CropRight: 0.97806
- CropTop: 0
- DefringeGreenAmount: 0
- DefringeGreenHueHi: 60
- DefringeGreenHueLo: 40
- DefringePurpleAmount: 0
- DefringePurpleHueHi: 70
- DefringePurpleHueLo: 30
- Dehaze: +31
- Exposure2012: +0.46
- GradientBasedCorrActive: true
- GradientBasedCorrAmount: 1.000000
- GradientBasedCorrBrightness: 0.000000
- GradientBasedCorrClarity2012: 0.100000
- GradientBasedCorrContrast2012: 0.000000
- GradientBasedCorrCorrectionRangeMaskColorAmount: 0.500000
- GradientBasedCorrCorrectionRangeMaskLumFeather: 0.500000
- GradientBasedCorrCorrectionRangeMaskLumMax: 1.000000
- GradientBasedCorrCorrectionRangeMaskLumMin: 0.000000
- GradientBasedCorrCorrectionRangeMaskType: 0
- GradientBasedCorrDefringe: 0.000000
- GradientBasedCorrExposure2012: 0.071750
- GradientBasedCorrHighlights2012: 0.000000
- GradientBasedCorrHue: 228.000000
- GradientBasedCorrLocalBlacks2012: 0.000000
- GradientBasedCorrLocalWhites2012: 0.000000
- GradientBasedCorrLuminanceNoise: 0.000000
- GradientBasedCorrMaskFullX: 0.989655
- GradientBasedCorrMaskFullY: 0.501292
- GradientBasedCorrMaskValue: 1.000000
- GradientBasedCorrMaskWhat: Mask/Gradient
- GradientBasedCorrMaskZeroX: 1.082760
- GradientBasedCorrMaskZeroY: 0.498708
- GradientBasedCorrMoire: 0.000000
- GradientBasedCorrSaturation: 0.170000
- GradientBasedCorrShadows2012: 0.000000
- GradientBasedCorrSharpness: 0.000000
- GradientBasedCorrTemperature: 0.000000
- GradientBasedCorrTint: 0.000000
- GradientBasedCorrWhat: Correction
- GrainAmount: 0
- GreenHue: 0
- GreenSaturation: 0
- HasCrop: True
- HasSettings: True
- Highlights2012: -43
- HueAdjustmentAqua: -5
- HueAdjustmentBlue: 0
- HueAdjustmentGreen: -5
- HueAdjustmentMagenta: 0
- HueAdjustmentOrange: -1
- HueAdjustmentPurple: 0
- HueAdjustmentRed: +10
- HueAdjustmentYellow: -15
- IncrementalTemperature: 0
- IncrementalTint: 0
- LensManualDistortionAmount: 0
- LensProfileChromaticAberrationScale: 100
- LensProfileDistortionScale: 100
- LensProfileEnable: 1
- LensProfileFilename: Samsung Galaxy S7 Rear Camera.lcp
- LensProfileSetup: LensDefaults
- LensProfileVignettingScale: 100
- LuminanceAdjustmentAqua: 0
- LuminanceAdjustmentBlue: -10
- LuminanceAdjustmentGreen: -15
- LuminanceAdjustmentMagenta: +13
- LuminanceAdjustmentOrange: -10
- LuminanceAdjustmentPurple: +12
- LuminanceAdjustmentRed: -10
- LuminanceAdjustmentYellow: -15
- LuminanceNoiseReductionContrast: 5
- LuminanceNoiseReductionDetail: 50
- LuminanceSmoothing: 5
- ParametricDarks: -25
- ParametricHighlightSplit: 68
- ParametricHighlights: -45
- ParametricLights: +45
- ParametricMidtoneSplit: 39
- ParametricShadowSplit: 18
- ParametricShadows: -5
- PerspectiveAspect: 0
- PerspectiveHorizontal: 0
- PerspectiveRotate: 0.0
- PerspectiveScale: 100
- PerspectiveUpright: 0
- PerspectiveVertical: 0
- PerspectiveX: 0.00
- PerspectiveY: 0.00
- PostCropVignetteAmount: -20
- PostCropVignetteFeather: 100
- PostCropVignetteHighlightContrast: 0
- PostCropVignetteMidpoint: 22
- PostCropVignetteRoundness: 0
- PostCropVignetteStyle: 1
- ProcessVersion: 10.0
- RedHue: +5
- RedSaturation: +41
- Saturation: -25
- SaturationAdjustmentAqua: -10
- SaturationAdjustmentBlue: -10
- SaturationAdjustmentGreen: -9
- SaturationAdjustmentMagenta: -10
- SaturationAdjustmentOrange: -14
- SaturationAdjustmentPurple: 0
- SaturationAdjustmentRed: 0
- SaturationAdjustmentYellow: -10
- ShadowTint: -19
- Shadows2012: +40
- SharpenDetail: 5
- SharpenEdgeMasking: 70
- SharpenRadius: +1.2
- Sharpness: 48
- SplitToningBalance: 0
- SplitToningHighlightHue: 0
- SplitToningHighlightSaturation: 0
- SplitToningShadowHue: 40
- SplitToningShadowSaturation: 10
- ToneCurve: 0, 0, 255, 255
- ToneCurveBlue: 0, 0, 255, 255
- ToneCurveGreen: 0, 0, 255, 255
- ToneCurveName: Linear
- ToneCurveName2012: Custom
- ToneCurvePV2012: 0, 6, 45, 45, 255, 249
- ToneCurvePV2012Blue: 0, 0, 38, 48, 124, 125, 200, 201, 254, 248
- ToneCurvePV2012Green: 0, 0, 255, 255
- ToneCurvePV2012Red: 0, 0, 135, 137, 255, 255
- ToneCurveRed: 0, 0, 255, 255
- Version: 10.0
- Vibrance: +14
- VignetteAmount: 0
- WhiteBalance: As Shot
- Whites2012: +5
- XMP-dc
- XMP-xmp
- CreateDate: 2020:10:13 20:43:34.0314
- ModifyDate: 2020:10:14 02:51:43+03:00
- XMP-xmpMM
- Просмотров: 65
- Рейтинг: голосов еще нет
- Отзывов: 0