- Раздел: Путешествия
- Дата съёмки: неизвестно
- Дата загрузки фото: 14.10.2020 13:28
- Оригинальная фотография: 3772 x 2829 (6,2 Мб)
- Технические характеристики:
- Фотоаппарат: Samsung SM-G930F
- Выдержка: 0,0
- Диафрагма: 1,7
- Светочувствительность: 100
- Фокусное расстояние: 4,0 mm
- Полный EXIF
- Adobe
- ColorTransform: YCbCr
- Composite
- Aperture: 1,7
- FocalLength35efl: 4,0 mm
- Megapixels: 10,7
- ShutterSpeed: 0,0
- ExifIFD
- ApertureValue: 1,4
- ColorSpace: sRGB
- DateTimeOriginal: 2020:10:13 21:03:09
- ExposureTime: 0,0
- FNumber: 1,7
- FocalLength: 4,0 mm
- ISO: 100
- LensModel: Samsung Galaxy S7 Rear Camera
- ShutterSpeedValue: 1/8
- ICC-header
- ICC-meas
- ICC-view
- IFD0
- Make: samsung
- Model: SM-G930F
- ModifyDate: 2020:10:14 02:55:08
- IFD1
- IPTC
- DateCreated: 2020:10:13
- System
- XMP-aux
- DistortionCorrectionAlreadyApplied: True
- Lens: Samsung Galaxy S7 Rear Camera
- XMP-crs
- AlreadyApplied: True
- AutoLateralCA: 0
- AutoWhiteVersion: 134348800
- Blacks2012: +27
- BlueHue: 0
- BlueSaturation: 0
- CameraProfile: Embedded
- Clarity2012: +11
- ColorNoiseReduction: 25
- ColorNoiseReductionDetail: 50
- ColorNoiseReductionSmoothness: 50
- ColorTemperature: 3350
- Contrast2012: 0
- ConvertToGrayscale: False
- CropAngle: 2.06235
- CropBottom: 0.980759
- CropConstrainToWarp: 0
- CropLeft: 0.055034
- CropRight: 0.964728
- CropTop: 0.000924
- DefringeGreenAmount: 0
- DefringeGreenHueHi: 60
- DefringeGreenHueLo: 40
- DefringePurpleAmount: 0
- DefringePurpleHueHi: 70
- DefringePurpleHueLo: 30
- Dehaze: 0
- Exposure2012: 0.00
- GrainAmount: 0
- GreenHue: 0
- GreenSaturation: 0
- HasCrop: True
- HasSettings: True
- Highlights2012: -50
- HueAdjustmentAqua: -5
- HueAdjustmentBlue: 0
- HueAdjustmentGreen: -5
- HueAdjustmentMagenta: 0
- HueAdjustmentOrange: -1
- HueAdjustmentPurple: 0
- HueAdjustmentRed: +10
- HueAdjustmentYellow: -15
- LensManualDistortionAmount: 0
- LensProfileChromaticAberrationScale: 100
- LensProfileDistortionScale: 100
- LensProfileEnable: 1
- LensProfileFilename: Samsung Galaxy S7 Rear Camera - RAW.lcp
- LensProfileSetup: LensDefaults
- LensProfileVignettingScale: 100
- LuminanceAdjustmentAqua: 0
- LuminanceAdjustmentBlue: -10
- LuminanceAdjustmentGreen: -15
- LuminanceAdjustmentMagenta: +13
- LuminanceAdjustmentOrange: -10
- LuminanceAdjustmentPurple: +12
- LuminanceAdjustmentRed: -10
- LuminanceAdjustmentYellow: -15
- LuminanceNoiseReductionContrast: 0
- LuminanceNoiseReductionDetail: 50
- LuminanceSmoothing: 3
- ParametricDarks: -25
- ParametricHighlightSplit: 68
- ParametricHighlights: -45
- ParametricLights: +45
- ParametricMidtoneSplit: 39
- ParametricShadowSplit: 18
- ParametricShadows: -5
- PerspectiveAspect: 0
- PerspectiveHorizontal: 0
- PerspectiveRotate: 0.0
- PerspectiveScale: 100
- PerspectiveUpright: 0
- PerspectiveVertical: 0
- PerspectiveX: 0.00
- PerspectiveY: 0.00
- PostCropVignetteAmount: 0
- ProcessVersion: 10.0
- RedHue: +5
- RedSaturation: +41
- Saturation: -11
- SaturationAdjustmentAqua: -10
- SaturationAdjustmentBlue: -10
- SaturationAdjustmentGreen: -9
- SaturationAdjustmentMagenta: -10
- SaturationAdjustmentOrange: -14
- SaturationAdjustmentPurple: 0
- SaturationAdjustmentRed: 0
- SaturationAdjustmentYellow: -10
- ShadowTint: -19
- Shadows2012: +40
- SharpenDetail: 5
- SharpenEdgeMasking: 70
- SharpenRadius: +1.2
- Sharpness: 48
- SplitToningBalance: 0
- SplitToningHighlightHue: 0
- SplitToningHighlightSaturation: 0
- SplitToningShadowHue: 40
- SplitToningShadowSaturation: 10
- Tint: +10
- ToneCurve: 0, 0, 255, 255
- ToneCurveBlue: 0, 0, 255, 255
- ToneCurveGreen: 0, 0, 255, 255
- ToneCurveName: Linear
- ToneCurveName2012: Custom
- ToneCurvePV2012: 0, 6, 45, 45, 255, 249
- ToneCurvePV2012Blue: 0, 0, 38, 48, 124, 125, 200, 201, 254, 248
- ToneCurvePV2012Green: 0, 0, 255, 255
- ToneCurvePV2012Red: 0, 0, 135, 137, 255, 255
- ToneCurveRed: 0, 0, 255, 255
- Version: 10.0
- Vibrance: +14
- VignetteAmount: 0
- WhiteBalance: Auto
- Whites2012: -14
- XMP-dc
- XMP-xmp
- ModifyDate: 2020:10:14 02:55:08+03:00
- XMP-xmpMM
- Просмотров: 61
- Рейтинг: голосов еще нет
- Отзывов: 0