Уважаемые друзья и участники проекта iXBT.photo! К сожалению, 1 марта 2026 года проект iXBT.photo прекратит свою работу и будет закрыт. Мы высоко ценим ваше участие и тот вклад, который вы внесли в развитие нашего сообщества. Пожалуйста, не забудьте сохранить ваши фотографии до этой даты.
С уважением, команда iXBT.com
| IMG_9712.jpg |
IMG_9712.jpg
- Раздел: Другое, разное
- Дата съёмки: неизвестно
- Дата загрузки фото: 07.11.2020 17:40
- Оригинальная фотография: 6240 x 4160 (21,1 Мб)
- Технические характеристики:
- Фотоаппарат: Canon EOS RP
- Выдержка: 58,0
- Гиперфокальное расстояние: inf m
- Диафрагма: 9,0
- Светочувствительность: 100
- Фокусное расстояние: 24,0 mm (35 mm equivalent: 24,0 mm)
- Полный EXIF
- Adobe
- ColorTransform: YCbCr
- Composite
- Aperture: 9,0
- CircleOfConfusion: 0,030 mm
- FOV: 73,0 deg
- FocalLength35efl: 24,0 mm (35 mm equivalent: 24,0 mm)
- HyperfocalDistance: inf m
- LensID: Canon RF24-105mm F4 L IS USM
- LightValue: 0,5
- Megapixels: 26,0
- ScaleFactor35efl: 1,0
- ShutterSpeed: 58,0
- ExifIFD
- ApertureValue: 8,0
- ColorSpace: sRGB
- CreateDate: 2020:11:07 12:04:21
- CustomRendered: Normal
- DateTimeOriginal: 2020:11:07 12:04:21
- ExposureCompensation: 0
- ExposureMode: Auto
- ExposureProgram: Bulb
- ExposureTime: 58,0
- FNumber: 9,0
- Flash: No Flash
- FocalLength: 24,0 mm
- ISO: 100
- LensInfo: 24-105mm f/?
- LensModel: RF24-105mm F4 L IS USM
- LensSerialNumber: 6903004736
- MaxApertureValue: 4,0
- MeteringMode: Multi-segment
- RecommendedExposureIndex: 100
- SceneCaptureType: Standard
- SensitivityType: Recommended Exposure Index
- SerialNumber: 033022000048
- ShutterSpeedValue: 32,0
- WhiteBalance: Auto
- ICC-header
- ICC-meas
- ICC-view
- IFD0
- Make: Canon
- Model: Canon EOS RP
- ModifyDate: 2020:11:07 15:57:03
- IFD1
- IPTC
- DateCreated: 2020:11:07
- System
- XMP-aux
- ApproximateFocusDistance: 9,25
- DistortionCorrectionAlreadyApplied: True
- Firmware: 1.0.1
- FlashCompensation: 0
- ImageNumber: 0
- LateralChromaticAberrationCorrectionAlreadyApplied: True
- Lens: RF24-105mm F4 L IS USM
- LensID: 61182
- VignetteCorrectionAlreadyApplied: True
- XMP-crs
- AlreadyApplied: True
- AutoLateralCA: 1
- Blacks2012: +9
- BlueHue: 0
- BlueSaturation: 0
- CameraProfile: Canon EOS RP Camera Neutral
- Clarity2012: 0
- ColorNoiseReduction: 25
- ColorNoiseReductionDetail: 50
- ColorNoiseReductionSmoothness: 50
- ColorTemperature: 4950
- Contrast2012: -3
- ConvertToGrayscale: False
- DefringeGreenAmount: 0
- DefringeGreenHueHi: 60
- DefringeGreenHueLo: 40
- DefringePurpleAmount: 0
- DefringePurpleHueHi: 70
- DefringePurpleHueLo: 30
- Dehaze: +35
- Exposure2012: +0.05
- GrainAmount: 0
- GreenHue: 0
- GreenSaturation: 0
- HasCrop: False
- HasSettings: True
- Highlights2012: -100
- HueAdjustmentAqua: 0
- HueAdjustmentBlue: 0
- HueAdjustmentGreen: 0
- HueAdjustmentMagenta: 0
- HueAdjustmentOrange: 0
- HueAdjustmentPurple: 0
- HueAdjustmentRed: 0
- HueAdjustmentYellow: 0
- LensManualDistortionAmount: 0
- LensProfileChromaticAberrationScale: 100
- LensProfileDistortionScale: 100
- LensProfileEnable: 1
- LensProfileFilename: Canon (Canon RF 24-105mm F4L IS USM) - RAW.lcp
- LensProfileIsEmbedded: False
- LensProfileSetup: LensDefaults
- LensProfileVignettingScale: 100
- LookName:
- LuminanceAdjustmentAqua: 0
- LuminanceAdjustmentBlue: 0
- LuminanceAdjustmentGreen: 0
- LuminanceAdjustmentMagenta: 0
- LuminanceAdjustmentOrange: 0
- LuminanceAdjustmentPurple: 0
- LuminanceAdjustmentRed: 0
- LuminanceAdjustmentYellow: 0
- LuminanceSmoothing: 0
- OverrideLookVignette: False
- ParametricDarks: +31
- ParametricHighlightSplit: 75
- ParametricHighlights: 0
- ParametricLights: 0
- ParametricMidtoneSplit: 50
- ParametricShadowSplit: 25
- ParametricShadows: -3
- PerspectiveAspect: 0
- PerspectiveHorizontal: 0
- PerspectiveRotate: 0.0
- PerspectiveScale: 100
- PerspectiveUpright: 0
- PerspectiveVertical: 0
- PerspectiveX: 0.00
- PerspectiveY: 0.00
- PostCropVignetteAmount: -29
- PostCropVignetteFeather: 100
- PostCropVignetteHighlightContrast: 0
- PostCropVignetteMidpoint: 0
- PostCropVignetteRoundness: 0
- PostCropVignetteStyle: 1
- ProcessVersion: 11.0
- RawFileName: IMG_9712.CR3
- RedHue: 0
- RedSaturation: 0
- Saturation: 0
- SaturationAdjustmentAqua: 0
- SaturationAdjustmentBlue: 0
- SaturationAdjustmentGreen: 0
- SaturationAdjustmentMagenta: 0
- SaturationAdjustmentOrange: 0
- SaturationAdjustmentPurple: 0
- SaturationAdjustmentRed: 0
- SaturationAdjustmentYellow: 0
- ShadowTint: 0
- Shadows2012: +100
- SharpenDetail: 25
- SharpenEdgeMasking: 0
- SharpenRadius: +1.0
- Sharpness: 40
- SplitToningBalance: 0
- SplitToningHighlightHue: 0
- SplitToningHighlightSaturation: 0
- SplitToningShadowHue: 0
- SplitToningShadowSaturation: 0
- Texture: -16
- Tint: +21
- ToneCurve: 0, 0, 255, 255
- ToneCurveBlue: 0, 0, 255, 255
- ToneCurveGreen: 0, 0, 255, 255
- ToneCurveName: Linear
- ToneCurveName2012: Medium Contrast
- ToneCurvePV2012: 0, 0, 32, 22, 64, 56, 128, 128, 192, 196, 255, 255
- ToneCurvePV2012Blue: 0, 0, 255, 255
- ToneCurvePV2012Green: 0, 0, 255, 255
- ToneCurvePV2012Red: 0, 0, 255, 255
- ToneCurveRed: 0, 0, 255, 255
- ToneMapStrength: 0
- Version: 12.4
- Vibrance: 0
- VignetteAmount: 0
- WhiteBalance: Custom
- Whites2012: 0
- XMP-dc
- XMP-exifEX
- XMP-xmp
- CreateDate: 2020:11:07 12:04:21.51+01:00
- ModifyDate: 2020:11:07 15:57:03+02:00
- Rating: 1
- XMP-xmpMM
- PreservedFileName: IMG_9712.CR3
- Просмотров: 102
- Рейтинг: голосов еще нет
- Отзывов: отключены
Получить код для блога
| Вставка фотографии в текущем разрешении |
Вставка миниатюры |
HTML (для вставки в блог):
BBCode (для вставки в форум):
Ссылка на фото:
Ссылка на миниатюру:
- Послать ссылку другу
| Комментарии к фотографии |