- Раздел: Активный отдых, туризм
- Дата съёмки: 20.11.2014 10:11
- Дата загрузки фото: 07.02.2021 19:01
- Оригинальная фотография: 4800 x 3200 (9,5 Мб)
- Технические характеристики:
- Фотоаппарат: Nikon D810
- Выдержка: 0,0
- Гиперфокальное расстояние: inf m
- Диафрагма: 5,6
- Светочувствительность: 250
- Фокусное расстояние: 24,0 mm (35 mm equivalent: 24,0 mm)
- Полный EXIF
- Adobe
- ColorTransform: YCbCr
- Composite
- Aperture: 5,6
- CircleOfConfusion: 0,020 mm
- FOV: 73,0 deg
- FocalLength35efl: 24,0 mm (35 mm equivalent: 24,0 mm)
- GPSAltitude: 117 m Above Sea Level
- GPSLatitude: 54 deg 51' 9,00" N
- GPSLatitudeRef: North
- GPSLongitude: 37 deg 39' 0,00" E
- GPSLongitudeRef: East
- GPSPosition: 54 deg 51' 9,00" N, 37 deg 39' 0,00" E
- HyperfocalDistance: inf m
- LensID: AF-S DX Zoom-Nikkor 17-55mm f/2.8G IF-ED
- Megapixels: 15,4
- ScaleFactor35efl: 1,5
- ShutterSpeed: 0,0
- ExifIFD
- ApertureValue: 4,0
- CFAPattern: [Red,Green][Green,Blue]
- ColorSpace: sRGB
- Contrast: Normal
- CreateDate: 2014:11:20 10:11:51
- CustomRendered: Normal
- DateTimeOriginal: 2014:11:20 10:11:51
- DigitalZoomRatio: 1,53
- ExifImageHeight: 3200
- ExifImageWidth: 4800
- ExposureCompensation: 0
- ExposureMode: Auto
- ExposureProgram: Aperture-priority AE
- ExposureTime: 0,0
- FNumber: 5,6
- Flash: Off, Did not fire
- FocalLength: 24,0 mm
- FocalLengthIn35mmFormat: 36 mm
- GainControl: None
- ISO: 250
- LensInfo: 17-55mm f/2.8
- LensModel: 17.0-55.0 mm f/2.8
- LightSource: Unknown
- MaxApertureValue: 2,8
- MeteringMode: Multi-segment
- Saturation: Normal
- SceneCaptureType: Standard
- SceneType: Directly photographed
- SensingMethod: One-chip color area
- SensitivityType: Recommended Exposure Index
- SerialNumber: 6017474
- Sharpness: Normal
- ShutterSpeedValue: 1/64
- SubjectDistanceRange: Unknown
- WhiteBalance: Auto
- GPS
- GPSAltitude: 117,8 m
- GPSAltitudeRef: Above Sea Level
- GPSLatitude: 54 deg 51' 9,00"
- GPSLongitude: 37 deg 39' 0,00"
- GPSMapDatum: WGS-84
- GPSSpeed: 2,9476
- GPSSpeedRef: km/h
- GPSVersionID: 2.3.0.0
- ICC-header
- ICC-meas
- ICC-view
- IFD0
- Artist: <- Mutaborr ->
- Copyright: <- Mutaborr ->
- Make: NIKON CORPORATION
- Model: NIKON D810
- ModifyDate: 2020:05:04 11:02:06
- Orientation: Horizontal (normal)
- IFD1
- IPTC
- By-line: <- Mutaborr ->
- CopyrightNotice: <- Mutaborr ->
- DateCreated: 2014:11:20
- System
- XMP-aux
- ApproximateFocusDistance: 5,01
- ImageNumber: 209
- Lens: 17.0-55.0 mm f/2.8
- LensID: 125
- XMP-crs
- AlreadyApplied: True
- AutoLateralCA: 0
- Blacks2012: 0
- BlueHue: 0
- BlueSaturation: 0
- CameraProfile: Camera Landscape
- Clarity2012: 0
- ColorNoiseReduction: 25
- ColorNoiseReductionDetail: 50
- ColorNoiseReductionSmoothness: 50
- ColorTemperature: 6600
- Contrast2012: +74
- ConvertToGrayscale: False
- DefringeGreenAmount: 0
- DefringeGreenHueHi: 60
- DefringeGreenHueLo: 40
- DefringePurpleAmount: 0
- DefringePurpleHueHi: 70
- DefringePurpleHueLo: 30
- Dehaze: 0
- Exposure2012: +0.85
- GrainAmount: 0
- GreenHue: 0
- GreenSaturation: 0
- HasCrop: False
- HasSettings: True
- Highlights2012: -87
- HueAdjustmentAqua: 0
- HueAdjustmentBlue: 0
- HueAdjustmentGreen: 0
- HueAdjustmentMagenta: 0
- HueAdjustmentOrange: 0
- HueAdjustmentPurple: 0
- HueAdjustmentRed: 0
- HueAdjustmentYellow: 0
- LensManualDistortionAmount: 0
- LensProfileEnable: 0
- LensProfileSetup: LensDefaults
- LuminanceAdjustmentAqua: 0
- LuminanceAdjustmentBlue: 0
- LuminanceAdjustmentGreen: 0
- LuminanceAdjustmentMagenta: 0
- LuminanceAdjustmentOrange: 0
- LuminanceAdjustmentPurple: 0
- LuminanceAdjustmentRed: 0
- LuminanceAdjustmentYellow: 0
- LuminanceSmoothing: 0
- OverrideLookVignette: False
- ParametricDarks: 0
- ParametricHighlightSplit: 75
- ParametricHighlights: 0
- ParametricLights: 0
- ParametricMidtoneSplit: 50
- ParametricShadowSplit: 25
- ParametricShadows: 0
- PerspectiveAspect: 0
- PerspectiveHorizontal: 0
- PerspectiveRotate: 0.0
- PerspectiveScale: 100
- PerspectiveUpright: 0
- PerspectiveVertical: 0
- PerspectiveX: 0.00
- PerspectiveY: 0.00
- PostCropVignetteAmount: 0
- ProcessVersion: 11.0
- RedHue: 0
- RedSaturation: 0
- Saturation: 0
- SaturationAdjustmentAqua: 0
- SaturationAdjustmentBlue: 0
- SaturationAdjustmentGreen: 0
- SaturationAdjustmentMagenta: 0
- SaturationAdjustmentOrange: 0
- SaturationAdjustmentPurple: 0
- SaturationAdjustmentRed: 0
- SaturationAdjustmentYellow: 0
- ShadowTint: 0
- Shadows2012: +67
- SharpenDetail: 25
- SharpenEdgeMasking: 0
- SharpenRadius: +1.0
- Sharpness: 40
- SplitToningBalance: 0
- SplitToningHighlightHue: 0
- SplitToningHighlightSaturation: 0
- SplitToningShadowHue: 0
- SplitToningShadowSaturation: 0
- Texture: 0
- Tint: -6
- ToneCurve: 0, 0, 32, 22, 64, 56, 128, 128, 192, 196, 255, 255
- ToneCurveBlue: 0, 0, 255, 255
- ToneCurveGreen: 0, 0, 255, 255
- ToneCurveName: Medium Contrast
- ToneCurveName2012: Linear
- ToneCurvePV2012: 0, 0, 255, 255
- ToneCurvePV2012Blue: 0, 0, 255, 255
- ToneCurvePV2012Green: 0, 0, 255, 255
- ToneCurvePV2012Red: 0, 0, 255, 255
- ToneCurveRed: 0, 0, 255, 255
- ToneMapStrength: 0
- Version: 12.1
- Vibrance: 0
- VignetteAmount: 0
- WhiteBalance: Custom
- Whites2012: +47
- XMP-dc
- Creator: <- Mutaborr ->
- Format: image/jpeg
- Rights: <- Mutaborr ->
- XMP-exif
- XMP-x
- XMP-xmp
- CreatorTool: NIKON D810 Ver.1.01
- ModifyDate: 2020:05:04 11:02:06+03:00
- Rating: 0
- XMP-xmpMM
- Просмотров: 21
- Рейтинг: голосов еще нет
- Отзывов: отключены