- Раздел: Другое, разное
- Дата съёмки: 27.10.2007 17:04
- Дата загрузки фото: 31.10.2007 00:08
- Оригинальная фотография: 3008 x 2000 (799 Кб)
- Технические характеристики:
- Фотоаппарат: Nikon D40
- Выдержка: 1/40
- Гиперфокальное расстояние: 63,90 m
- Диафрагма: 5,0
- Светочувствительность: 200
- Фокусное расстояние: 80,0mm (35mm эквивалент: 120,0mm)
- Полный EXIF
- ColorTransform: YCbCr
- Composite
- Aperture: 5,0
- CircleOfConfusion: 0,020 mm
- EV: 9,0
- FocalLength35efl: 80,0mm (35mm equivalent: 120,0mm)
- HyperfocalDistance: 63,90 m
- ScaleFactor35efl: 1,5
- ShutterSpeed: 1/40
- ExifIFD
- ApertureValue: 5,0
- CFAPattern: [Blue,Green][Green,Red]
- Contrast: Normal
- CreateDate: 2007:10:27 17:04:20
- CustomRendered: Normal
- DateTimeOriginal: 2007:10:27 17:04:21
- DigitalZoomRatio: 1
- ExposureCompensation: 0
- ExposureMode: Auto
- ExposureProgram: Aperture-priority AE
- ExposureTime: 1/40
- FNumber: 5,0
- Flash: No Flash
- FocalLength: 80,0mm
- FocalLengthIn35mmFormat: 120
- GainControl: None
- ISO: 200
- LightSource: Unknown (0)
- MaxApertureValue: 4,3
- MeteringMode: Center-weighted average
- Saturation: Normal
- SceneCaptureType: Standard
- SceneType: Directly photographed
- SensingMethod: One-chip color area
- Sharpness: Normal
- ShutterSpeedValue: 1/40
- WhiteBalance: Auto
- ICC-header
- IFD0
- Make: NIKON CORPORATION
- Model: NIKON D40
- ModifyDate: 2007:10:29 21:48:24
- Software: Ver.1.10
- TimeZoneOffset: 4 3
- XMP-aux
- ImageNumber: 840
- Lens: 55.0-200.0 mm f/4.0-5.6
- LensInfo: 55
- XMP-crs
- AlreadyApplied: True
- BlueHue: 0
- BlueSaturation: 0
- Brightness: +92
- CameraProfile: ACR 3.7
- ChromaticAberrationB: 0
- ChromaticAberrationR: 0
- Clarity: 0
- ColorNoiseReduction: 25
- Contrast: +32
- ConvertToGrayscale: False
- Defringe: 0
- Exposure: 0.00
- FillLight: 0
- GreenHue: 0
- GreenSaturation: 0
- HasCrop: False
- HasSettings: True
- HighlightRecovery: 8
- HueAdjustmentAqua: 0
- HueAdjustmentBlue: 0
- HueAdjustmentGreen: 0
- HueAdjustmentMagenta: 0
- HueAdjustmentOrange: 0
- HueAdjustmentPurple: 0
- HueAdjustmentRed: 0
- HueAdjustmentYellow: 0
- LuminanceAdjustmentAqua: 0
- LuminanceAdjustmentBlue: 0
- LuminanceAdjustmentGreen: 0
- LuminanceAdjustmentMagenta: 0
- LuminanceAdjustmentOrange: 0
- LuminanceAdjustmentPurple: 0
- LuminanceAdjustmentRed: 0
- LuminanceAdjustmentYellow: 0
- LuminanceSmoothing: 0
- ParametricDarks: -23
- ParametricHighlightSplit: 75
- ParametricHighlights: -8
- ParametricLights: -28
- ParametricMidtoneSplit: 50
- ParametricShadowSplit: 25
- ParametricShadows: -15
- RawFileName: DSC_00470220.NEF
- RedHue: 0
- RedSaturation: 0
- Saturation: 0
- SaturationAdjustmentAqua: 0
- SaturationAdjustmentBlue: 0
- SaturationAdjustmentGreen: 0
- SaturationAdjustmentMagenta: 0
- SaturationAdjustmentOrange: 0
- SaturationAdjustmentPurple: 0
- SaturationAdjustmentRed: 0
- SaturationAdjustmentYellow: 0
- ShadowTint: 0
- Shadows: 8
- SharpenDetail: 25
- SharpenEdgeMasking: 0
- SharpenRadius: +1.0
- Sharpness: 25
- SplitToningBalance: 0
- SplitToningHighlightHue: 0
- SplitToningHighlightSaturation: 0
- SplitToningShadowHue: 0
- SplitToningShadowSaturation: 0
- Temperature: 6500
- Tint: +10
- ToneCurve: 0, 0, 32, 22, 64, 56, 128, 128, 192, 196, 255, 255
- ToneCurveName: Medium Contrast
- Version: 4.1
- Vibrance: 0
- VignetteAmount: 0
- WhiteBalance: Cloudy
- XMP-exif
- DateTimeDigitized: 2007:10:27 17:04:20.90+04:00
- DateTimeOriginal: 2007:10:27 17:04:21.90+04:00
- FlashFired: False
- FlashFunction: False
- FlashMode: Unknown
- FlashRedEyeMode: False
- FlashReturn: No return detection
- SubjectDistanceRange: Unknown
- XMP-tiff
- ImageHeight: 2000
- ImageWidth: 3008
- XMP-xmp
- CreatorTool: Ver.1.10
- ModifyDate: 2007:10:29 21:48:24+03:00