- Раздел: Репортаж
- Дата съёмки: неизвестно
- Дата загрузки фото: 12.05.2021 17:01
- Оригинальная фотография: 2560 x 1520 (2,6 Мб)
- Технические характеристики:
- Фотоаппарат: Canon EOS 5DS
- Выдержка: 0,0
- Гиперфокальное расстояние: inf m
- Диафрагма: 9,0
- Светочувствительность: 640
- Фокусное расстояние: 70,0 mm (35 mm equivalent: 210,0 mm)
- Полный EXIF
- Adobe
- ColorTransform: YCbCr
- Composite
- Aperture: 9,0
- CircleOfConfusion: 0,009 mm
- FOV: 9,0 deg
- FocalLength35efl: 70,0 mm (35 mm equivalent: 210,0 mm)
- HyperfocalDistance: inf m
- LensID: Canon EF 24-70mm f/2.8L
- Megapixels: 3,9
- ScaleFactor35efl: 3,5
- ShutterSpeed: 0,0
- ExifIFD
- ApertureValue: 8,0
- ColorSpace: sRGB
- CreateDate: 2021:04:24 11:34:01
- CustomRendered: Normal
- DateTimeOriginal: 2021:04:24 11:34:01
- ExposureCompensation: 0
- ExposureMode: Manual
- ExposureProgram: Manual
- ExposureTime: 0,0
- FNumber: 9,0
- Flash: Off, Did not fire
- FocalLength: 70,0 mm
- ISO: 640
- LensInfo: 24-70mm f/?
- LensModel: EF24-70mm f/2.8L USM
- LensSerialNumber: 0000000000
- MaxApertureValue: 2,8
- MeteringMode: Multi-segment
- OwnerName: Pantyhose_man
- RecommendedExposureIndex: 640
- SceneCaptureType: Standard
- SensitivityType: Recommended Exposure Index
- SerialNumber: 053021001375
- ShutterSpeedValue: 1/256
- WhiteBalance: Auto
- ICC-header
- ICC-meas
- ICC-view
- IFD0
- Artist: Pantyhose_man
- Copyright: Copyright2021
- Make: Canon
- Model: Canon EOS 5DS
- ModifyDate: 2021:04:30 20:26:10
- IFD1
- IPTC
- By-line: Pantyhose_man
- CopyrightNotice: Copyright2021
- DateCreated: 2021:04:24
- System
- XMP-aux
- ApproximateFocusDistance: 4294967295
- Firmware: 1.1.3
- FlashCompensation: 0
- ImageNumber: 0
- Lens: EF24-70mm f/2.8L USM
- LensID: 230
- XMP-crs
- AlreadyApplied: True
- AutoLateralCA: 0
- Blacks2012: -42
- BlueHue: 0
- BlueSaturation: 0
- Clarity2012: 0
- ColorGradeBlending: 50
- ColorGradeGlobalHue: 0
- ColorGradeGlobalLum: 0
- ColorGradeGlobalSat: 0
- ColorGradeHighlightLum: 0
- ColorGradeMidtoneHue: 0
- ColorGradeMidtoneLum: 0
- ColorGradeMidtoneSat: 0
- ColorGradeShadowLum: 0
- ColorNoiseReduction: 25
- ColorNoiseReductionDetail: 50
- ColorNoiseReductionSmoothness: 50
- ColorTemperature: 5900
- Contrast2012: -6
- CropAngle: 0
- CropBottom: 0.8272
- CropConstrainToWarp: 0
- CropLeft: 0.167113
- CropRight: 0.998669
- CropTop: 0.0864
- DefringeGreenAmount: 0
- DefringeGreenHueHi: 60
- DefringeGreenHueLo: 40
- DefringePurpleAmount: 0
- DefringePurpleHueHi: 70
- DefringePurpleHueLo: 30
- Dehaze: +38
- Exposure2012: +0.16
- GrainAmount: 0
- GreenHue: 0
- GreenSaturation: 0
- HasCrop: True
- HasSettings: True
- Highlights2012: -78
- HueAdjustmentAqua: 0
- HueAdjustmentBlue: 0
- HueAdjustmentGreen: 0
- HueAdjustmentMagenta: 0
- HueAdjustmentOrange: 0
- HueAdjustmentPurple: 0
- HueAdjustmentRed: 0
- HueAdjustmentYellow: 0
- LensManualDistortionAmount: 0
- LensProfileEnable: 0
- LookAmount: 1.000000
- LookGroup: Profiles
- LookParametersConvertToGrayscale: False
- LookParametersLookTable: E1095149FDB39D7A057BAB208837E2E1
- LookParametersProcessVersion: 11.0
- LookParametersToneCurvePV2012: 0, 0, 22, 16, 40, 35, 127, 127, 224, 230, 240, 246, 255, 255
- LookParametersToneCurvePV2012Blue: 0, 0, 255, 255
- LookParametersToneCurvePV2012Green: 0, 0, 255, 255
- LookParametersToneCurvePV2012Red: 0, 0, 255, 255
- LookParametersVersion: 13.0
- LookSupportsAmount: false
- LookSupportsMonochrome: false
- LookSupportsOutputReferred: false
- LuminanceAdjustmentAqua: 0
- LuminanceAdjustmentBlue: 0
- LuminanceAdjustmentGreen: 0
- LuminanceAdjustmentMagenta: 0
- LuminanceAdjustmentOrange: 0
- LuminanceAdjustmentPurple: 0
- LuminanceAdjustmentRed: 0
- LuminanceAdjustmentYellow: 0
- LuminanceNoiseReductionContrast: 9
- LuminanceNoiseReductionDetail: 50
- LuminanceSmoothing: 11
- OverrideLookVignette: False
- ParametricDarks: 0
- ParametricHighlightSplit: 75
- ParametricHighlights: 0
- ParametricLights: 0
- ParametricMidtoneSplit: 50
- ParametricShadowSplit: 25
- ParametricShadows: 0
- PerspectiveAspect: 0
- PerspectiveHorizontal: 0
- PerspectiveRotate: 0.0
- PerspectiveScale: 100
- PerspectiveUpright: 1
- PerspectiveVertical: 0
- PerspectiveX: 0.00
- PerspectiveY: 0.00
- PostCropVignetteAmount: 0
- ProcessVersion: 11.0
- RawFileName: IMGL4104.CR2
- RedHue: 0
- RedSaturation: 0
- Saturation: +3
- SaturationAdjustmentAqua: 0
- SaturationAdjustmentBlue: 0
- SaturationAdjustmentGreen: 0
- SaturationAdjustmentMagenta: 0
- SaturationAdjustmentOrange: 0
- SaturationAdjustmentPurple: 0
- SaturationAdjustmentRed: 0
- SaturationAdjustmentYellow: 0
- ShadowTint: 0
- Shadows2012: +61
- SharpenDetail: 25
- SharpenEdgeMasking: 0
- SharpenRadius: +1.0
- Sharpness: 40
- SplitToningBalance: 0
- SplitToningHighlightHue: 0
- SplitToningHighlightSaturation: 0
- SplitToningShadowHue: 0
- SplitToningShadowSaturation: 0
- Texture: 0
- Tint: +6
- ToneCurveName2012: Linear
- ToneCurvePV2012: 0, 0, 255, 255
- ToneCurvePV2012Blue: 0, 0, 255, 255
- ToneCurvePV2012Green: 0, 0, 255, 255
- ToneCurvePV2012Red: 0, 0, 255, 255
- Version: 13.0
- Vibrance: +15
- VignetteAmount: 0
- WhiteBalance: As Shot
- Whites2012: +50
- XMP-dc
- Creator: Pantyhose_man
- Format: image/jpeg
- Rights: Copyright2021
- XMP-exifEX
- XMP-xmp
- CreateDate: 2021:04:24 11:34:01.00+04:00
- ModifyDate: 2021:04:30 20:26:10+03:00
- XMP-xmpMM
- PreservedFileName: IMGL4104.CR2
- Просмотров: 49
- Рейтинг: голосов еще нет
- Отзывов: 0