- Раздел: Портрет
- Дата съёмки: 07.11.2007 14:29
- Дата загрузки фото: 13.11.2007 14:14
- Оригинальная фотография: 800 x 569 ( 77 Кб)
- Технические характеристики:
- Фотоаппарат: Canon EOS 30D
- Выдержка: 1/80
- Гиперфокальное расстояние: 285,81 m
- Диафрагма: 2,0
- Светочувствительность: 500
- Фокусное расстояние: 50,0mm (35mm эквивалент: 343,5mm)
- Полный EXIF
- Adobe
- ColorTransform: YCbCr
- Composite
- Aperture: 2,0
- CircleOfConfusion: 0,004 mm
- FocalLength35efl: 50,0mm (35mm equivalent: 343,5mm)
- HyperfocalDistance: 285,81 m
- LightValue: 6,0
- ScaleFactor35efl: 6,9
- ShutterSpeed: 1/80
- ExifIFD
- ApertureValue: 2,0
- CreateDate: 2007:11:07 14:29:22
- CustomRendered: Normal
- DateTimeOriginal: 2007:11:07 14:29:22
- ExposureCompensation: 0
- ExposureMode: Manual
- ExposureProgram: Manual
- ExposureTime: 1/80
- FNumber: 2,0
- Flash: Off
- FocalLength: 50,0mm
- ISO: 500
- MaxApertureValue: 1,8
- MeteringMode: Average
- SceneCaptureType: Standard
- ShutterSpeedValue: 1/80
- WhiteBalance: Auto
- ICC-header
- ICC-meas
- ICC-view
- IFD0
- Artist: unknown
- Make: Canon
- Model: Canon EOS 30D
- ModifyDate: 2007:11:13 12:41:07
- IPTC
- By-line: unknown
- XMP-aux
- Firmware: 1.0.5
- FlashCompensation: 0
- ImageNumber: 208
- Lens: EF50mm f/1.8
- LensInfo: 50/1 50/1 0/0 0/0
- OwnerName: unknown
- SerialNumber: 1130810467
- XMP-crs
- AlreadyApplied: True
- BlueHue: 0
- BlueSaturation: 0
- Brightness: +50
- CameraProfile: ACR 3.4
- ChromaticAberrationB: 0
- ChromaticAberrationR: 0
- ColorNoiseReduction: 25
- Contrast: +25
- ConvertToGrayscale: False
- CropAngle: 0
- CropBottom: 1
- CropHeight: 569
- CropLeft: 0.063492
- CropRight: 1
- CropTop: 0
- CropUnit: 0
- CropWidth: 800
- Exposure: +1.08
- FillLight: 8
- GreenHue: 0
- GreenSaturation: 0
- HasCrop: True
- HasSettings: True
- HighlightRecovery: 22
- HueAdjustmentAqua: 0
- HueAdjustmentBlue: 0
- HueAdjustmentGreen: 0
- HueAdjustmentMagenta: 0
- HueAdjustmentOrange: 0
- HueAdjustmentPurple: 0
- HueAdjustmentRed: 0
- HueAdjustmentYellow: 0
- LuminanceAdjustmentAqua: 0
- LuminanceAdjustmentBlue: 0
- LuminanceAdjustmentGreen: 0
- LuminanceAdjustmentMagenta: 0
- LuminanceAdjustmentOrange: 0
- LuminanceAdjustmentPurple: 0
- LuminanceAdjustmentRed: 0
- LuminanceAdjustmentYellow: 0
- LuminanceSmoothing: 0
- ParametricDarks: 0
- ParametricHighlightSplit: 75
- ParametricHighlights: 0
- ParametricLights: 0
- ParametricMidtoneSplit: 50
- ParametricShadowSplit: 25
- ParametricShadows: 0
- RedHue: 0
- RedSaturation: 0
- Saturation: +10
- SaturationAdjustmentAqua: 0
- SaturationAdjustmentBlue: 0
- SaturationAdjustmentGreen: 0
- SaturationAdjustmentMagenta: 0
- SaturationAdjustmentOrange: 0
- SaturationAdjustmentPurple: 0
- SaturationAdjustmentRed: 0
- SaturationAdjustmentYellow: 0
- ShadowTint: 0
- Shadows: 10
- Sharpness: 25
- SplitToningBalance: 0
- SplitToningHighlightHue: 0
- SplitToningHighlightSaturation: 0
- SplitToningShadowHue: 0
- SplitToningShadowSaturation: 0
- Temperature: 5176
- Tint: -4
- ToneCurve: 0, 0, 32, 22, 64, 56, 128, 128, 192, 196, 255, 255
- ToneCurveName: Medium Contrast
- Version: 1.0
- Vibrance: +10
- VignetteAmount: 0
- WhiteBalance: Custom
- XMP-dc
- XMP-exif
- DateTimeDigitized: 2007:11:07 14:29:22+02:00
- DateTimeOriginal: 2007:11:07 14:29:22+02:00
- FlashFired: False
- FlashFunction: False
- FlashMode: Off
- FlashRedEyeMode: False
- FlashReturn: No return detection
- XMP-tiff
- ImageHeight: 569
- ImageWidth: 800
- XMP-xmp
- ModifyDate: 2007:11:13 12:41:07+02:00
- Просмотров: 221
- Рейтинг: голосов еще нет
- Отзывов: 0