- Раздел: Тесты фототехники
- Дата съёмки: неизвестно
- Дата загрузки фото: 08.09.2021 16:25
- Оригинальная фотография: 5184 x 3888 (3,1 Мб)
- Технические характеристики:
- Фотоаппарат: Panasonic DC-G9
- Выдержка: 0,0
- Гиперфокальное расстояние: inf m
- Диафрагма: 1,8
- Светочувствительность: 100
- Фокусное расстояние: 75,0 mm (35 mm equivalent: 150,0 mm)
- Экспокоррекция: +0,66
- Полный EXIF
- Composite
- AdvancedSceneMode: Off
- Aperture: 1,8
- BlueBalance: 1,848633
- CircleOfConfusion: 0,015 mm
- FOV: 13,0 deg
- Flash: Off, Did not fire
- FocalLength35efl: 75,0 mm (35 mm equivalent: 150,0 mm)
- HyperfocalDistance: inf m
- LensID: OLYMPUS M.75mm F1.8
- Megapixels: 20,2
- RedBalance: 2,453125
- ScaleFactor35efl: 2,0
- ShutterSpeed: 0,0
- ExifIFD
- ColorSpace: sRGB
- CompressedBitsPerPixel: 2
- Contrast: Low
- CreateDate: 2021:08:29 20:46:20
- CustomRendered: Custom
- DateTimeOriginal: 2021:08:29 20:46:20
- DigitalZoomRatio: 0
- ExifImageHeight: 3888
- ExifImageWidth: 5184
- ExposureCompensation: 0
- ExposureMode: Auto
- ExposureProgram: Aperture-priority AE
- ExposureTime: 0,0
- FNumber: 1,8
- FocalLength: 75,0 mm
- FocalLengthIn35mmFormat: 150 mm
- GainControl: None
- ISO: 100
- LightSource: Unknown
- MaxApertureValue: 1,4
- MeteringMode: Multi-segment
- Saturation: Low
- SceneCaptureType: Standard
- SceneType: Directly photographed
- SensingMethod: One-chip color area
- SensitivityType: Standard Output Sensitivity
- StandardOutputSensitivity: 100
- WhiteBalance: Auto
- IFD0
- FreeByteCounts: 0
- GrayResponseUnit: Unknown (23891456)
- Make: Panasonic
- MinSampleValue: 396800
- Model: DC-G9
- ModifyDate: 2021:08:29 20:46:20
- Orientation: Horizontal (normal)
- Rating: 5
- Software: DxO PhotoLab 4.1.3
- IFD1
- Panasonic
- AFAreaMode: Spot Focusing 2
- AFAssistLamp: Disabled and Not Required
- AFPointPosition: 0 0
- AccelerometerX: -1
- AccelerometerY: 62
- AccelerometerZ: 248
- AccessorySerialNumber: 0000000
- AccessoryType: NO-ACCESSORY
- AdvancedSceneType: 1
- Audio: No
- BabyAge: (not set)
- BabyName:
- BracketSettings: No Bracket
- BurstMode: Off
- BurstSpeed: 0
- CameraOrientation: Normal
- City:
- City2:
- ClearRetouch: Off
- ClearRetouchValue: undef
- ColorEffect: Off
- ColorTempKelvin: 5900
- Contrast: -1
- ContrastMode: Unknown (0x13)
- ConversionLens: Off
- Country:
- FacesDetected: 0
- FacesRecognized: 0
- FirmwareVersion: 0.2.4.0
- FlashBias: 0
- FlashCurtain: n/a
- FlashFired: No
- FocusMode: AF-S
- HDR: Off
- ImageQuality: Raw
- ImageStabilization: On, Mode 3
- IntelligentD-Range: Off
- IntelligentResolution: Off
- InternalNDFilter: 0
- Landmark:
- LensFirmwareVersion: 0.1.2.0
- LensSerialNumber: 342029549
- LensType: OLYMPUS M.75mm F1.8
- Location:
- LongExposureNoiseReduction: Off
- MacroMode: Off
- MakerNoteVersion: 0155
- NoiseReduction: Unknown (65534)
- NumFacePositions: 0
- OpticalZoomMode: Standard
- PanasonicExifVersion: 0415
- PanasonicImageHeight: 3888
- PanasonicImageWidth: 5184
- PhotoStyle: Standard or Custom
- PitchAngle: -14,1
- RollAngle: 1,4
- Rotation: Horizontal (normal)
- Saturation: -1
- SceneMode: Off
- SelfTimer: Unknown (0)
- SequenceNumber: 0
- ShadingCompensation: Off
- Sharpness: -3
- ShootingMode: Aperture Priority
- ShutterType: Electronic
- State:
- SweepPanoramaDirection: Off
- SweepPanoramaFieldOfView: 0
- TextStamp: Off
- TimeSincePowerOn: 00:02:24.15
- TimerRecording: Off
- Title:
- TouchAE: Off
- TravelDay: n/a
- WBBlueLevel: 1893
- WBGreenLevel: 1024
- WBRedLevel: 2512
- WBShiftAB: 0
- WBShiftGM: 0
- WhiteBalance: Unknown (20)
- WorldTimeLocation: Home
- PrintIM
- System
- XMP-aux
- Lens: OLYMPUS M.75mm F1.8
- SerialNumber: XER1801080085
- XMP-crd
- CameraProfile: Camera Standard
- LookName:
- XMP-crs
- AlreadyApplied: True
- AutoLateralCA: 1
- Blacks2012: -10
- BlueHue: 0
- BlueSaturation: 0
- Clarity2012: 0
- ColorGradeBlending: 50
- ColorGradeGlobalHue: 0
- ColorGradeGlobalLum: 0
- ColorGradeGlobalSat: 0
- ColorGradeHighlightLum: 0
- ColorGradeMidtoneHue: 0
- ColorGradeMidtoneLum: 0
- ColorGradeMidtoneSat: 0
- ColorGradeShadowLum: 0
- ColorNoiseReduction: 25
- ColorNoiseReductionDetail: 50
- ColorNoiseReductionSmoothness: 50
- ColorTemperature: 5800
- Contrast2012: 0
- DefringeGreenAmount: 0
- DefringeGreenHueHi: 60
- DefringeGreenHueLo: 40
- DefringePurpleAmount: 3
- DefringePurpleHueHi: 70
- DefringePurpleHueLo: 30
- Dehaze: +10
- Exposure2012: -0.20
- GrainAmount: 0
- GreenHue: 0
- GreenSaturation: 0
- HasCrop: False
- HasSettings: True
- Highlights2012: -57
- HueAdjustmentAqua: 0
- HueAdjustmentBlue: 0
- HueAdjustmentGreen: 0
- HueAdjustmentMagenta: 0
- HueAdjustmentOrange: 0
- HueAdjustmentPurple: 0
- HueAdjustmentRed: 0
- HueAdjustmentYellow: 0
- LensManualDistortionAmount: 0
- LensProfileEnable: 0
- LookAmount: 1.000000
- LookGroup: Profiles
- LookParametersConvertToGrayscale: False
- LookParametersLookTable: E1095149FDB39D7A057BAB208837E2E1
- LookParametersProcessVersion: 11.0
- LookParametersToneCurvePV2012: 0, 0, 22, 16, 40, 35, 127, 127, 224, 230, 240, 246, 255, 255
- LookParametersToneCurvePV2012Blue: 0, 0, 255, 255
- LookParametersToneCurvePV2012Green: 0, 0, 255, 255
- LookParametersToneCurvePV2012Red: 0, 0, 255, 255
- LookParametersVersion: 13.3
- LookSupportsAmount: false
- LookSupportsMonochrome: false
- LookSupportsOutputReferred: false
- LuminanceAdjustmentAqua: 0
- LuminanceAdjustmentBlue: 0
- LuminanceAdjustmentGreen: 0
- LuminanceAdjustmentMagenta: 0
- LuminanceAdjustmentOrange: 0
- LuminanceAdjustmentPurple: 0
- LuminanceAdjustmentRed: 0
- LuminanceAdjustmentYellow: 0
- LuminanceSmoothing: 0
- OverrideLookVignette: False
- ParametricDarks: 0
- ParametricHighlightSplit: 75
- ParametricHighlights: 0
- ParametricLights: 0
- ParametricMidtoneSplit: 50
- ParametricShadowSplit: 25
- ParametricShadows: 0
- PerspectiveAspect: 0
- PerspectiveHorizontal: 0
- PerspectiveRotate: 0.0
- PerspectiveScale: 100
- PerspectiveUpright: 0
- PerspectiveVertical: 0
- PerspectiveX: 0.00
- PerspectiveY: 0.00
- PostCropVignetteAmount: 0
- ProcessVersion: 11.0
- RedHue: 0
- RedSaturation: 0
- Saturation: 0
- SaturationAdjustmentAqua: 0
- SaturationAdjustmentBlue: 0
- SaturationAdjustmentGreen: 0
- SaturationAdjustmentMagenta: 0
- SaturationAdjustmentOrange: 0
- SaturationAdjustmentPurple: 0
- SaturationAdjustmentRed: 0
- SaturationAdjustmentYellow: 0
- ShadowTint: 0
- Shadows2012: +3
- SharpenDetail: 25
- SharpenEdgeMasking: 0
- SharpenRadius: +1.0
- Sharpness: 40
- SplitToningBalance: 0
- SplitToningHighlightHue: 0
- SplitToningHighlightSaturation: 0
- SplitToningShadowHue: 0
- SplitToningShadowSaturation: 0
- Texture: -9
- Tint: +25
- ToneCurveName2012: Linear
- ToneCurvePV2012: 0, 0, 255, 255
- ToneCurvePV2012Blue: 0, 0, 255, 255
- ToneCurvePV2012Green: 0, 0, 255, 255
- ToneCurvePV2012Red: 0, 0, 255, 255
- Version: 13.3
- Vibrance: 0
- VignetteAmount: 0
- WhiteBalance: As Shot
- Whites2012: 0
- XMP-dc
- Format: image/x-panasonic-raw
- XMP-exif
- ApertureValue: 1,8
- DateTimeOriginal: 2021:08:29 20:46:20.514+02:00
- ExposureCompensation: +0,66
- ExposureTime: 1/8
- FlashFired: False
- FlashFunction: False
- FlashMode: Off
- FlashRedEyeMode: False
- FlashReturn: No return detection
- MaxApertureValue: 1,8
- Sharpness: Soft
- ShutterSpeedValue: 1/8
- XMP-exifEX
- LensModel: OLYMPUS M.75mm F1.8
- XMP-tiff
- XMP-x
- XMP-xmp
- CreateDate: 2021:08:29 20:46:20.514+02:00
- CreatorTool: DxO PhotoLab 4.1.3
- ModifyDate: 2021:08:29 20:46:20.514+02:00
- XMP-xmpMM