- Раздел: Активный отдых, туризм
- Дата съёмки: 08.10.2010 13:14
- Дата загрузки фото: 17.09.2021 11:34
- Оригинальная фотография: 4288 x 2848 (6,6 Мб)
- Технические характеристики:
- Фотоаппарат: Nikon D300
- Выдержка: 0,0
- Гиперфокальное расстояние: inf m
- Диафрагма: 8,0
- Светочувствительность: 200
- Фокусное расстояние: 17,0 mm (35 mm equivalent: 17,0 mm)
- Полный EXIF
- Adobe
- ColorTransform: YCbCr
- Composite
- Aperture: 8,0
- CircleOfConfusion: 0,020 mm
- FOV: 93,0 deg
- FocalLength35efl: 17,0 mm (35 mm equivalent: 17,0 mm)
- GPSLatitude: 54 deg 50' 18,00" N
- GPSLatitudeRef: North
- GPSLongitude: 37 deg 47' 11,00" E
- GPSLongitudeRef: East
- GPSPosition: 54 deg 50' 18,00" N, 37 deg 47' 11,00" E
- HyperfocalDistance: inf m
- LensID: AF-S DX Zoom-Nikkor 17-55mm f/2.8G IF-ED
- Megapixels: 12,2
- ScaleFactor35efl: 1,5
- ShutterSpeed: 0,0
- ExifIFD
- ApertureValue: 8,0
- CFAPattern: [Red,Green][Green,Blue]
- ColorSpace: sRGB
- Contrast: Normal
- CreateDate: 2010:10:08 13:14:57
- CustomRendered: Normal
- DateTimeOriginal: 2010:10:08 13:14:57
- DigitalZoomRatio: 1
- ExifImageHeight: 2848
- ExifImageWidth: 4288
- ExposureCompensation: 0
- ExposureMode: Auto
- ExposureProgram: Aperture-priority AE
- ExposureTime: 0,0
- FNumber: 8,0
- Flash: No Flash
- FocalLength: 17,0 mm
- FocalLengthIn35mmFormat: 25 mm
- GainControl: None
- ISO: 200
- LensInfo: 17-55mm f/2.8
- LensModel: 17.0-55.0 mm f/2.8
- LightSource: Unknown
- MaxApertureValue: 2,8
- MeteringMode: Multi-segment
- Saturation: Normal
- SceneCaptureType: Standard
- SceneType: Directly photographed
- SensingMethod: One-chip color area
- SerialNumber: 3175703
- Sharpness: Normal
- ShutterSpeedValue: 1/64
- SubjectDistanceRange: Unknown
- WhiteBalance: Auto
- GPS
- GPSLatitude: 54 deg 50' 18,00"
- GPSLongitude: 37 deg 47' 11,00"
- GPSMapDatum: WGS-84
- GPSVersionID: 2.3.0.0
- ICC-header
- ICC-meas
- ICC-view
- IFD0
- Artist: <= Mutaborr =>
- Copyright: <= Mutaborr =>
- Make: NIKON CORPORATION
- Model: NIKON D300
- ModifyDate: 2018:08:21 17:35:14
- Orientation: Horizontal (normal)
- IFD1
- IPTC
- By-line: <= Mutaborr =>
- CopyrightNotice: <= Mutaborr =>
- DateCreated: 2010:10:08
- System
- XMP-aux
- ApproximateFocusDistance: 4294967295
- ImageNumber: 4326
- LateralChromaticAberrationCorrectionAlreadyApplied: True
- Lens: 17.0-55.0 mm f/2.8
- LensID: 125
- VignetteCorrectionAlreadyApplied: True
- XMP-crs
- AlreadyApplied: True
- AutoLateralCA: 1
- AutoWhiteVersion: 134348800
- Blacks2012: 0
- BlueHue: 0
- BlueSaturation: 0
- CameraProfile: Camera Landscape v4
- Clarity2012: 0
- ColorNoiseReduction: 25
- ColorNoiseReductionDetail: 50
- ColorNoiseReductionSmoothness: 50
- ColorTemperature: 5300
- Contrast2012: +28
- ConvertToGrayscale: False
- DefringeGreenAmount: 1
- DefringeGreenHueHi: 60
- DefringeGreenHueLo: 40
- DefringePurpleAmount: 1
- DefringePurpleHueHi: 70
- DefringePurpleHueLo: 30
- Dehaze: 0
- Exposure2012: +0.80
- GrainAmount: 0
- GreenHue: 0
- GreenSaturation: 0
- HasCrop: False
- HasSettings: True
- Highlights2012: -78
- HueAdjustmentAqua: 0
- HueAdjustmentBlue: 0
- HueAdjustmentGreen: 0
- HueAdjustmentMagenta: 0
- HueAdjustmentOrange: 0
- HueAdjustmentPurple: 0
- HueAdjustmentRed: 0
- HueAdjustmentYellow: 0
- LensManualDistortionAmount: 0
- LensProfileChromaticAberrationScale: 100
- LensProfileDistortionScale: 0
- LensProfileEnable: 1
- LensProfileFilename: NIKON D90 (Nikon AF-S DX Zoom-NIKKOR 17-55mm f2.8G IF-ED) - RAW.lcp
- LensProfileSetup: Custom
- LensProfileVignettingScale: 100
- LuminanceAdjustmentAqua: 0
- LuminanceAdjustmentBlue: 0
- LuminanceAdjustmentGreen: 0
- LuminanceAdjustmentMagenta: 0
- LuminanceAdjustmentOrange: 0
- LuminanceAdjustmentPurple: 0
- LuminanceAdjustmentRed: 0
- LuminanceAdjustmentYellow: 0
- LuminanceSmoothing: 0
- ParametricDarks: 0
- ParametricHighlightSplit: 75
- ParametricHighlights: 0
- ParametricLights: 0
- ParametricMidtoneSplit: 50
- ParametricShadowSplit: 25
- ParametricShadows: 0
- PerspectiveAspect: 0
- PerspectiveHorizontal: 0
- PerspectiveRotate: 0.0
- PerspectiveScale: 100
- PerspectiveUpright: 0
- PerspectiveVertical: 0
- PerspectiveX: 0.00
- PerspectiveY: 0.00
- PostCropVignetteAmount: 0
- ProcessVersion: 6.7
- RawFileName: NEF_4283.NEF
- RedHue: 0
- RedSaturation: 0
- Saturation: 0
- SaturationAdjustmentAqua: 0
- SaturationAdjustmentBlue: 0
- SaturationAdjustmentGreen: 0
- SaturationAdjustmentMagenta: 0
- SaturationAdjustmentOrange: 0
- SaturationAdjustmentPurple: 0
- SaturationAdjustmentRed: 0
- SaturationAdjustmentYellow: 0
- ShadowTint: 0
- Shadows2012: +56
- SharpenDetail: 25
- SharpenEdgeMasking: 0
- SharpenRadius: +1.0
- Sharpness: 25
- SplitToningBalance: 0
- SplitToningHighlightHue: 0
- SplitToningHighlightSaturation: 0
- SplitToningShadowHue: 0
- SplitToningShadowSaturation: 0
- Tint: +10
- ToneCurve: 0, 0, 32, 22, 64, 56, 128, 128, 192, 196, 255, 255
- ToneCurveBlue: 0, 0, 255, 255
- ToneCurveGreen: 0, 0, 255, 255
- ToneCurveName: Medium Contrast
- ToneCurveName2012: Linear
- ToneCurvePV2012: 0, 0, 255, 255
- ToneCurvePV2012Blue: 0, 0, 255, 255
- ToneCurvePV2012Green: 0, 0, 255, 255
- ToneCurvePV2012Red: 0, 0, 255, 255
- ToneCurveRed: 0, 0, 255, 255
- ToneMapStrength: 0
- Version: 9.10
- Vibrance: 0
- VignetteAmount: 0
- WhiteBalance: Custom
- Whites2012: 0
- XMP-dc
- Creator: <= Mutaborr =>
- Format: image/jpeg
- Rights: <= Mutaborr =>
- XMP-exif
- XMP-x
- XMP-xmp
- CreatorTool: Ver.1.10
- ModifyDate: 2018:08:21 17:35:14+03:00
- Rating: 0
- XMP-xmpMM
- Просмотров: 7
- Рейтинг: голосов еще нет
- Отзывов: отключены