- Раздел: Другое, разное
- Дата съёмки: неизвестно
- Дата загрузки фото: 28.10.2021 17:24
- Оригинальная фотография: 8256 x 5504 (84,2 Мб)
- Технические характеристики:
- Фотоаппарат: Nikon Z 7_2
- Выдержка: 0,0
- Гиперфокальное расстояние: inf m
- Диафрагма: 8,0
- Светочувствительность: 64
- Фокусное расстояние: 59,0 mm (35 mm equivalent: 59,0 mm)
- Полный EXIF
- Composite
- Aperture: 8,0
- CircleOfConfusion: 0,030 mm
- FOV: 33,0 deg
- FocalLength35efl: 59,0 mm (35 mm equivalent: 59,0 mm)
- GPSAltitude: 130 m Above Sea Level
- GPSDateTime: 2021:10:10 08:00:06Z
- GPSLatitude: 57 deg 16' 42,00" N
- GPSLongitude: 37 deg 32' 44,00" E
- GPSPosition: 57 deg 16' 42,00" N, 37 deg 32' 44,00" E
- HyperfocalDistance: inf m
- Megapixels: 45,4
- ScaleFactor35efl: 1,0
- ShutterSpeed: 0,0
- ExifIFD
- ApertureValue: 8,0
- CFAPattern: [Red,Green][Green,Blue]
- ColorSpace: sRGB
- Contrast: Normal
- CreateDate: 2021:10:10 11:01:19
- CustomRendered: Custom
- DateTimeOriginal: 2021:10:10 11:01:19
- ExposureCompensation: 0
- ExposureMode: Auto
- ExposureProgram: Aperture-priority AE
- ExposureTime: 0,0
- FNumber: 8,0
- Flash: No Flash
- FocalLength: 59,0 mm
- FocalLengthIn35mmFormat: 59 mm
- GainControl: None
- ISO: 64
- LensInfo: 24-70mm f/2.8
- LensMake: NIKON
- LensModel: NIKKOR Z 24-70mm f/2.8 S
- LensSerialNumber: 20045443
- LightSource: Unknown
- MeteringMode: Multi-segment
- RecommendedExposureIndex: 64
- Saturation: Normal
- SceneCaptureType: Standard
- SceneType: Directly photographed
- SensingMethod: One-chip color area
- SensitivityType: Recommended Exposure Index
- SerialNumber: 6008328
- Sharpness: Normal
- ShutterSpeedValue: 1/128
- SubjectDistanceRange: Unknown
- WhiteBalance: Auto
- GPS
- GPSAltitude: 130 m
- GPSAltitudeRef: Above Sea Level
- GPSDateStamp: 2021:10:10
- GPSLatitude: 57 deg 16' 42,00"
- GPSLatitudeRef: North
- GPSLongitude: 37 deg 32' 44,00"
- GPSLongitudeRef: East
- GPSMapDatum: WGS-84
- GPSSatellites: 00
- GPSTimeStamp: 08:00:06
- GPSVersionID: 2.3.0.0
- ICC-header
- ICC-meas
- ICC-view
- IFD0
- Make: NIKON CORPORATION
- Model: NIKON Z 7_2
- ModifyDate: 2021:10:28 17:17:28
- IPTC
- City: Moscow
- Country-PrimaryLocationCode: RU
- Country-PrimaryLocationName: Russia
- OriginatingProgram: Topaz Labs
- Province-State: Moscow
- Sub-location: Strogino
- System
- XMP-aux
- ImageNumber: 3336
- LateralChromaticAberrationCorrectionAlreadyApplied: True
- Lens: NIKKOR Z 24-70mm f/2.8 S
- XMP-crs
- AlreadyApplied: True
- AutoLateralCA: 0
- Blacks2012: 0
- BlueHue: 0
- BlueSaturation: 0
- Clarity2012: 0
- ColorGradeBlending: 50
- ColorGradeGlobalHue: 0
- ColorGradeGlobalLum: 0
- ColorGradeGlobalSat: 0
- ColorGradeHighlightLum: 0
- ColorGradeMidtoneHue: 0
- ColorGradeMidtoneLum: 0
- ColorGradeMidtoneSat: 0
- ColorGradeShadowLum: 0
- ColorNoiseReduction: 25
- ColorNoiseReductionDetail: 50
- ColorNoiseReductionSmoothness: 50
- ColorTemperature: 6136
- CompatibleVersion: 234881024
- Contrast2012: 0
- CropAngle: 0
- CropBottom: 1
- CropConstrainToWarp: 0
- CropLeft: 0
- CropRight: 1
- CropTop: 0
- DefringeGreenAmount: 0
- DefringeGreenHueHi: 60
- DefringeGreenHueLo: 40
- DefringePurpleAmount: 0
- DefringePurpleHueHi: 70
- DefringePurpleHueLo: 30
- Dehaze: +32
- Exposure2012: +0.55
- GrainAmount: 0
- GreenHue: 0
- GreenSaturation: 0
- HasCrop: False
- HasSettings: True
- Highlights2012: 0
- HueAdjustmentAqua: 0
- HueAdjustmentBlue: 0
- HueAdjustmentGreen: 0
- HueAdjustmentMagenta: 0
- HueAdjustmentOrange: 0
- HueAdjustmentPurple: 0
- HueAdjustmentRed: 0
- HueAdjustmentYellow: 0
- LensManualDistortionAmount: 0
- LensProfileDistortionScale: 100
- LensProfileEnable: 1
- LensProfileIsEmbedded: True
- LensProfileName: Camera Settings
- LensProfileSetup: Custom
- LensProfileVignettingScale: 100
- LookAmount: 1
- LookGroup: Profiles
- LookParametersConvertToGrayscale: False
- LookParametersLookTable: E1095149FDB39D7A057BAB208837E2E1
- LookParametersProcessVersion: 11.0
- LookParametersToneCurvePV2012: 0, 0, 22, 16, 40, 35, 127, 127, 224, 230, 240, 246, 255, 255
- LookParametersToneCurvePV2012Blue: 0, 0, 255, 255
- LookParametersToneCurvePV2012Green: 0, 0, 255, 255
- LookParametersToneCurvePV2012Red: 0, 0, 255, 255
- LookParametersVersion: 14.0
- LookSupportsAmount: false
- LookSupportsMonochrome: false
- LookSupportsOutputReferred: false
- LuminanceAdjustmentAqua: 0
- LuminanceAdjustmentBlue: 0
- LuminanceAdjustmentGreen: 0
- LuminanceAdjustmentMagenta: 0
- LuminanceAdjustmentOrange: 0
- LuminanceAdjustmentPurple: 0
- LuminanceAdjustmentRed: 0
- LuminanceAdjustmentYellow: 0
- LuminanceSmoothing: 0
- OverrideLookVignette: False
- ParametricDarks: 0
- ParametricHighlightSplit: 75
- ParametricHighlights: 0
- ParametricLights: 0
- ParametricMidtoneSplit: 50
- ParametricShadowSplit: 25
- ParametricShadows: 0
- PerspectiveAspect: 0
- PerspectiveHorizontal: 0
- PerspectiveRotate: 0.0
- PerspectiveScale: 100
- PerspectiveUpright: 0
- PerspectiveVertical: 0
- PerspectiveX: 0.00
- PerspectiveY: 0.00
- PostCropVignetteAmount: 0
- ProcessVersion: 11.0
- RawFileName: DSC_3349.NEF
- RedHue: 0
- RedSaturation: 0
- Saturation: 0
- SaturationAdjustmentAqua: 0
- SaturationAdjustmentBlue: +40
- SaturationAdjustmentGreen: +24
- SaturationAdjustmentMagenta: +100
- SaturationAdjustmentOrange: +36
- SaturationAdjustmentPurple: 0
- SaturationAdjustmentRed: +47
- SaturationAdjustmentYellow: +28
- ShadowTint: 0
- Shadows2012: +67
- SharpenDetail: 25
- SharpenEdgeMasking: 0
- SharpenRadius: +1.0
- Sharpness: 40
- SplitToningBalance: 0
- SplitToningHighlightHue: 0
- SplitToningHighlightSaturation: 0
- SplitToningShadowHue: 0
- SplitToningShadowSaturation: 0
- Texture: 0
- Tint: +23
- ToneCurveName2012: Linear
- ToneCurvePV2012: 0, 0, 255, 255
- ToneCurvePV2012Blue: 0, 0, 255, 255
- ToneCurvePV2012Green: 0, 0, 255, 255
- ToneCurvePV2012Red: 0, 0, 255, 255
- Version: 14.0
- Vibrance: 0
- VignetteAmount: 0
- WhiteBalance: Custom
- Whites2012: 0
- XMP-dc
- Format: image/jpeg
- Subject: 20211010 Strogino
- XMP-exifEX
- XMP-iptcCore
- CountryCode: RU
- Location: Strogino
- XMP-lr
- WeightedFlatSubject: 20211010 Strogino
- XMP-xmp
- CreateDate: 2021:10:10 11:01:19.69+03:00
- ModifyDate: 2021:10:28 17:17:28+03:00
- XMP-xmpMM
- PreservedFileName: DSC_3349.NEF
- Просмотров: 79
- Рейтинг: голосов еще нет
- Отзывов: отключены