- Раздел: Другое, разное
- Дата съёмки: неизвестно
- Дата загрузки фото: 13.12.2021 08:30
- Оригинальная фотография: 2294 x 1820 (1,6 Мб)
- Технические характеристики:
- Фотоаппарат: Canon EOS 10D
- Выдержка: 0,0
- Диафрагма: 1,4
- Светочувствительность: 100
- Фокусное расстояние: 1,0 mm
- Полный EXIF
- Adobe
- ColorTransform: YCbCr
- Composite
- Aperture: 1,4
- FocalLength35efl: 1,0 mm
- Megapixels: 4,2
- ShutterSpeed: 0,0
- ExifIFD
- ApertureValue: 1,0
- ColorSpace: sRGB
- CreateDate: 2018:10:14 16:07:34
- DateTimeOriginal: 2018:10:14 16:07:34
- ExifImageHeight: 1820
- ExifImageWidth: 2294
- ExposureCompensation: 0
- ExposureProgram: Program AE
- ExposureTime: 0,0
- FNumber: 1,4
- Flash: No Flash
- FocalLength: 1,0 mm
- ISO: 100
- MaxApertureValue: 1,0
- MeteringMode: Multi-segment
- SerialNumber: 1530504478
- ShutterSpeedValue: 1/128
- ICC-header
- ICC-meas
- ICC-view
- IFD0
- Make: Canon
- Model: Canon EOS 10D
- ModifyDate: 2021:11:19 23:24:40
- Orientation: Horizontal (normal)
- IFD1
- IPTC
- DateCreated: 2018:10:14
- System
- XMP-aux
- Firmware: 2.0.1
- XMP-crs
- AlreadyApplied: True
- AutoLateralCA: 0
- Blacks2012: 0
- BlueHue: 0
- BlueSaturation: 0
- Brightness: +50
- Clarity: +8
- Clarity2012: 0
- ColorNoiseReduction: 25
- ColorNoiseReductionDetail: 50
- ColorTemperature: 4300
- Contrast: +33
- Contrast2012: 0
- ConvertToGrayscale: False
- CropAngle: 0
- CropBottom: 0.978233
- CropConstrainToWarp: 1
- CropLeft: 0
- CropRight: 0.746588
- CropTop: 0.089628
- Defringe: 0
- Exposure: +0.35
- Exposure2012: 0.00
- FillLight: 0
- GrainAmount: 0
- GreenHue: 0
- GreenSaturation: 0
- HasCrop: True
- HasSettings: True
- HighlightRecovery: 0
- Highlights2012: 0
- HueAdjustmentAqua: 0
- HueAdjustmentBlue: 0
- HueAdjustmentGreen: 0
- HueAdjustmentMagenta: 0
- HueAdjustmentOrange: 0
- HueAdjustmentPurple: 0
- HueAdjustmentRed: 0
- HueAdjustmentYellow: 0
- LensManualDistortionAmount: 0
- LensProfileEnable: 0
- LensProfileSetup: LensDefaults
- LuminanceAdjustmentAqua: 0
- LuminanceAdjustmentBlue: 0
- LuminanceAdjustmentGreen: 0
- LuminanceAdjustmentMagenta: 0
- LuminanceAdjustmentOrange: 0
- LuminanceAdjustmentPurple: 0
- LuminanceAdjustmentRed: 0
- LuminanceAdjustmentYellow: 0
- LuminanceSmoothing: 0
- ParametricDarks: 0
- ParametricHighlightSplit: 75
- ParametricHighlights: 0
- ParametricLights: 0
- ParametricMidtoneSplit: 50
- ParametricShadowSplit: 25
- ParametricShadows: 0
- PerspectiveHorizontal: 0
- PerspectiveRotate: 0.0
- PerspectiveScale: 100
- PerspectiveVertical: 0
- PostCropVignetteAmount: 0
- ProcessVersion: 5.7
- RawFileName: CRW_3892.CRW
- RedHue: 0
- RedSaturation: 0
- Saturation: +92
- SaturationAdjustmentAqua: 0
- SaturationAdjustmentBlue: 0
- SaturationAdjustmentGreen: 0
- SaturationAdjustmentMagenta: 0
- SaturationAdjustmentOrange: 0
- SaturationAdjustmentPurple: 0
- SaturationAdjustmentRed: 0
- SaturationAdjustmentYellow: 0
- ShadowTint: 0
- Shadows: 5
- Shadows2012: 0
- SharpenDetail: 25
- SharpenEdgeMasking: 0
- SharpenRadius: +1.0
- Sharpness: 25
- SplitToningBalance: 0
- SplitToningHighlightHue: 0
- SplitToningHighlightSaturation: 0
- SplitToningShadowHue: 0
- SplitToningShadowSaturation: 0
- Tint: -7
- ToneCurve: 0, 0, 32, 22, 64, 56, 128, 128, 192, 196, 255, 255
- ToneCurveBlue: 0, 0, 255, 255
- ToneCurveGreen: 0, 0, 255, 255
- ToneCurveName: Medium Contrast
- ToneCurveName2012: Linear
- ToneCurvePV2012: 0, 0, 255, 255
- ToneCurvePV2012Blue: 0, 0, 255, 255
- ToneCurvePV2012Green: 0, 0, 255, 255
- ToneCurvePV2012Red: 0, 0, 255, 255
- ToneCurveRed: 0, 0, 255, 255
- Version: 6.7.1
- Vibrance: +11
- VignetteAmount: 0
- WhiteBalance: As Shot
- Whites2012: 0
- XMP-dc
- XMP-xmp
- ModifyDate: 2021:11:19 23:24:40+03:00
- Rating: 0
- XMP-xmpMM
- Просмотров: 81
- Рейтинг: голосов еще нет
- Отзывов: отключены