- Раздел: Другое, разное
- Дата съёмки: неизвестно
- Дата загрузки фото: 15.03.2022 19:08
- Оригинальная фотография: 3008 x 1960 (2,6 Мб)
- Технические характеристики:
- Фотоаппарат: Nikon D1X
- Выдержка: 0,0
- Светочувствительность: 200
- Полный EXIF
- Adobe
- ColorTransform: YCbCr
- Composite
- Megapixels: 5,9
- ShutterSpeed: 0,0
- ExifIFD
- CFAPattern: [Blue,Green][Green,Red]
- ColorSpace: sRGB
- CreateDate: 2022:03:14 11:55:58
- DateTimeOriginal: 2022:03:14 11:55:58
- ExposureCompensation: 0
- ExposureProgram: Aperture-priority AE
- ExposureTime: 0,0
- ISO: 200
- LensInfo: 0mm f/0
- LensModel: 0.0 mm f/0.0
- MaxApertureValue: 1,0
- MeteringMode: Center-weighted average
- SceneType: Directly photographed
- SensingMethod: One-chip color area
- ShutterSpeedValue: 1/512
- ICC-header
- ICC-meas
- ICC-view
- IFD0
- Copyright: Copyright,
- Make: NIKON CORPORATION
- Model: NIKON D1X
- ModifyDate: 2022:03:15 19:08:10
- IFD1
- IPTC
- CopyrightNotice: Copyright,
- DateCreated: 2022:03:14
- System
- XMP-aux
- Lens: 0.0 mm f/0.0
- XMP-crs
- AlreadyApplied: True
- AutoLateralCA: 0
- AutoWhiteVersion: 134348800
- Blacks2012: +25
- BlueHue: 0
- BlueSaturation: 0
- Clarity2012: 0
- ColorGradeBlending: 50
- ColorGradeGlobalHue: 0
- ColorGradeGlobalLum: 0
- ColorGradeGlobalSat: 0
- ColorGradeHighlightLum: 0
- ColorGradeMidtoneHue: 0
- ColorGradeMidtoneLum: 0
- ColorGradeMidtoneSat: 0
- ColorGradeShadowLum: 0
- ColorNoiseReduction: 25
- ColorNoiseReductionDetail: 50
- ColorNoiseReductionSmoothness: 50
- ColorTemperature: 7500
- Contrast2012: 0
- ConvertToGrayscale: False
- CropAngle: 0
- CropBottom: 1
- CropConstrainToWarp: 0
- CropLeft: 0
- CropRight: 1
- CropTop: 0
- DefringeGreenAmount: 0
- DefringeGreenHueHi: 60
- DefringeGreenHueLo: 40
- DefringePurpleAmount: 0
- DefringePurpleHueHi: 70
- DefringePurpleHueLo: 30
- Dehaze: 0
- Exposure2012: +0.26
- GrainAmount: 0
- GrainFrequency: 35
- GrainSize: 35
- GreenHue: +10
- GreenSaturation: -10
- HasCrop: False
- HasSettings: True
- Highlights2012: -25
- HueAdjustmentAqua: 0
- HueAdjustmentBlue: +5
- HueAdjustmentGreen: +15
- HueAdjustmentMagenta: +15
- HueAdjustmentOrange: -5
- HueAdjustmentPurple: +30
- HueAdjustmentRed: +12
- HueAdjustmentYellow: -10
- LensManualDistortionAmount: 0
- LensProfileEnable: 0
- LuminanceAdjustmentAqua: -15
- LuminanceAdjustmentBlue: -20
- LuminanceAdjustmentGreen: -25
- LuminanceAdjustmentMagenta: -15
- LuminanceAdjustmentOrange: 0
- LuminanceAdjustmentPurple: -5
- LuminanceAdjustmentRed: -20
- LuminanceAdjustmentYellow: 0
- LuminanceSmoothing: 0
- OverrideLookVignette: False
- ParametricDarks: +15
- ParametricHighlightSplit: 90
- ParametricHighlights: 0
- ParametricLights: -15
- ParametricMidtoneSplit: 65
- ParametricShadowSplit: 10
- ParametricShadows: -10
- PerspectiveAspect: 0
- PerspectiveHorizontal: 0
- PerspectiveRotate: 0.0
- PerspectiveScale: 100
- PerspectiveUpright: 0
- PerspectiveVertical: 0
- PerspectiveX: 0.00
- PerspectiveY: 0.00
- PostCropVignetteAmount: 0
- ProcessVersion: 11.0
- RawFileName: DSC_7344.NEF
- RedHue: +10
- RedSaturation: +10
- Saturation: +5
- SaturationAdjustmentAqua: 0
- SaturationAdjustmentBlue: +10
- SaturationAdjustmentGreen: -10
- SaturationAdjustmentMagenta: -15
- SaturationAdjustmentOrange: -5
- SaturationAdjustmentPurple: 0
- SaturationAdjustmentRed: 0
- SaturationAdjustmentYellow: 0
- ShadowTint: 0
- Shadows2012: +19
- SharpenDetail: 25
- SharpenEdgeMasking: 0
- SharpenRadius: +1.2
- Sharpness: 51
- SplitToningBalance: 0
- SplitToningHighlightHue: 275
- SplitToningHighlightSaturation: 0
- SplitToningShadowHue: 0
- SplitToningShadowSaturation: 0
- Texture: 0
- Tint: 0
- ToneCurveName2012: Fortia SP - -
- ToneCurvePV2012: 0, 0, 47, 56, 124, 125, 255, 255
- ToneCurvePV2012Blue: 0, 0, 37, 7, 56, 24, 105, 114, 171, 204, 255, 253
- ToneCurvePV2012Green: 0, 0, 37, 7, 55, 23, 104, 115, 171, 204, 255, 255
- ToneCurvePV2012Red: 0, 0, 37, 7, 56, 24, 103, 115, 171, 205, 255, 255
- Version: 13.3
- Vibrance: +5
- VignetteAmount: 0
- WhiteBalance: Auto
- Whites2012: 0
- XMP-dc
- Format: image/jpeg
- Rights: Copyright,
- XMP-xmp
- CreateDate: 2022:03:14 11:55:58.62
- ModifyDate: 2022:03:15 19:08:10+03:00
- XMP-xmpMM
- PreservedFileName: DSC_7344.NEF
- Просмотров: 179
- Рейтинг: голосов еще нет
- Отзывов: 0