- Раздел: Другое, разное
- Дата съёмки: неизвестно
- Дата загрузки фото: 14.05.2022 20:03
- Оригинальная фотография: 3000 x 2153 (6,2 Мб)
- Технические характеристики:
- Фотоаппарат: Nikon Z 7_2
- Выдержка: 0,0
- Гиперфокальное расстояние: inf m
- Диафрагма: 4,0
- Светочувствительность: 64
- Фокусное расстояние: 103,0 mm (35 mm equivalent: 103,0 mm)
- Полный EXIF
- Composite
- Aperture: 4,0
- CircleOfConfusion: 0,030 mm
- FOV: 19,0 deg
- FocalLength35efl: 103,0 mm (35 mm equivalent: 103,0 mm)
- GPSAltitude: 149 m Above Sea Level
- GPSLatitude: 55 deg 40' 4,00" N
- GPSLongitude: 37 deg 40' 13,00" E
- GPSPosition: 55 deg 40' 4,00" N, 37 deg 40' 13,00" E
- HyperfocalDistance: inf m
- Megapixels: 6,5
- ScaleFactor35efl: 1,0
- ShutterSpeed: 0,0
- ExifIFD
- ApertureValue: 4,0
- ColorSpace: sRGB
- Contrast: Normal
- CreateDate: 2022:05:14 12:36:43
- CustomRendered: Custom
- DateTimeOriginal: 2022:05:14 12:36:43
- ExifImageHeight: 2153
- ExifImageWidth: 3000
- ExposureCompensation: 0
- ExposureMode: Auto
- ExposureProgram: Aperture-priority AE
- ExposureTime: 0,0
- FNumber: 4,0
- Flash: No Flash
- FocalLength: 103,0 mm
- FocalLengthIn35mmFormat: 103 mm
- GainControl: None
- ISO: 64
- LensInfo: 24-120mm f/4
- LensMake: NIKON
- LensModel: NIKKOR Z 24-120mm f/4 S
- LensSerialNumber: 20004384
- LightSource: Unknown
- MeteringMode: Multi-segment
- RecommendedExposureIndex: 64
- Saturation: Normal
- SceneCaptureType: Standard
- SceneType: Directly photographed
- SensingMethod: One-chip color area
- SensitivityType: Recommended Exposure Index
- SerialNumber: 6008328
- Sharpness: Normal
- ShutterSpeedValue: 1/512
- SubjectDistanceRange: Unknown
- WhiteBalance: Auto
- GPS
- GPSAltitude: 149 m
- GPSAltitudeRef: Above Sea Level
- GPSDateStamp: 2022:05:14
- GPSHPositioningError: 0 m
- GPSLatitude: 55 deg 40' 4,00"
- GPSLatitudeRef: North
- GPSLongitude: 37 deg 40' 13,00"
- GPSLongitudeRef: East
- IFD0
- Make: NIKON CORPORATION
- Model: NIKON Z 7_2
- ModifyDate: 2022:05:14 16:49:36
- Orientation: Horizontal (normal)
- Software: Photo 2.0.10
- IFD1
- IPTC
- City: Moscow
- Country-PrimaryLocationCode: RU
- Country-PrimaryLocationName: Russia
- DateCreated: 2022:05:14
- Keywords: 20220514 Kolomenskoe
- Province-State: Moscow
- Sub-location: Nagatinsky zaton
- IPTC2
- System
- XMP-aux
- DistortionCorrectionAlreadyApplied: True
- ImageNumber: 5281
- LateralChromaticAberrationCorrectionAlreadyApplied: True
- Lens: NIKKOR Z 24-120mm f/4 S
- VignetteCorrectionAlreadyApplied: True
- XMP-crs
- AlreadyApplied: True
- AutoLateralCA: 0
- Blacks2012: 0
- BlueHue: 0
- BlueSaturation: 0
- Clarity2012: +13
- ColorGradeBlending: 50
- ColorGradeGlobalHue: 0
- ColorGradeGlobalLum: 0
- ColorGradeGlobalSat: 0
- ColorGradeHighlightLum: 0
- ColorGradeMidtoneHue: 0
- ColorGradeMidtoneLum: 0
- ColorGradeMidtoneSat: 0
- ColorGradeShadowLum: 0
- ColorNoiseReduction: 25
- ColorNoiseReductionDetail: 50
- ColorNoiseReductionSmoothness: 50
- ColorTemperature: 5550
- Contrast2012: +24
- CropAngle: -0.936485
- CropBottom: 0.976068
- CropConstrainToWarp: 0
- CropLeft: 0.006648
- CropRight: 0.993352
- CropTop: 0.023932
- DefringeGreenAmount: 0
- DefringeGreenHueHi: 60
- DefringeGreenHueLo: 40
- DefringePurpleAmount: 0
- DefringePurpleHueHi: 70
- DefringePurpleHueLo: 30
- Dehaze: +14
- Exposure2012: +0.40
- GrainAmount: 0
- GreenHue: 0
- GreenSaturation: 0
- HasCrop: True
- HasSettings: True
- Highlights2012: 0
- HueAdjustmentAqua: 0
- HueAdjustmentBlue: 0
- HueAdjustmentGreen: 0
- HueAdjustmentMagenta: 0
- HueAdjustmentOrange: 0
- HueAdjustmentPurple: 0
- HueAdjustmentRed: 0
- HueAdjustmentYellow: 0
- LensManualDistortionAmount: 0
- LensProfileEnable: 0
- LookAmount: 1
- LookGroup: Profiles
- LookParametersConvertToGrayscale: False
- LookParametersLookTable: E1095149FDB39D7A057BAB208837E2E1
- LookParametersProcessVersion: 11.0
- LookParametersToneCurvePV2012: 0, 0, 22, 16, 40, 35, 127, 127, 224, 230, 240, 246, 255, 255
- LookParametersToneCurvePV2012Blue: 0, 0, 255, 255
- LookParametersToneCurvePV2012Green: 0, 0, 255, 255
- LookParametersToneCurvePV2012Red: 0, 0, 255, 255
- LookParametersVersion: 14.3
- LookSupportsAmount: false
- LookSupportsMonochrome: false
- LookSupportsOutputReferred: false
- LuminanceAdjustmentAqua: 0
- LuminanceAdjustmentBlue: 0
- LuminanceAdjustmentGreen: 0
- LuminanceAdjustmentMagenta: 0
- LuminanceAdjustmentOrange: 0
- LuminanceAdjustmentPurple: 0
- LuminanceAdjustmentRed: 0
- LuminanceAdjustmentYellow: 0
- LuminanceSmoothing: 0
- OverrideLookVignette: False
- ParametricDarks: 0
- ParametricHighlightSplit: 75
- ParametricHighlights: 0
- ParametricLights: 0
- ParametricMidtoneSplit: 50
- ParametricShadowSplit: 25
- ParametricShadows: 0
- PerspectiveAspect: 0
- PerspectiveHorizontal: 0
- PerspectiveRotate: 0.0
- PerspectiveScale: 100
- PerspectiveUpright: 0
- PerspectiveVertical: 0
- PerspectiveX: 0.00
- PerspectiveY: 0.00
- PostCropVignetteAmount: 0
- ProcessVersion: 11.0
- RawFileName: DSC_5301.NEF
- RedHue: 0
- RedSaturation: 0
- Saturation: 0
- SaturationAdjustmentAqua: 0
- SaturationAdjustmentBlue: 0
- SaturationAdjustmentGreen: -25
- SaturationAdjustmentMagenta: 0
- SaturationAdjustmentOrange: +19
- SaturationAdjustmentPurple: 0
- SaturationAdjustmentRed: 0
- SaturationAdjustmentYellow: 0
- ShadowTint: 0
- Shadows2012: +27
- SharpenDetail: 25
- SharpenEdgeMasking: 0
- SharpenRadius: +1.0
- Sharpness: 40
- SplitToningBalance: 0
- SplitToningHighlightHue: 0
- SplitToningHighlightSaturation: 0
- SplitToningShadowHue: 0
- SplitToningShadowSaturation: 0
- Texture: +16
- Tint: +10
- ToneCurveName2012: Linear
- ToneCurvePV2012: 0, 0, 255, 255
- ToneCurvePV2012Blue: 0, 0, 255, 255
- ToneCurvePV2012Green: 0, 0, 255, 255
- ToneCurvePV2012Red: 0, 0, 255, 255
- Version: 14.3
- Vibrance: 0
- VignetteAmount: 0
- WhiteBalance: As Shot
- Whites2012: 0
- XMP-dc
- Subject: 20220514 Kolomenskoe
- XMP-iptcCore
- CountryCode: RU
- Location: Nagatinsky zaton
- XMP-lr
- WeightedFlatSubject: 20220514 Kolomenskoe
- XMP-x
- XMP-xmp
- CreateDate: 2022:05:14 12:36:43+03:00
- CreatorTool: Photo 2.0.10
- XMP-xmpMM
- PreservedFileName: DSC_5301.NEF
- Просмотров: 59
- Рейтинг: голосов еще нет
- Отзывов: отключены