Уважаемые друзья и участники проекта iXBT.photo! К сожалению, 1 марта 2026 года проект iXBT.photo прекратит свою работу и будет закрыт. Мы высоко ценим ваше участие и тот вклад, который вы внесли в развитие нашего сообщества. Пожалуйста, не забудьте сохранить ваши фотографии до этой даты.
С уважением, команда iXBT.com
| шишки |
шишки
шишки кипарисовые 3 шт
- Раздел: Другое, разное
- Дата съёмки: 22.11.2007 12:34
- Дата загрузки фото: 04.12.2007 15:56
- Оригинальная фотография: 2276 x 2616 (230 Кб)
- Технические характеристики:
- Фотоаппарат: FujiFilm FinePix S9500
- Выдержка: 1/60
- Гиперфокальное расстояние: 1,81 m
- Диафрагма: 3,1
- Светочувствительность: 200
- Фокусное расстояние: 8,1mm (35mm эквивалент: 20,8mm)
- Полный EXIF
- Adobe
- ColorTransform: YCbCr
- Composite
- Aperture: 3,1
- CircleOfConfusion: 0,012 mm
- FocalLength35efl: 8,1mm (35mm equivalent: 20,8mm)
- HyperfocalDistance: 1,81 m
- LightValue: 8,2
- ScaleFactor35efl: 2,6
- ShutterSpeed: 1/60
- ExifIFD
- ApertureValue: 3,1
- BrightnessValue: 1,41
- ColorSpace: sRGB
- Contrast: Normal
- CreateDate: 2007:11:16 15:14:04
- CustomRendered: Custom
- DateTimeOriginal: 2007:11:16 15:14:04
- ExifImageLength: 2616
- ExifImageWidth: 2276
- ExposureCompensation: 0
- ExposureMode: Auto
- ExposureProgram: Shutter speed priority AE
- ExposureTime: 1/60
- FNumber: 3,1
- Flash: Off
- FocalLength: 8,1mm
- ISO: 200
- LightSource: Unknown (0)
- MaxApertureValue: 2,8
- MeteringMode: Spot
- Saturation: Normal
- SceneCaptureType: Standard
- SceneType: Directly photographed
- SensingMethod: One-chip color area
- Sharpness: Soft
- ShutterSpeedValue: 1/60
- SubjectDistanceRange: Macro
- WhiteBalance: Auto
- ICC-header
- ICC-meas
- ICC-view
- IFD0
- BitsPerSample: 8 8 8
- ImageHeight: 2616
- ImageWidth: 2276
- Make: FUJIFILM
- Model: FinePix S9500
- ModifyDate: 2007:11:22 12:34:09
- Orientation: Horizontal (normal)
- PhotometricInterpretation: RGB
- PlanarConfiguration: Chunky
- SamplesPerPixel: 3
- IFD1
- IPTC
- XMP-crs
- AlreadyApplied: True
- BlueHue: 0
- BlueSaturation: 0
- Brightness: +118
- CameraProfile: ACR 3.3
- ChromaticAberrationB: -1
- ChromaticAberrationR: -18
- Clarity: 36
- ColorNoiseReduction: 100
- Contrast: +50
- ConvertToGrayscale: False
- Defringe: 0
- Exposure: -0.30
- FillLight: 18
- GreenHue: -8
- GreenSaturation: 0
- HasCrop: False
- HasSettings: True
- HighlightRecovery: 27
- HueAdjustmentAqua: +14
- HueAdjustmentBlue: -14
- HueAdjustmentGreen: +28
- HueAdjustmentMagenta: +13
- HueAdjustmentOrange: +20
- HueAdjustmentPurple: -22
- HueAdjustmentRed: 0
- HueAdjustmentYellow: 0
- LuminanceAdjustmentAqua: 0
- LuminanceAdjustmentBlue: 0
- LuminanceAdjustmentGreen: +34
- LuminanceAdjustmentMagenta: 0
- LuminanceAdjustmentOrange: -23
- LuminanceAdjustmentPurple: 0
- LuminanceAdjustmentRed: 0
- LuminanceAdjustmentYellow: 0
- LuminanceSmoothing: 38
- ParametricDarks: -1
- ParametricHighlightSplit: 75
- ParametricHighlights: -17
- ParametricLights: +16
- ParametricMidtoneSplit: 50
- ParametricShadowSplit: 25
- ParametricShadows: -25
- RawFileName: DSCF8982.RAF
- RedHue: 0
- RedSaturation: 0
- Saturation: 0
- SaturationAdjustmentAqua: +1
- SaturationAdjustmentBlue: 0
- SaturationAdjustmentGreen: -42
- SaturationAdjustmentMagenta: 0
- SaturationAdjustmentOrange: +15
- SaturationAdjustmentPurple: 0
- SaturationAdjustmentRed: -22
- SaturationAdjustmentYellow: +26
- ShadowTint: +3
- Shadows: 18
- SharpenDetail: 51
- SharpenEdgeMasking: 67
- SharpenRadius: +1.4
- Sharpness: 102
- SplitToningBalance: -38
- SplitToningHighlightHue: 192
- SplitToningHighlightSaturation: 0
- SplitToningShadowHue: 83
- SplitToningShadowSaturation: 18
- Temperature: 6150
- Tint: +8
- ToneCurve: 0, 0, 13, 11, 28, 20, 64, 56, 98, 100, 130, 126, 175, 174, 190, 194, 255, 255
- ToneCurveName: Custom
- Version: 4.1
- Vibrance: -12
- VignetteAmount: -62
- VignetteMidpoint: 40
- WhiteBalance: Custom
- XMP-dc
- XMP-exif
- DateTimeDigitized: 2007:11:16 15:14:04-08:00
- DateTimeOriginal: 2007:11:16 15:14:04-08:00
- FlashFired: False
- FlashFunction: False
- FlashMode: Off
- FlashRedEyeMode: False
- FlashReturn: No return detection
- XMP-tiff
- BitsPerSample: 8, 8, 8
- XMP-xmp
- CreateDate: 2007:11:22 12:34:09-08:00
- ModifyDate: 2007:11:22 12:34:09-08:00
- Rating: 0
- XMP-xmpMM
- Просмотров: 224
- Рейтинг: голосов еще нет
- Отзывов: 0
Получить код для блога
| Вставка фотографии в текущем разрешении |
Вставка миниатюры |
HTML (для вставки в блог):
BBCode (для вставки в форум):
Ссылка на фото:
Ссылка на миниатюру:
- Послать ссылку другу
| Комментарии к фотографии |