- Раздел: Животные
- Дата съёмки: неизвестно
- Дата загрузки фото: 05.01.2023 19:57
- Оригинальная фотография: 2600 x 2095 (3,1 Мб)
- Технические характеристики:
- Фотоаппарат: Canon EOS R3
- Выдержка: 0,0
- Гиперфокальное расстояние: inf m
- Диафрагма: 10,0
- Светочувствительность: 20000
- Фокусное расстояние: 700,0 mm (35 mm equivalent: 1400,0 mm)
- Полный EXIF
- Adobe
- ColorTransform: YCbCr
- Composite
- Aperture: 10,0
- CircleOfConfusion: 0,014 mm
- DOF: inf (0,00 m - inf)
- FOV: 1,0 deg
- FocalLength35efl: 700,0 mm (35 mm equivalent: 1400,0 mm)
- HyperfocalDistance: inf m
- LensID: Canon RF100-500mm F4.5-7.1 L IS USM + EXTENDER RF1.4x
- Megapixels: 5,4
- ScaleFactor35efl: 2,2
- ShutterSpeed: 0,0
- ExifIFD
- ApertureValue: 8,0
- ColorSpace: sRGB
- CreateDate: 2023:01:05 15:39:15
- CustomRendered: Normal
- ExposureCompensation: 0
- ExposureMode: Auto
- ExposureProgram: Not Defined
- ExposureTime: 0,0
- FNumber: 10,0
- Flash: No Flash
- FocalLength: 700,0 mm
- ISO: 20000
- LensInfo: 140-700mm f/6.3-10
- LensModel: RF100-500mm F4.5-7.1 L IS USM + EXTENDER RF1.4x
- MaxApertureValue: 8,0
- MeteringMode: Multi-segment
- RecommendedExposureIndex: 20000
- SceneCaptureType: Standard
- SensitivityType: Recommended Exposure Index
- SerialNumber: 116032000070
- ShutterSpeedValue: 1/256
- SubjectDistance: 5,01 m
- WhiteBalance: Auto
- ICC-header
- ICC-meas
- ICC-view
- IFD0
- Make: Canon
- Model: Canon EOS R3
- ModifyDate: 2023:01:05 19:37:52
- IFD1
- IPTC
- System
- XMP-DxO
- XMP-aux
- ApproximateFocusDistance: 5,01
- Firmware: 1.3.0
- FlashCompensation: 0
- ImageNumber: 0
- Lens: RF100-500mm F4.5-7.1 L IS USM + EXTENDER RF1.4x
- LensID: 61182
- XMP-crs
- AlreadyApplied: True
- AutoLateralCA: 0
- Blacks2012: -39
- BlueHue: 0
- BlueSaturation: 0
- Clarity2012: 0
- ColorGradeBlending: 50
- ColorGradeGlobalHue: 0
- ColorGradeGlobalLum: 0
- ColorGradeGlobalSat: 0
- ColorGradeHighlightLum: 0
- ColorGradeMidtoneHue: 0
- ColorGradeMidtoneLum: 0
- ColorGradeMidtoneSat: 0
- ColorGradeShadowLum: 0
- ColorNoiseReduction: 0
- ColorTemperature: 8074
- Contrast2012: +7
- CropAngle: 0
- CropBottom: 1
- CropConstrainToWarp: 0
- CropLeft: 0.172948
- CropRight: 1
- CropTop: 0
- DefringeGreenAmount: 2
- DefringeGreenHueHi: 99
- DefringeGreenHueLo: 10
- DefringePurpleAmount: 2
- DefringePurpleHueHi: 95
- DefringePurpleHueLo: 10
- Dehaze: 0
- Exposure2012: +0.13
- GrainAmount: 0
- GreenHue: 0
- GreenSaturation: 0
- HasCrop: True
- HasSettings: True
- Highlights2012: -80
- HueAdjustmentAqua: 0
- HueAdjustmentBlue: 0
- HueAdjustmentGreen: 0
- HueAdjustmentMagenta: 0
- HueAdjustmentOrange: 0
- HueAdjustmentPurple: 0
- HueAdjustmentRed: 0
- HueAdjustmentYellow: 0
- LensManualDistortionAmount: 0
- LensProfileEnable: 0
- LookAmount: 1
- LookParametersConvertToGrayscale: False
- LookParametersLookTable: E1095149FDB39D7A057BAB208837E2E1
- LookParametersProcessVersion: 11.0
- LookParametersToneCurvePV2012: 0, 0, 22, 16, 40, 35, 127, 127, 224, 230, 240, 246, 255, 255
- LookParametersVersion: 14.3
- LuminanceAdjustmentAqua: 0
- LuminanceAdjustmentBlue: 0
- LuminanceAdjustmentGreen: 0
- LuminanceAdjustmentMagenta: 0
- LuminanceAdjustmentOrange: 0
- LuminanceAdjustmentPurple: 0
- LuminanceAdjustmentRed: 0
- LuminanceAdjustmentYellow: 0
- LuminanceSmoothing: 0
- OverrideLookVignette: False
- ParametricDarks: 0
- ParametricHighlightSplit: 75
- ParametricHighlights: 0
- ParametricLights: 0
- ParametricMidtoneSplit: 50
- ParametricShadowSplit: 25
- ParametricShadows: 0
- PerspectiveAspect: 0
- PerspectiveHorizontal: 0
- PerspectiveRotate: 0.0
- PerspectiveScale: 100
- PerspectiveUpright: 0
- PerspectiveVertical: 0
- PerspectiveX: 0.00
- PerspectiveY: 0.00
- PostCropVignetteAmount: -20
- PostCropVignetteFeather: 50
- PostCropVignetteHighlightContrast: 0
- PostCropVignetteMidpoint: 50
- PostCropVignetteRoundness: 0
- PostCropVignetteStyle: 1
- ProcessVersion: 11.0
- RawFileName:
- RedHue: 0
- RedSaturation: 0
- Saturation: +28
- SaturationAdjustmentAqua: -52
- SaturationAdjustmentBlue: -46
- SaturationAdjustmentGreen: -37
- SaturationAdjustmentMagenta: 0
- SaturationAdjustmentOrange: 0
- SaturationAdjustmentPurple: 0
- SaturationAdjustmentRed: 0
- SaturationAdjustmentYellow: 0
- ShadowTint: 0
- Shadows2012: +90
- Sharpness: 0
- SplitToningBalance: 0
- SplitToningHighlightHue: 0
- SplitToningHighlightSaturation: 0
- SplitToningShadowHue: 0
- SplitToningShadowSaturation: 0
- Texture: 0
- Tint: +10
- ToneCurveName2012: Linear
- ToneCurvePV2012: 0, 0, 255, 255
- ToneCurvePV2012Blue: 0, 0, 255, 255
- ToneCurvePV2012Green: 0, 0, 255, 255
- ToneCurvePV2012Red: 0, 0, 255, 255
- Version: 14.3
- Vibrance: +30
- VignetteAmount: 0
- WhiteBalance: Custom
- Whites2012: +50
- XMP-dc
- XMP-exifEX
- XMP-xmp
- CreateDate: 2023:01:05 15:39:15.06+03:00
- ModifyDate: 2023:01:05 19:37:52+03:00
- XMP-xmpMM
- PreservedFileName: R3__2669.dng