- Раздел: Пейзаж
- Дата съёмки: неизвестно
- Дата загрузки фото: 19.04.2023 21:08
- Оригинальная фотография: 1623 x 1080 (994 Кб)
- Технические характеристики:
- Фотоаппарат: Nikon Df
- Выдержка: 0,0
- Гиперфокальное расстояние: inf m
- Диафрагма: 10,0
- Светочувствительность: 110
- Фокусное расстояние: 45,0 mm (35 mm equivalent: 45,0 mm)
- Полный EXIF
- Adobe
- ColorTransform: YCbCr
- Composite
- Aperture: 10,0
- CircleOfConfusion: 0,030 mm
- FOV: 43,0 deg
- FocalLength35efl: 45,0 mm (35 mm equivalent: 45,0 mm)
- HyperfocalDistance: inf m
- LensID: Nikkor 45mm f/2.8 P
- Megapixels: 1,8
- ScaleFactor35efl: 1,0
- ShutterSpeed: 0,0
- ExifIFD
- ApertureValue: 8,0
- CFAPattern: [Red,Green][Green,Blue]
- ColorSpace: sRGB
- Contrast: Normal
- CreateDate: 2022:09:08 10:51:51
- CustomRendered: Normal
- DateTimeOriginal: 2022:09:08 10:51:51
- DigitalZoomRatio: 1
- ExifImageHeight: 1080
- ExifImageWidth: 1623
- ExposureCompensation: 0
- ExposureMode: Auto
- ExposureProgram: Aperture-priority AE
- ExposureTime: 0,0
- FNumber: 10,0
- Flash: No Flash
- FocalLength: 45,0 mm
- FocalLengthIn35mmFormat: 45 mm
- GainControl: None
- ISO: 110
- LensInfo: 45mm f/2.8
- LensModel: 45.0 mm f/2.8
- LightSource: Unknown
- MaxApertureValue: 2,8
- MeteringMode: Multi-segment
- Saturation: Normal
- SceneCaptureType: Standard
- SceneType: Directly photographed
- SensingMethod: One-chip color area
- SensitivityType: Recommended Exposure Index
- SerialNumber: 6010747
- Sharpness: Normal
- ShutterSpeedValue: 1/32
- SubjectDistanceRange: Unknown
- WhiteBalance: Auto
- ICC-header
- ICC-meas
- ICC-view
- IFD0
- Artist: Andrey I. Khodak
- Make: NIKON CORPORATION
- Model: NIKON Df
- ModifyDate: 2023:02:26 12:04:48
- Orientation: Horizontal (normal)
- IFD1
- IPTC
- By-line: Andrey I. Khodak
- DateCreated: 2022:09:08
- System
- XMP-aux
- ApproximateFocusDistance: 4294967295
- DistortionCorrectionAlreadyApplied: True
- ImageNumber: 3205
- LateralChromaticAberrationCorrectionAlreadyApplied: True
- Lens: 45.0 mm f/2.8
- LensID: 114
- VignetteCorrectionAlreadyApplied: True
- XMP-crs
- AlreadyApplied: True
- AutoLateralCA: 0
- Blacks2012: 0
- BlueHue: 0
- BlueSaturation: 0
- Brightness: 0
- CameraProfile: Embedded
- Clarity: 0
- Clarity2012: 0
- ColorNoiseReduction: 0
- Contrast: 0
- Contrast2012: 0
- ConvertToGrayscale: False
- Defringe: 0
- Exposure: 0.00
- Exposure2012: 0.00
- FillLight: 0
- GrainAmount: 0
- GreenHue: 0
- GreenSaturation: 0
- HasCrop: False
- HasSettings: True
- HighlightRecovery: 5
- Highlights2012: 0
- HueAdjustmentAqua: 0
- HueAdjustmentBlue: 0
- HueAdjustmentGreen: 0
- HueAdjustmentMagenta: 0
- HueAdjustmentOrange: 0
- HueAdjustmentPurple: 0
- HueAdjustmentRed: 0
- HueAdjustmentYellow: 0
- IncrementalTemperature: +5
- IncrementalTint: +3
- LensManualDistortionAmount: 0
- LensProfileEnable: 0
- LensProfileSetup: LensDefaults
- LuminanceAdjustmentAqua: 0
- LuminanceAdjustmentBlue: 0
- LuminanceAdjustmentGreen: 0
- LuminanceAdjustmentMagenta: 0
- LuminanceAdjustmentOrange: 0
- LuminanceAdjustmentPurple: 0
- LuminanceAdjustmentRed: 0
- LuminanceAdjustmentYellow: 0
- LuminanceSmoothing: 0
- ParametricDarks: 0
- ParametricHighlightSplit: 75
- ParametricHighlights: 0
- ParametricLights: 0
- ParametricMidtoneSplit: 50
- ParametricShadowSplit: 25
- ParametricShadows: 0
- PerspectiveHorizontal: 0
- PerspectiveRotate: 0.0
- PerspectiveScale: 100
- PerspectiveVertical: 0
- PostCropVignetteAmount: 0
- ProcessVersion: 5.7
- RawFileName: DSC_3418.tif
- RedHue: 0
- RedSaturation: 0
- Saturation: 0
- SaturationAdjustmentAqua: 0
- SaturationAdjustmentBlue: 0
- SaturationAdjustmentGreen: 0
- SaturationAdjustmentMagenta: 0
- SaturationAdjustmentOrange: 0
- SaturationAdjustmentPurple: 0
- SaturationAdjustmentRed: 0
- SaturationAdjustmentYellow: 0
- ShadowTint: 0
- Shadows: 0
- Shadows2012: 0
- SharpenDetail: 25
- SharpenEdgeMasking: 0
- SharpenRadius: +1.0
- Sharpness: 0
- SplitToningBalance: 0
- SplitToningHighlightHue: 0
- SplitToningHighlightSaturation: 0
- SplitToningShadowHue: 0
- SplitToningShadowSaturation: 0
- ToneCurve: 0, 0, 255, 255
- ToneCurveBlue: 0, 0, 255, 255
- ToneCurveGreen: 0, 0, 255, 255
- ToneCurveName: Linear
- ToneCurveName2012: Linear
- ToneCurvePV2012: 0, 0, 255, 255
- ToneCurvePV2012Blue: 0, 0, 255, 255
- ToneCurvePV2012Green: 0, 0, 255, 255
- ToneCurvePV2012Red: 0, 0, 255, 255
- ToneCurveRed: 0, 0, 255, 255
- Version: 6.7
- Vibrance: 0
- VignetteAmount: 0
- WhiteBalance: Custom
- Whites2012: 0
- XMP-dc
- Creator: Andrey I. Khodak
- Format: image/jpeg
- XMP-xmp
- CreateDate: 2022:09:08 10:51:51.50
- ModifyDate: 2023:02:26 12:04:48+03:00
- Rating: 5
- XMP-xmpMM
- Просмотров: 833
- Рейтинг: голосов еще нет
- Отзывов: 0