- Раздел: Другое, разное
- Дата съёмки: неизвестно
- Дата загрузки фото: 10.08.2023 12:09
- Оригинальная фотография: 8256 x 5504 (16,5 Мб)
- Технические характеристики:
- Фотоаппарат: Nikon Z 8
- Выдержка: 0,0
- Гиперфокальное расстояние: inf m
- Диафрагма: 8,0
- Светочувствительность: 64
- Фокусное расстояние: 560,0 mm (35 mm equivalent: 560,0 mm)
- Полный EXIF
- Adobe
- ColorTransform: YCbCr
- Composite
- Aperture: 8,0
- CircleOfConfusion: 0,030 mm
- FOV: 3,0 deg
- FocalLength35efl: 560,0 mm (35 mm equivalent: 560,0 mm)
- GPSAltitude: 8 m Below Sea Level
- GPSDateTime: 2023:07:31 13:34:32Z
- GPSLatitude: 63 deg 2' 5,00" N
- GPSLongitude: 32 deg 37' 19,00" E
- GPSPosition: 63 deg 2' 5,00" N, 32 deg 37' 19,00" E
- HyperfocalDistance: inf m
- Megapixels: 45,4
- ScaleFactor35efl: 1,0
- ShutterSpeed: 0,0
- ExifIFD
- ApertureValue: 8,0
- CFAPattern: [Red,Green][Green,Blue]
- ColorSpace: sRGB
- Contrast: Normal
- CreateDate: 2023:07:31 16:54:50
- CustomRendered: Custom
- DateTimeOriginal: 2023:07:31 16:54:50
- ExposureCompensation: 0
- ExposureMode: Auto
- ExposureProgram: Aperture-priority AE
- ExposureTime: 0,0
- FNumber: 8,0
- Flash: No Flash
- FocalLength: 560,0 mm
- FocalLengthIn35mmFormat: 560 mm
- GainControl: None
- ISO: 64
- LensInfo: 100-400mm f/4.5-5.6
- LensMake: NIKON
- LensModel: NIKKOR Z 100-400mm f/4.5-5.6 VR S Z TC-1.4x
- LensSerialNumber: 20031593
- LightSource: Unknown
- MeteringMode: Multi-segment
- RecommendedExposureIndex: 64
- Saturation: Normal
- SceneCaptureType: Standard
- SceneType: Directly photographed
- SensingMethod: One-chip color area
- SensitivityType: Recommended Exposure Index
- SerialNumber: 2002813
- Sharpness: Normal
- ShutterSpeedValue: 1/64
- SubjectDistanceRange: Unknown
- WhiteBalance: Auto
- GPS
- GPSAltitude: 8 m
- GPSAltitudeRef: Below Sea Level
- GPSDateStamp: 2023:07:31
- GPSLatitude: 63 deg 2' 5,00"
- GPSLatitudeRef: North
- GPSLongitude: 32 deg 37' 19,00"
- GPSLongitudeRef: East
- GPSMapDatum: WGS-84
- GPSSatellites: 00
- GPSTimeStamp: 13:34:32
- GPSVersionID: 2.3.0.0
- ICC-header
- ICC-meas
- ICC-view
- IFD0
- Make: NIKON CORPORATION
- Model: NIKON Z 8
- ModifyDate: 2023:08:06 16:43:39
- IFD1
- IPTC
- DateCreated: 2023:07:31
- Keywords: 2023.summer, Karelia, tests, z100-400
- System
- XMP-aux
- DistortionCorrectionAlreadyApplied: True
- ImageNumber: 1330
- LateralChromaticAberrationCorrectionAlreadyApplied: True
- Lens: NIKKOR Z 100-400mm f/4.5-5.6 VR S Z TC-1.4x
- VignetteCorrectionAlreadyApplied: True
- XMP-crs
- AlreadyApplied: True
- AutoLateralCA: 0
- Blacks2012: 0
- BlueHue: 0
- BlueSaturation: 0
- Clarity2012: 0
- ColorGradeBlending: 50
- ColorGradeGlobalHue: 0
- ColorGradeGlobalLum: 0
- ColorGradeGlobalSat: 0
- ColorGradeHighlightLum: 0
- ColorGradeMidtoneHue: 0
- ColorGradeMidtoneLum: 0
- ColorGradeMidtoneSat: 0
- ColorGradeShadowLum: 0
- ColorNoiseReduction: 25
- ColorNoiseReductionDetail: 50
- ColorNoiseReductionSmoothness: 50
- ColorTemperature: 4750
- Contrast2012: 0
- CropAngle: 0
- CropBottom: 1
- CropConstrainToWarp: 0
- CropLeft: 0
- CropRight: 1
- CropTop: 0
- DefringeGreenAmount: 0
- DefringeGreenHueHi: 60
- DefringeGreenHueLo: 40
- DefringePurpleAmount: 0
- DefringePurpleHueHi: 70
- DefringePurpleHueLo: 30
- Dehaze: 0
- Exposure2012: 0.00
- GrainAmount: 0
- GreenHue: 0
- GreenSaturation: 0
- HasCrop: False
- HasSettings: True
- Highlights2012: -25
- HueAdjustmentAqua: 0
- HueAdjustmentBlue: 0
- HueAdjustmentGreen: 0
- HueAdjustmentMagenta: 0
- HueAdjustmentOrange: 0
- HueAdjustmentPurple: 0
- HueAdjustmentRed: 0
- HueAdjustmentYellow: 0
- LensManualDistortionAmount: 0
- LensProfileDistortionScale: 100
- LensProfileEnable: 1
- LensProfileIsEmbedded: True
- LensProfileName: Camera Settings
- LensProfileSetup: LensDefaults
- LensProfileVignettingScale: 100
- LookAmount: 1
- LookGroup: Profiles
- LookParametersConvertToGrayscale: False
- LookParametersLookTable: E1095149FDB39D7A057BAB208837E2E1
- LookParametersProcessVersion: 15.4
- LookParametersToneCurvePV2012: 0, 0, 22, 16, 40, 35, 127, 127, 224, 230, 240, 246, 255, 255
- LookParametersToneCurvePV2012Blue: 0, 0, 255, 255
- LookParametersToneCurvePV2012Green: 0, 0, 255, 255
- LookParametersToneCurvePV2012Red: 0, 0, 255, 255
- LookParametersVersion: 15.4
- LookSupportsAmount: false
- LookSupportsMonochrome: false
- LookSupportsOutputReferred: false
- LuminanceAdjustmentAqua: 0
- LuminanceAdjustmentBlue: 0
- LuminanceAdjustmentGreen: 0
- LuminanceAdjustmentMagenta: 0
- LuminanceAdjustmentOrange: 0
- LuminanceAdjustmentPurple: 0
- LuminanceAdjustmentRed: 0
- LuminanceAdjustmentYellow: 0
- LuminanceSmoothing: 0
- OverrideLookVignette: False
- ParametricDarks: 0
- ParametricHighlightSplit: 75
- ParametricHighlights: 0
- ParametricLights: 0
- ParametricMidtoneSplit: 50
- ParametricShadowSplit: 25
- ParametricShadows: 0
- PerspectiveAspect: 0
- PerspectiveHorizontal: 0
- PerspectiveRotate: 0.0
- PerspectiveScale: 100
- PerspectiveUpright: 0
- PerspectiveVertical: 0
- PerspectiveX: 0.00
- PerspectiveY: 0.00
- PostCropVignetteAmount: 0
- ProcessVersion: 15.4
- RawFileName: DSC_1329.NEF
- RedHue: 0
- RedSaturation: 0
- Saturation: 0
- SaturationAdjustmentAqua: 0
- SaturationAdjustmentBlue: 0
- SaturationAdjustmentGreen: 0
- SaturationAdjustmentMagenta: 0
- SaturationAdjustmentOrange: 0
- SaturationAdjustmentPurple: 0
- SaturationAdjustmentRed: 0
- SaturationAdjustmentYellow: 0
- ShadowTint: 0
- Shadows2012: +43
- SharpenDetail: 25
- SharpenEdgeMasking: 0
- SharpenRadius: +1.0
- Sharpness: 40
- SplitToningBalance: 0
- SplitToningHighlightHue: 0
- SplitToningHighlightSaturation: 0
- SplitToningShadowHue: 0
- SplitToningShadowSaturation: 0
- Texture: +17
- Tint: +12
- ToneCurveName2012: Linear
- ToneCurvePV2012: 0, 0, 255, 255
- ToneCurvePV2012Blue: 0, 0, 255, 255
- ToneCurvePV2012Green: 0, 0, 255, 255
- ToneCurvePV2012Red: 0, 0, 255, 255
- Version: 15.4
- Vibrance: 0
- VignetteAmount: 0
- WhiteBalance: As Shot
- Whites2012: 0
- XMP-dc
- Format: image/jpeg
- Subject: 2023.summer, Karelia, tests, z100-400
- XMP-exifEX
- XMP-lr
- WeightedFlatSubject: 2023.summer, Karelia, z100-400, tests
- XMP-xmp
- CreateDate: 2023:07:31 16:54:50.27+03:00
- Label: Green
- ModifyDate: 2023:08:06 16:43:39+03:00
- XMP-xmpMM
- PreservedFileName: DSC_1329.NEF
- Просмотров: 42
- Рейтинг: голосов еще нет
- Отзывов: отключены