| » Участники » Kvint0 » X-M1 » DSCF2305.jpg |
Уважаемые друзья и участники проекта iXBT.photo! К сожалению, 1 марта 2026 года проект iXBT.photo прекратит свою работу и будет закрыт. Мы высоко ценим ваше участие и тот вклад, который вы внесли в развитие нашего сообщества. Пожалуйста, не забудьте сохранить ваши фотографии до этой даты.
С уважением, команда iXBT.com
| DSCF2305.jpg |
DSCF2305.jpg
- Раздел: Другое, разное
- Дата съёмки: неизвестно
- Дата загрузки фото: 29.09.2023 17:09
- Оригинальная фотография: 4850 x 3031 (2,1 Мб)
- Технические характеристики:
- Фотоаппарат: FujiFilm X-M1
- Выдержка: 0,0
- Гиперфокальное расстояние: inf m
- Диафрагма: 1,0
- Светочувствительность: 200
- Фокусное расстояние: 23,0 mm (35 mm equivalent: 23,0 mm)
- Полный EXIF
- Adobe
- ColorTransform: YCbCr
- Composite
- Aperture: 1,0
- CircleOfConfusion: 0,020 mm
- FocalLength35efl: 23,0 mm (35 mm equivalent: 23,0 mm)
- FOV: 76,0 deg
- HyperfocalDistance: inf m
- Megapixels: 14,7
- ScaleFactor35efl: 1,5
- ShutterSpeed: 0,0
- ExifIFD
- ApertureValue: 1,0
- BrightnessValue: 5,69
- ColorSpace: sRGB
- CreateDate: 2023:09:24 11:48:57
- CustomRendered: Normal
- DateTimeOriginal: 2023:09:24 11:48:57
- ExposureCompensation: 0
- ExposureMode: Auto
- ExposureProgram: Aperture-priority AE
- ExposureTime: 0,0
- Flash: Off, Did not fire
- FNumber: 1,0
- FocalLength: 23,0 mm
- FocalLengthIn35mmFormat: 35 mm
- ISO: 200
- LensInfo: 23mm f/?
- LensModel: 23.0 mm
- LightSource: Unknown
- MeteringMode: Average
- SceneCaptureType: Standard
- SceneType: Directly photographed
- SensingMethod: One-chip color area
- SensitivityType: Standard Output Sensitivity
- Sharpness: Normal
- ShutterSpeedValue: 1/2048
- SubjectDistanceRange: Unknown
- WhiteBalance: Auto
- ICC-header
- ICC-meas
- ICC-view
- IFD0
- Make: FUJIFILM
- Model: X-M1
- ModifyDate: 2023:09:29 13:46:13
- IFD1
- IPTC
- DateCreated: 2023:09:24
- System
- XMP-aux
- EnhanceDenoiseAlreadyApplied: True
- EnhanceDenoiseLumaAmount: 29
- EnhanceDenoiseVersion: 251658240
- EnhanceDetailsAlreadyApplied: True
- EnhanceDetailsVersion: 218300416
- FujiRatingAlreadyApplied: True
- LateralChromaticAberrationCorrectionAlreadyApplied: True
- Lens: 23.0 mm
- XMP-crs
- AlreadyApplied: True
- AutoLateralCA: 1
- Blacks2012: +14
- BlueHue: 0
- BlueSaturation: 0
- Clarity2012: +15
- ColorGradeBlending: 50
- ColorGradeGlobalHue: 0
- ColorGradeGlobalLum: 0
- ColorGradeGlobalSat: 0
- ColorGradeHighlightLum: 0
- ColorGradeMidtoneHue: 0
- ColorGradeMidtoneLum: 0
- ColorGradeMidtoneSat: 0
- ColorGradeShadowLum: 0
- ColorNoiseReduction: 0
- ColorTemperature: 5300
- CompatibleVersion: 251658240
- Contrast2012: 0
- CropAngle: -0.359107
- CropBottom: 0.928768
- CropConstrainToWarp: 0
- CropHeight: 10
- CropLeft: 0
- CropRight: 0.994568
- CropTop: 0.009314
- CropUnit: Unknown (3)
- CropWidth: 16
- Dehaze: 0
- Exposure2012: +0.55
- GrainAmount: 0
- GrayMixerAqua: 0
- GrayMixerBlue: 0
- GrayMixerGreen: 0
- GrayMixerMagenta: 0
- GrayMixerOrange: 0
- GrayMixerPurple: 0
- GrayMixerRed: 0
- GrayMixerYellow: 0
- GreenHue: 0
- GreenSaturation: 0
- HasCrop: True
- HasSettings: True
- Highlights2012: -15
- LensManualDistortionAmount: 0
- LensProfileEnable: 0
- LookAmount: 1
- LookGroup: B&W
- LookName: B&W 11
- LookParametersClarity2012: +18
- LookParametersContrast2012: +8
- LookParametersConvertToGrayscale: True
- LookParametersHighlights2012: -50
- LookParametersLookTable: 62CE423BDCA099FE0B786CA01EB606B0
- LookParametersProcessVersion: 15.4
- LookParametersShadows2012: +20
- LookParametersToneCurvePV2012: 0, 24, 17, 26, 34, 31, 51, 40, 68, 57, 85, 79, 102, 104, 119, 129, 136, 151, 153, 168, 170, 182, 187, 194, 204, 205, 221, 214, 238, 223, 255, 232
- LookParametersToneCurvePV2012Blue: 0, 0, 255, 255
- LookParametersToneCurvePV2012Green: 0, 0, 255, 255
- LookParametersToneCurvePV2012Red: 0, 0, 255, 255
- LookParametersVersion: 15.5.1
- LookSortName: B&W 11
- LookSupportsMonochrome: false
- LuminanceSmoothing: 0
- OverrideLookVignette: False
- ParametricDarks: 0
- ParametricHighlights: 0
- ParametricHighlightSplit: 75
- ParametricLights: 0
- ParametricMidtoneSplit: 50
- ParametricShadows: 0
- ParametricShadowSplit: 25
- PerspectiveAspect: 0
- PerspectiveHorizontal: 0
- PerspectiveRotate: 0.0
- PerspectiveScale: 100
- PerspectiveUpright: 0
- PerspectiveVertical: 0
- PerspectiveX: 0.00
- PerspectiveY: 0.00
- PostCropVignetteAmount: 0
- ProcessVersion: 15.4
- RawFileName: DSCF2305-Улучшено-NR.dng
- RedHue: 0
- RedSaturation: 0
- Shadows2012: +17
- ShadowTint: 0
- SharpenDetail: 53
- SharpenEdgeMasking: 0
- SharpenRadius: +0.5
- Sharpness: 40
- SplitToningBalance: 0
- SplitToningHighlightHue: 0
- SplitToningHighlightSaturation: 0
- SplitToningShadowHue: 0
- SplitToningShadowSaturation: 0
- Texture: +9
- Tint: +25
- ToneCurveName2012: Linear
- ToneCurvePV2012: 0, 0, 255, 255
- ToneCurvePV2012Blue: 0, 0, 255, 255
- ToneCurvePV2012Green: 0, 0, 255, 255
- ToneCurvePV2012Red: 0, 0, 255, 255
- Version: 15.5.1
- VignetteAmount: 0
- WhiteBalance: Custom
- Whites2012: +37
- XMP-dc
- XMP-xmp
- ModifyDate: 2023:09:29 13:46:13Z
- XMP-xmpMM
- Просмотров: 25
- Рейтинг: голосов еще нет
- Отзывов: отключены
Получить код для блога
| Вставка фотографии в текущем разрешении |
Вставка миниатюры |
HTML (для вставки в блог):
BBCode (для вставки в форум):
Ссылка на фото:
Ссылка на миниатюру:
- Послать ссылку другу
| Комментарии к фотографии |