- Раздел: Активный отдых, туризм
- Дата съёмки: неизвестно
- Дата загрузки фото: 30.09.2023 14:01
- Оригинальная фотография: 5184 x 3888 (6,3 Мб)
- Технические характеристики:
- Фотоаппарат: Panasonic DC-GX9
- Выдержка: 0,0
- Гиперфокальное расстояние: inf m
- Диафрагма: 6,3
- Светочувствительность: 200
- Фокусное расстояние: 14,0 mm (35 mm equivalent: 28,0 mm)
- Полный EXIF
- Adobe
- ColorTransform: YCbCr
- Composite
- Aperture: 6,3
- CircleOfConfusion: 0,015 mm
- FocalLength35efl: 14,0 mm (35 mm equivalent: 28,0 mm)
- FOV: 65,0 deg
- GPSAltitude: 205 m Above Sea Level
- GPSLatitude: 54 deg 45' 32,00" N
- GPSLatitudeRef: North
- GPSLongitude: 38 deg 24' 32,00" E
- GPSLongitudeRef: East
- GPSPosition: 54 deg 45' 32,00" N, 38 deg 24' 32,00" E
- HyperfocalDistance: inf m
- Megapixels: 20,2
- ScaleFactor35efl: 2,0
- ShutterSpeed: 0,0
- ExifIFD
- ApertureValue: 5,7
- ColorSpace: sRGB
- Contrast: Normal
- CreateDate: 2023:09:22 15:07:59
- CustomRendered: Normal
- DateTimeOriginal: 2023:09:22 15:07:59
- DigitalZoomRatio: 0
- ExifImageHeight: 3888
- ExifImageWidth: 5184
- ExposureCompensation: 0
- ExposureMode: Auto
- ExposureProgram: Aperture-priority AE
- ExposureTime: 0,0
- Flash: Off, Did not fire
- FNumber: 6,3
- FocalLength: 14,0 mm
- FocalLengthIn35mmFormat: 28 mm
- GainControl: Low gain up
- ISO: 200
- LensModel: LUMIX G VARIO 14-45/F3.5-5.6
- LensSerialNumber: 01HG1012199
- LightSource: Unknown
- MaxApertureValue: 2,8
- MeteringMode: Multi-segment
- Saturation: Normal
- SceneCaptureType: Standard
- SceneType: Directly photographed
- SensingMethod: One-chip color area
- SerialNumber: XGR1806110041
- Sharpness: Normal
- ShutterSpeedValue: 1/256
- WhiteBalance: Auto
- GPS
- GPSAltitude: 205,6 m
- GPSAltitudeRef: Above Sea Level
- GPSLatitude: 54 deg 45' 32,00"
- GPSLongitude: 38 deg 24' 32,00"
- GPSMapDatum: WGS-84
- GPSSpeed: 9,7481
- GPSSpeedRef: km/h
- GPSVersionID: 2.3.0.0
- ICC-header
- ICC-meas
- ICC-view
- IFD0
- Make: Panasonic
- Model: DC-GX9
- ModifyDate: 2023:09:24 20:10:13
- Orientation: Horizontal (normal)
- IFD1
- IPTC
- DateCreated: 2023:09:22
- System
- XMP-aux
- DistortionCorrectionAlreadyApplied: True
- LateralChromaticAberrationCorrectionAlreadyApplied: True
- Lens: LUMIX G VARIO 14-45/F3.5-5.6
- VignetteCorrectionAlreadyApplied: True
- XMP-crs
- AlreadyApplied: True
- AutoLateralCA: 1
- Blacks2012: 0
- BlueHue: 0
- BlueSaturation: 0
- CameraProfile: Camera Scenery
- Clarity2012: 0
- ColorNoiseReduction: 25
- ColorNoiseReductionDetail: 50
- ColorNoiseReductionSmoothness: 50
- ColorTemperature: 4650
- Contrast2012: +28
- ConvertToGrayscale: False
- DefringeGreenAmount: 1
- DefringeGreenHueHi: 60
- DefringeGreenHueLo: 40
- DefringePurpleAmount: 1
- DefringePurpleHueHi: 70
- DefringePurpleHueLo: 30
- Dehaze: 0
- Exposure2012: +0.60
- GrainAmount: 0
- GreenHue: 0
- GreenSaturation: 0
- HasCrop: False
- HasSettings: True
- Highlights2012: -92
- HueAdjustmentAqua: 0
- HueAdjustmentBlue: 0
- HueAdjustmentGreen: 0
- HueAdjustmentMagenta: 0
- HueAdjustmentOrange: 0
- HueAdjustmentPurple: 0
- HueAdjustmentRed: 0
- HueAdjustmentYellow: 0
- LensManualDistortionAmount: 0
- LensProfileEnable: 1
- LensProfileSetup: LensDefaults
- LuminanceAdjustmentAqua: 0
- LuminanceAdjustmentBlue: 0
- LuminanceAdjustmentGreen: 0
- LuminanceAdjustmentMagenta: 0
- LuminanceAdjustmentOrange: 0
- LuminanceAdjustmentPurple: 0
- LuminanceAdjustmentRed: 0
- LuminanceAdjustmentYellow: 0
- LuminanceSmoothing: 0
- OverrideLookVignette: False
- ParametricDarks: 0
- ParametricHighlights: 0
- ParametricHighlightSplit: 75
- ParametricLights: 0
- ParametricMidtoneSplit: 50
- ParametricShadows: 0
- ParametricShadowSplit: 25
- PerspectiveAspect: 0
- PerspectiveHorizontal: 0
- PerspectiveRotate: 0.0
- PerspectiveScale: 100
- PerspectiveUpright: 0
- PerspectiveVertical: 0
- PerspectiveX: 0.00
- PerspectiveY: 0.00
- PostCropVignetteAmount: 0
- ProcessVersion: 10.0
- RawFileName: _0000687.RW2
- RedHue: 0
- RedSaturation: 0
- Saturation: 0
- SaturationAdjustmentAqua: 0
- SaturationAdjustmentBlue: 0
- SaturationAdjustmentGreen: 0
- SaturationAdjustmentMagenta: 0
- SaturationAdjustmentOrange: 0
- SaturationAdjustmentPurple: 0
- SaturationAdjustmentRed: 0
- SaturationAdjustmentYellow: 0
- Shadows2012: +38
- ShadowTint: 0
- SharpenDetail: 25
- SharpenEdgeMasking: 0
- SharpenRadius: +1.0
- Sharpness: 40
- SplitToningBalance: 0
- SplitToningHighlightHue: 0
- SplitToningHighlightSaturation: 0
- SplitToningShadowHue: 0
- SplitToningShadowSaturation: 0
- Tint: +9
- ToneCurve: 0, 0, 32, 22, 64, 56, 128, 128, 192, 196, 255, 255
- ToneCurveBlue: 0, 0, 255, 255
- ToneCurveGreen: 0, 0, 255, 255
- ToneCurveName: Medium Contrast
- ToneCurveName2012: Linear
- ToneCurvePV2012: 0, 0, 255, 255
- ToneCurvePV2012Blue: 0, 0, 255, 255
- ToneCurvePV2012Green: 0, 0, 255, 255
- ToneCurvePV2012Red: 0, 0, 255, 255
- ToneCurveRed: 0, 0, 255, 255
- ToneMapStrength: 0
- Version: 10.5
- Vibrance: 0
- VignetteAmount: +10
- VignetteMidpoint: 50
- WhiteBalance: Custom
- Whites2012: 0
- XMP-dc
- XMP-exif
- XMP-exifEX
- XMP-x
- XMP-xmp
- ModifyDate: 2023:09:24 20:10:13+03:00
- Rating: 0
- XMP-xmpMM
- Просмотров: 10
- Рейтинг: голосов еще нет
- Отзывов: отключены