- Раздел: Животные
- Дата съёмки: 02.01.2008 12:06
- Дата загрузки фото: 11.01.2008 22:55
- Оригинальная фотография: 2509 x 2848 (1,1 Мб)
- Технические характеристики:
- Фотоаппарат: Sony DSLR-A700
- Выдержка: 1/800
- Гиперфокальное расстояние: 56,73 m
- Диафрагма: 2,2
- Светочувствительность: 100
- Фокусное расстояние: 50,0mm (35mm эквивалент: 75,0mm)
- Экспокоррекция: 0,3
- Полный EXIF
- Adobe
- ColorTransform: YCbCr
- Composite
- Aperture: 2,2
- CircleOfConfusion: 0,020 mm
- FocalLength35efl: 50,0mm (35mm equivalent: 75,0mm)
- HyperfocalDistance: 56,73 m
- LightValue: 11,9
- ScaleFactor35efl: 1,5
- ShutterSpeed: 1/800
- ExifIFD
- ApertureValue: 2,2
- BrightnessValue: 7,37
- Contrast: Normal
- CreateDate: 2008:01:02 12:06:31
- CustomRendered: Normal
- DateTimeOriginal: 2008:01:02 12:06:31
- DigitalZoomRatio: 0
- ExposureCompensation: 0,3
- ExposureMode: Auto
- ExposureProgram: Aperture-priority AE
- ExposureTime: 1/800
- FNumber: 2,2
- Flash: Off
- FocalLength: 50,0mm
- FocalLengthIn35mmFormat: 75mm
- ISO: 100
- LightSource: Unknown (0)
- MaxApertureValue: 1,4
- MeteringMode: Multi-segment
- Saturation: Normal
- SceneCaptureType: Standard
- SceneType: Directly photographed
- Sharpness: Normal
- ShutterSpeedValue: 1/800
- WhiteBalance: Auto
- ICC-header
- ICC-meas
- ICC-view
- IFD0
- ImageDescription: SONY DSC
- Make: SONY
- Model: DSLR-A700
- ModifyDate: 2008:01:11 22:44:40
- Software: DSLR-A700 v01
- IPTC
- Caption-Abstract: SONY DSC
- XMP-crs
- AlreadyApplied: True
- BlueHue: 0
- BlueSaturation: 0
- Brightness: +50
- CameraProfile: ACR 4.2
- ChromaticAberrationB: 0
- ChromaticAberrationR: 0
- Clarity: 0
- ColorNoiseReduction: 25
- Contrast: +25
- ConvertToGrayscale: False
- CropAngle: 0
- CropBottom: 1
- CropLeft: 0.24557
- CropRight: 0.832911
- CropTop: 0
- Defringe: 0
- Exposure: -0.60
- FillLight: 0
- GreenHue: 0
- GreenSaturation: 0
- HasCrop: True
- HasSettings: True
- HighlightRecovery: 0
- HueAdjustmentAqua: 0
- HueAdjustmentBlue: 0
- HueAdjustmentGreen: 0
- HueAdjustmentMagenta: 0
- HueAdjustmentOrange: 0
- HueAdjustmentPurple: 0
- HueAdjustmentRed: 0
- HueAdjustmentYellow: 0
- LuminanceAdjustmentAqua: 0
- LuminanceAdjustmentBlue: 0
- LuminanceAdjustmentGreen: 0
- LuminanceAdjustmentMagenta: 0
- LuminanceAdjustmentOrange: 0
- LuminanceAdjustmentPurple: 0
- LuminanceAdjustmentRed: 0
- LuminanceAdjustmentYellow: 0
- LuminanceSmoothing: 0
- ParametricDarks: -6
- ParametricHighlightSplit: 75
- ParametricHighlights: 0
- ParametricLights: 0
- ParametricMidtoneSplit: 50
- ParametricShadowSplit: 25
- ParametricShadows: 0
- RawFileName: DSC01267.ARW
- RedHue: 0
- RedSaturation: 0
- Saturation: 0
- SaturationAdjustmentAqua: 0
- SaturationAdjustmentBlue: 0
- SaturationAdjustmentGreen: 0
- SaturationAdjustmentMagenta: 0
- SaturationAdjustmentOrange: 0
- SaturationAdjustmentPurple: 0
- SaturationAdjustmentRed: 0
- SaturationAdjustmentYellow: 0
- ShadowTint: 0
- Shadows: 5
- SharpenDetail: 25
- SharpenEdgeMasking: 0
- SharpenRadius: +1.0
- Sharpness: 25
- SplitToningBalance: 0
- SplitToningHighlightHue: 0
- SplitToningHighlightSaturation: 0
- SplitToningShadowHue: 0
- SplitToningShadowSaturation: 0
- Temperature: 6550
- Tint: +4
- ToneCurve: 0, 0, 32, 22, 64, 56, 128, 128, 192, 196, 255, 255
- ToneCurveName: Medium Contrast
- Version: 4.3.1
- Vibrance: 0
- VignetteAmount: 0
- WhiteBalance: As Shot
- XMP-dc
- XMP-exif
- DateTimeDigitized: 2008:01:02 12:06:31+03:00
- DateTimeOriginal: 2008:01:02 12:06:31+03:00
- FlashFired: False
- FlashFunction: False
- FlashMode: Off
- FlashRedEyeMode: False
- FlashReturn: No return detection
- FocalLengthIn35mmFormat: 75
- XMP-tiff
- ImageHeight: 2848
- ImageWidth: 2509
- XMP-xmp
- CreatorTool: DSLR-A700 v01
- ModifyDate: 2008:01:11 22:44:40+03:00
- Rating: 0
- Просмотров: 417
- Рейтинг: голосов еще нет
- Отзывов: 0