- Раздел: Пейзаж
- Дата съёмки: неизвестно
- Дата загрузки фото: 27.10.2023 22:26
- Оригинальная фотография: 1920 x 1080 (391 Кб)
- Технические характеристики:
- Фотоаппарат: DJI AC002
- Выдержка: 0,0
- Гиперфокальное расстояние: inf m
- Диафрагма: 2,8
- Светочувствительность: 100
- Фокусное расстояние: 2,0 mm (35 mm equivalent: 12,0 mm)
- Полный EXIF
- Adobe
- ColorTransform: YCbCr
- Composite
- Aperture: 2,8
- CircleOfConfusion: 0,005 mm
- FocalLength35efl: 2,0 mm (35 mm equivalent: 12,0 mm)
- FOV: 112,0 deg
- GPSAltitude: 0 m Above Sea Level
- GPSLatitude: 0 deg 0' 0,00" N
- GPSLongitude: 0 deg 0' 0,00" E
- GPSPosition: 0 deg 0' 0,00" N, 0 deg 0' 0,00" E
- HyperfocalDistance: inf m
- Megapixels: 2,1
- ScaleFactor35efl: 6,0
- ShutterSpeed: 0,0
- ExifIFD
- ApertureValue: 2,0
- ColorSpace: sRGB
- Contrast: Normal
- CreateDate: 2023:08:21 18:47:27
- CustomRendered: Normal
- DateTimeOriginal: 2023:08:21 18:47:27
- DigitalZoomRatio: 1
- ExifImageHeight: 1080
- ExifImageWidth: 1920
- ExposureCompensation: 0
- ExposureMode: Auto
- ExposureProgram: Program AE
- ExposureTime: 0,0
- Flash: No flash function
- FNumber: 2,8
- FocalLength: 2,0 mm
- FocalLengthIn35mmFormat: 12 mm
- GainControl: None
- ISO: 100
- LensInfo: 2.34mm f/2.8
- LensModel: 2.3 mm f/2.8
- LightSource: Daylight
- MaxApertureValue: 2,0
- MeteringMode: Average
- Saturation: Normal
- SceneCaptureType: Standard
- SceneType: Directly photographed
- SensitivityType: Recommended Exposure Index
- SerialNumber: 5SGTKAU1A100N3
- Sharpness: Hard
- ShutterSpeedValue: 1/128
- SubjectDistance: 0 m
- WhiteBalance: Auto
- GPS
- GPSAltitude: 0 m
- GPSAltitudeRef: Above Sea Level
- GPSLatitude: 0 deg 0' 0,00"
- GPSLatitudeRef: South
- GPSLongitude: 0 deg 0' 0,00"
- GPSLongitudeRef: West
- GPSMapDatum: WGS-84
- GPSStatus: Measurement Void
- GPSVersionID: 2.3.0.0
- ICC-header
- ICC-meas
- ICC-view
- IFD0
- ImageDescription: default
- Make: DJI
- Model: AC002
- ModifyDate: 2023:08:21 22:35:53
- Orientation: Horizontal (normal)
- IFD1
- IPTC
- Caption-Abstract: default
- DateCreated: 2023:08:21
- System
- XMP-aux
- ApproximateFocusDistance: 0
- DistortionCorrectionAlreadyApplied: True
- LateralChromaticAberrationCorrectionAlreadyApplied: True
- Lens: 2.3 mm f/2.8
- XMP-crs
- AlreadyApplied: True
- AutoLateralCA: 0
- AutoWhiteVersion: 134348800
- Blacks2012: +5
- BlueHue: 0
- BlueSaturation: 0
- CameraProfile: Embedded
- Clarity2012: +41
- ColorNoiseReduction: 25
- ColorNoiseReductionDetail: 50
- ColorNoiseReductionSmoothness: 50
- ColorTemperature: 5900
- Contrast2012: -6
- ConvertToGrayscale: False
- DefringeGreenAmount: 0
- DefringeGreenHueHi: 60
- DefringeGreenHueLo: 40
- DefringePurpleAmount: 0
- DefringePurpleHueHi: 70
- DefringePurpleHueLo: 30
- Dehaze: 0
- Exposure2012: +0.05
- GrainAmount: 0
- GreenHue: 0
- GreenSaturation: 0
- HasCrop: False
- HasSettings: True
- Highlights2012: -21
- HueAdjustmentAqua: 0
- HueAdjustmentBlue: 0
- HueAdjustmentGreen: 0
- HueAdjustmentMagenta: 0
- HueAdjustmentOrange: 0
- HueAdjustmentPurple: 0
- HueAdjustmentRed: 0
- HueAdjustmentYellow: 0
- LensManualDistortionAmount: 0
- LensProfileEnable: 0
- LensProfileSetup: LensDefaults
- LuminanceAdjustmentAqua: 0
- LuminanceAdjustmentBlue: 0
- LuminanceAdjustmentGreen: 0
- LuminanceAdjustmentMagenta: 0
- LuminanceAdjustmentOrange: 0
- LuminanceAdjustmentPurple: 0
- LuminanceAdjustmentRed: 0
- LuminanceAdjustmentYellow: 0
- LuminanceSmoothing: 0
- ParametricDarks: 0
- ParametricHighlights: 0
- ParametricHighlightSplit: 75
- ParametricLights: 0
- ParametricMidtoneSplit: 50
- ParametricShadows: 0
- ParametricShadowSplit: 25
- PerspectiveAspect: 0
- PerspectiveHorizontal: 0
- PerspectiveRotate: -1.3
- PerspectiveScale: 109
- PerspectiveUpright: 0
- PerspectiveVertical: 0
- PostCropVignetteAmount: 0
- ProcessVersion: 6.7
- RawFileName: DJI_20230821184727_0020_D.DNG
- RedHue: 0
- RedSaturation: 0
- Saturation: +8
- SaturationAdjustmentAqua: 0
- SaturationAdjustmentBlue: 0
- SaturationAdjustmentGreen: 0
- SaturationAdjustmentMagenta: 0
- SaturationAdjustmentOrange: 0
- SaturationAdjustmentPurple: 0
- SaturationAdjustmentRed: 0
- SaturationAdjustmentYellow: 0
- Shadows2012: +51
- ShadowTint: 0
- SharpenDetail: 25
- SharpenEdgeMasking: 0
- SharpenRadius: +1.0
- Sharpness: 25
- SplitToningBalance: 0
- SplitToningHighlightHue: 0
- SplitToningHighlightSaturation: 0
- SplitToningShadowHue: 0
- SplitToningShadowSaturation: 0
- Tint: +8
- ToneCurve: 0, 0, 32, 22, 64, 56, 128, 128, 192, 196, 255, 255
- ToneCurveBlue: 0, 0, 255, 255
- ToneCurveGreen: 0, 0, 255, 255
- ToneCurveName: Medium Contrast
- ToneCurveName2012: Linear
- ToneCurvePV2012: 0, 0, 255, 255
- ToneCurvePV2012Blue: 0, 0, 255, 255
- ToneCurvePV2012Green: 0, 0, 255, 255
- ToneCurvePV2012Red: 0, 0, 255, 255
- ToneCurveRed: 0, 0, 255, 255
- ToneMapStrength: 0
- Version: 9.1.1
- Vibrance: +6
- VignetteAmount: 0
- WhiteBalance: As Shot
- Whites2012: +18
- XMP-dc
- Description: default
- Format: image/jpeg
- XMP-drone-dji
- AbsoluteAltitude: +0.000
- AltitudeType: PressureAlt
- CameraSerialNumber: 5SGTKAU1A100N3
- CamReverse: 0
- FlightPitchDegree: +0.00
- FlightRollDegree: +0.00
- FlightXSpeed: 0.0
- FlightYawDegree: +0.00
- FlightYSpeed: 0.0
- FlightZSpeed: 0.0
- GimbalPitchDegree: +0.00
- GimbalReverse: 0
- GimbalRollDegree: +0.00
- GimbalYawDegree: +0.00
- GpsLatitude: +0.000000000
- GpsLongitude: +0.000000000
- GpsStatus: Invalid
- RelativeAltitude: +0.000
- SelfData:
- ShutterType: Electronic
- SurveyingMode: 0
- Version: 1.6
- XMP-xmp
- CreatorTool: 10.00.19.20
- ModifyDate: 2023:08:21 22:35:53+03:00
- Rating: 0
- XMP-xmpMM
- Просмотров: 226
- Рейтинг: голосов еще нет
- Отзывов: 0