- Раздел: Другое, разное
- Дата съёмки: неизвестно
- Дата загрузки фото: 29.10.2023 05:29
- Оригинальная фотография: 7952 x 5304 (4,1 Мб)
- Технические характеристики:
- Фотоаппарат: Sony ILCE-7RM3
- Выдержка: 0,0
- Гиперфокальное расстояние: inf m
- Диафрагма: 5,6
- Светочувствительность: 125
- Фокусное расстояние: 49,0 mm (35 mm equivalent: 49,0 mm)
- Полный EXIF
- Adobe
- ColorTransform: YCbCr
- Composite
- Aperture: 5,6
- CircleOfConfusion: 0,030 mm
- FocalLength35efl: 49,0 mm (35 mm equivalent: 49,0 mm)
- FOV: 40,0 deg
- HyperfocalDistance: inf m
- Megapixels: 42,2
- ScaleFactor35efl: 1,0
- ShutterSpeed: 0,0
- ExifIFD
- ApertureValue: 4,0
- BrightnessValue: 8,259375
- ColorSpace: sRGB
- Contrast: Low
- CreateDate: 2023:09:15 06:52:39
- CustomRendered: Normal
- DateTimeOriginal: 2023:09:15 06:52:39
- DigitalZoomRatio: 1
- ExposureCompensation: 0
- ExposureMode: Manual
- ExposureProgram: Manual
- ExposureTime: 0,0
- Flash: Off, Did not fire
- FNumber: 5,6
- FocalLength: 49,0 mm
- FocalLengthIn35mmFormat: 49 mm
- ISO: 125
- LensInfo: 24-105mm f/4
- LensModel: FE 24-105mm F4 G OSS
- LightSource: Unknown
- MaxApertureValue: 4,0
- MeteringMode: Multi-segment
- RecommendedExposureIndex: 125
- Saturation: High
- SceneCaptureType: Standard
- SceneType: Directly photographed
- SensitivityType: Recommended Exposure Index
- Sharpness: Hard
- ShutterSpeedValue: 1/128
- WhiteBalance: Auto
- ICC-header
- ICC-meas
- ICC-view
- IFD0
- Make: SONY
- Model: ILCE-7RM3
- ModifyDate: 2023:10:01 21:12:17
- IFD1
- IPTC
- DateCreated: 2023:09:15
- System
- XMP-aux
- DistortionCorrectionAlreadyApplied: True
- LateralChromaticAberrationCorrectionAlreadyApplied: True
- Lens: FE 24-105mm F4 G OSS
- LensDistortInfo: 1038119118/1073741824 24634874/1073741824 11200253/1073741824 -227221/1073741824
- VignetteCorrectionAlreadyApplied: True
- XMP-crs
- AlreadyApplied: True
- AutoLateralCA: 0
- Blacks2012: -34
- BlueHue: 0
- BlueSaturation: 0
- Clarity2012: +12
- ColorGradeBlending: 100
- ColorGradeGlobalHue: 0
- ColorGradeGlobalLum: 0
- ColorGradeGlobalSat: 0
- ColorGradeHighlightLum: +3
- ColorGradeMidtoneHue: 51
- ColorGradeMidtoneLum: -2
- ColorGradeMidtoneSat: 13
- ColorGradeShadowLum: +4
- ColorNoiseReduction: 47
- ColorNoiseReductionDetail: 50
- ColorNoiseReductionSmoothness: 50
- ColorTemperature: 6250
- CompatibleVersion: 251658240
- Contrast2012: +2
- CropAngle: 0
- CropBottom: 1
- CropConstrainToWarp: 0
- CropLeft: 0
- CropRight: 1
- CropTop: 0
- DefringeGreenAmount: 0
- DefringeGreenHueHi: 60
- DefringeGreenHueLo: 40
- DefringePurpleAmount: 0
- DefringePurpleHueHi: 70
- DefringePurpleHueLo: 30
- Dehaze: +18
- Exposure2012: +0.25
- GrainAmount: 5
- GrainFrequency: 38
- GrainSize: 18
- GreenHue: 0
- GreenSaturation: 0
- HasCrop: False
- HasSettings: True
- Highlights2012: -100
- HueAdjustmentAqua: -3
- HueAdjustmentBlue: -6
- HueAdjustmentGreen: +8
- HueAdjustmentMagenta: -3
- HueAdjustmentOrange: +3
- HueAdjustmentPurple: -5
- HueAdjustmentRed: -4
- HueAdjustmentYellow: +5
- LensManualDistortionAmount: 0
- LensProfileDistortionScale: 100
- LensProfileEnable: 1
- LensProfileFilename: SONY (Sony FE 24-105mm F4 G OSS) - RAW.lcp
- LensProfileIsEmbedded: False
- LensProfileSetup: LensDefaults
- LensProfileVignettingScale: 100
- LookAmount: 1
- LookGroup: Profiles
- LookParametersConvertToGrayscale: False
- LookParametersLookTable: E1095149FDB39D7A057BAB208837E2E1
- LookParametersProcessVersion: 11.0
- LookParametersToneCurvePV2012: 0, 0, 22, 16, 40, 35, 127, 127, 224, 230, 240, 246, 255, 255
- LookParametersToneCurvePV2012Blue: 0, 0, 255, 255
- LookParametersToneCurvePV2012Green: 0, 0, 255, 255
- LookParametersToneCurvePV2012Red: 0, 0, 255, 255
- LookParametersVersion: 15.1
- LookSupportsAmount: false
- LookSupportsMonochrome: false
- LookSupportsOutputReferred: false
- LuminanceAdjustmentAqua: -10
- LuminanceAdjustmentBlue: -6
- LuminanceAdjustmentGreen: -29
- LuminanceAdjustmentMagenta: +9
- LuminanceAdjustmentOrange: +4
- LuminanceAdjustmentPurple: +4
- LuminanceAdjustmentRed: -8
- LuminanceAdjustmentYellow: +2
- LuminanceNoiseReductionContrast: 0
- LuminanceNoiseReductionDetail: 50
- LuminanceSmoothing: 47
- OverrideLookVignette: False
- ParametricDarks: -3
- ParametricHighlights: +28
- ParametricHighlightSplit: 75
- ParametricLights: -15
- ParametricMidtoneSplit: 50
- ParametricShadows: +7
- ParametricShadowSplit: 25
- PerspectiveAspect: 0
- PerspectiveHorizontal: 0
- PerspectiveRotate: 0.0
- PerspectiveScale: 100
- PerspectiveUpright: 0
- PerspectiveVertical: 0
- PerspectiveX: 0.00
- PerspectiveY: 0.00
- PostCropVignetteAmount: 0
- ProcessVersion: 11.0
- RawFileName: DSC01916.ARW
- RedHue: 0
- RedSaturation: 0
- Saturation: +9
- SaturationAdjustmentAqua: -16
- SaturationAdjustmentBlue: -19
- SaturationAdjustmentGreen: -18
- SaturationAdjustmentMagenta: -17
- SaturationAdjustmentOrange: +11
- SaturationAdjustmentPurple: -13
- SaturationAdjustmentRed: +7
- SaturationAdjustmentYellow: +2
- Shadows2012: +60
- ShadowTint: 0
- SharpenDetail: 25
- SharpenEdgeMasking: 0
- SharpenRadius: +1.0
- Sharpness: 83
- SplitToningBalance: -33
- SplitToningHighlightHue: 39
- SplitToningHighlightSaturation: 3
- SplitToningShadowHue: 157
- SplitToningShadowSaturation: 3
- Texture: +3
- Tint: +9
- ToneCurveName2012: Custom
- ToneCurvePV2012: 0, 5, 115, 140, 179, 184, 255, 251
- ToneCurvePV2012Blue: 0, 0, 255, 255
- ToneCurvePV2012Green: 0, 0, 255, 255
- ToneCurvePV2012Red: 0, 0, 255, 255
- Version: 15.1
- Vibrance: +22
- VignetteAmount: 0
- WhiteBalance: Custom
- Whites2012: -50
- XMP-dc
- XMP-exifEX
- XMP-xmp
- CreateDate: 2023:09:15 06:52:39+04:00
- ModifyDate: 2023:10:01 21:12:17+03:00
- XMP-xmpMM
- Просмотров: 13
- Рейтинг: голосов еще нет
- Отзывов: 0