- Раздел: Другое, разное
- Дата съёмки: неизвестно
- Дата загрузки фото: 10.07.2024 21:22
- Оригинальная фотография: 5421 x 3621 (6,3 Мб)
- Технические характеристики:
- Фотоаппарат: Leica Camera AG LEICA M (Typ 240)
- Выдержка: 0,0
- Гиперфокальное расстояние: inf m
- Диафрагма: 4,8
- Светочувствительность: 200
- Фокусное расстояние: 35,0 mm (35 mm equivalent: 35,0 mm)
- Полный EXIF
- Adobe
- ColorTransform: YCbCr
- Composite
- Aperture: 4,8
- CircleOfConfusion: 0,027 mm
- FocalLength35efl: 35,0 mm (35 mm equivalent: 35,0 mm)
- FOV: 54,0 deg
- GPSAltitude: 0 m Above Sea Level
- GPSDateTime: 2000:00:00 00:00:00Z
- HyperfocalDistance: inf m
- Megapixels: 19,6
- ScaleFactor35efl: 1,1
- ShutterSpeed: 0,0
- ExifIFD
- ApertureValue: 4,0
- ColorSpace: sRGB
- Contrast: High
- CreateDate: 2024:07:10 16:09:47
- CustomRendered: Normal
- DateTimeOriginal: 2024:07:10 16:09:47
- DigitalZoomRatio: 0
- ExifImageHeight: 3621
- ExifImageWidth: 5421
- ExposureCompensation: 0
- ExposureMode: Auto
- ExposureProgram: Aperture-priority AE
- ExposureTime: 0,0
- Flash: No Flash
- FNumber: 4,8
- FocalLength: 35,0 mm
- ISO: 200
- LensInfo: 35mm f/1.4-16
- LensMake: Leica Camera AG
- LensModel: Summilux-M 1:1.4/35
- LensSerialNumber: -------
- LightSource: Unknown
- MaxApertureValue: 1,0
- MeteringMode: Center-weighted average
- Saturation: High
- SceneCaptureType: Standard
- SceneType: Directly photographed
- SerialNumber: 4903802
- Sharpness: Normal
- ShutterSpeedValue: 1/2048
- WhiteBalance: Auto
- GPS
- GPSAltitude: 0 m
- GPSAltitudeRef: Above Sea Level
- GPSDateStamp: 2000:00:00
- GPSDOP: 0
- GPSSpeed: 0
- GPSStatus: Measurement Void
- GPSTimeStamp: 00:00:00
- GPSTrack: 0
- GPSVersionID: 2.2.0.0
- ICC-header
- ICC-meas
- ICC-view
- IFD0
- Artist: SEKANOV
- Copyright: muar@
- Make: Leica Camera AG
- Model: LEICA M (Typ 240)
- ModifyDate: 2024:07:10 20:57:33
- Orientation: Horizontal (normal)
- IFD1
- IPTC
- By-line: SEKANOV
- CopyrightNotice: muar@
- DateCreated: 2024:07:10
- System
- XMP-aux
- Lens: Summilux-M 1:1.4/35
- XMP-crs
- AlreadyApplied: True
- AutoLateralCA: 0
- Blacks2012: +1
- BlueHue: 0
- BlueSaturation: 0
- Clarity2012: -11
- ColorGradeBlending: 50
- ColorGradeGlobalHue: 0
- ColorGradeGlobalLum: 0
- ColorGradeGlobalSat: 0
- ColorGradeHighlightLum: 0
- ColorGradeMidtoneHue: 0
- ColorGradeMidtoneLum: 0
- ColorGradeMidtoneSat: 0
- ColorGradeShadowLum: 0
- ColorNoiseReduction: 25
- ColorNoiseReductionDetail: 50
- ColorNoiseReductionSmoothness: 50
- ColorTemperature: 4850
- Contrast2012: +38
- CropAngle: 0.905958
- CropBottom: 0.9951
- CropConstrainToWarp: 0
- CropLeft: 0.089515
- CropRight: 0.986983
- CropTop: 0.06658
- CurveRefineSaturation: 100
- DefringeGreenAmount: 0
- DefringeGreenHueHi: 60
- DefringeGreenHueLo: 40
- DefringePurpleAmount: 0
- DefringePurpleHueHi: 70
- DefringePurpleHueLo: 30
- Dehaze: 0
- Exposure2012: +0.15
- GrainAmount: 0
- GreenHue: 0
- GreenSaturation: 0
- HasCrop: True
- HasSettings: True
- HDREditMode: 0
- Highlights2012: 0
- HueAdjustmentAqua: 0
- HueAdjustmentBlue: 0
- HueAdjustmentGreen: 0
- HueAdjustmentMagenta: 0
- HueAdjustmentOrange: 0
- HueAdjustmentPurple: 0
- HueAdjustmentRed: 0
- HueAdjustmentYellow: 0
- LensManualDistortionAmount: 0
- LensProfileEnable: 0
- LookAmount: 1
- LookGroup: Profiles
- LookParametersConvertToGrayscale: False
- LookParametersLookTable: E1095149FDB39D7A057BAB208837E2E1
- LookParametersProcessVersion: 15.4
- LookParametersToneCurvePV2012: 0, 0, 22, 16, 40, 35, 127, 127, 224, 230, 240, 246, 255, 255
- LookParametersToneCurvePV2012Blue: 0, 0, 255, 255
- LookParametersToneCurvePV2012Green: 0, 0, 255, 255
- LookParametersToneCurvePV2012Red: 0, 0, 255, 255
- LookParametersVersion: 16.0
- LookSupportsAmount: false
- LookSupportsMonochrome: false
- LookSupportsOutputReferred: false
- LuminanceAdjustmentAqua: 0
- LuminanceAdjustmentBlue: 0
- LuminanceAdjustmentGreen: 0
- LuminanceAdjustmentMagenta: 0
- LuminanceAdjustmentOrange: 0
- LuminanceAdjustmentPurple: 0
- LuminanceAdjustmentRed: 0
- LuminanceAdjustmentYellow: 0
- LuminanceSmoothing: 0
- OverrideLookVignette: False
- ParametricDarks: 0
- ParametricHighlights: 0
- ParametricHighlightSplit: 75
- ParametricLights: 0
- ParametricMidtoneSplit: 50
- ParametricShadows: 0
- ParametricShadowSplit: 25
- PerspectiveAspect: 0
- PerspectiveHorizontal: 0
- PerspectiveRotate: 0.0
- PerspectiveScale: 100
- PerspectiveUpright: 0
- PerspectiveVertical: 0
- PerspectiveX: 0.00
- PerspectiveY: 0.00
- PostCropVignetteAmount: 0
- ProcessVersion: 15.4
- RedHue: 0
- RedSaturation: 0
- Saturation: 0
- SaturationAdjustmentAqua: 0
- SaturationAdjustmentBlue: 0
- SaturationAdjustmentGreen: 0
- SaturationAdjustmentMagenta: 0
- SaturationAdjustmentOrange: 0
- SaturationAdjustmentPurple: 0
- SaturationAdjustmentRed: 0
- SaturationAdjustmentYellow: 0
- Shadows2012: +52
- ShadowTint: 0
- SharpenDetail: 25
- SharpenEdgeMasking: 0
- SharpenRadius: +1.0
- Sharpness: 16
- SplitToningBalance: 0
- SplitToningHighlightHue: 0
- SplitToningHighlightSaturation: 0
- SplitToningShadowHue: 0
- SplitToningShadowSaturation: 0
- Texture: 0
- Tint: +4
- ToneCurveName2012: Custom
- ToneCurvePV2012: 0, 0, 126, 129, 189, 209, 255, 255
- ToneCurvePV2012Blue: 0, 0, 255, 255
- ToneCurvePV2012Green: 0, 0, 255, 255
- ToneCurvePV2012Red: 0, 0, 255, 255
- Version: 16.0
- Vibrance: 0
- VignetteAmount: 0
- WhiteBalance: As Shot
- Whites2012: 0
- XMP-dc
- Creator: SEKANOV
- Format: image/jpeg
- Rights: muar@
- XMP-exifEX
- XMP-xmp
- CreatorTool: 2.1.0.0
- ModifyDate: 2024:07:10 20:57:33+03:00
- XMP-xmpMM
- Просмотров: 32
- Рейтинг: голосов еще нет
- Отзывов: 0