- Раздел: Другое, разное
- Дата съёмки: неизвестно
- Дата загрузки фото: 22.07.2024 17:43
- Оригинальная фотография: 5976 x 3992 (7,6 Мб)
- Технические характеристики:
- Фотоаппарат: Leica Camera AG LEICA M MONOCHROM (Typ 246)
- Выдержка: 0,0
- Гиперфокальное расстояние: inf m
- Диафрагма: 11,0
- Светочувствительность: 320
- Фокусное расстояние: 50,0 mm
- Полный EXIF
- Adobe
- ColorTransform: YCbCr
- Composite
- Aperture: 11,0
- CircleOfConfusion: 0,030 mm
- FocalLength35efl: 50,0 mm
- GPSAltitude: 0 m Above Sea Level
- GPSDateTime: 2000:00:00 00:00:00Z
- HyperfocalDistance: inf m
- Megapixels: 23,9
- ScaleFactor35efl: 1,0
- ShutterSpeed: 0,0
- ExifIFD
- ApertureValue: 8,0
- ColorSpace: sRGB
- Contrast: High
- CreateDate: 2021:08:04 15:06:59
- CustomRendered: Normal
- DateTimeOriginal: 2021:08:04 15:06:59
- DigitalZoomRatio: 0
- ExifImageHeight: 3992
- ExifImageWidth: 5976
- ExposureCompensation: 0
- ExposureMode: Auto
- ExposureProgram: Aperture-priority AE
- ExposureTime: 0,0
- Flash: No Flash
- FNumber: 11,0
- FocalLength: 50,0 mm
- ISO: 320
- LensInfo: 50mm f/2-16
- LensMake: Leica Camera AG
- LensModel: Summicron 1:2/50 Leitz
- LensSerialNumber: -------
- LightSource: Unknown
- MaxApertureValue: 1,4
- MeteringMode: Center-weighted average
- SceneCaptureType: Standard
- SceneType: Directly photographed
- SerialNumber: 4831265
- Sharpness: Hard
- ShutterSpeedValue: 1/512
- GPS
- GPSAltitude: 0 m
- GPSAltitudeRef: Above Sea Level
- GPSDateStamp: 2000:00:00
- GPSDOP: 0
- GPSSpeed: 0
- GPSStatus: Measurement Void
- GPSTimeStamp: 00:00:00
- GPSTrack: 0
- GPSVersionID: 2.2.0.0
- ICC-header
- ICC-meas
- ICC-view
- IFD0
- Make: Leica Camera AG
- Model: LEICA M MONOCHROM (Typ 246)
- ModifyDate: 2024:07:22 16:54:49
- Orientation: Horizontal (normal)
- IFD1
- IPTC
- DateCreated: 2021:08:04
- System
- XMP-aux
- Lens: Summicron 1:2/50 Leitz
- XMP-crs
- AlreadyApplied: True
- Blacks2012: -34
- Clarity2012: +10
- ColorGradeBlending: 50
- ColorGradeGlobalHue: 0
- ColorGradeGlobalLum: 0
- ColorGradeGlobalSat: 0
- ColorGradeHighlightLum: 0
- ColorGradeMidtoneHue: 0
- ColorGradeMidtoneLum: 0
- ColorGradeMidtoneSat: 0
- ColorGradeShadowLum: 0
- Contrast2012: +32
- CurveRefineSaturation: 100
- Dehaze: 0
- Exposure2012: +0.35
- GrainAmount: 0
- HasCrop: False
- HasSettings: True
- HDREditMode: 0
- Highlights2012: -34
- LensManualDistortionAmount: 0
- LensProfileEnable: 0
- LuminanceSmoothing: 0
- OverrideLookVignette: False
- ParametricDarks: 0
- ParametricHighlights: 0
- ParametricHighlightSplit: 75
- ParametricLights: 0
- ParametricMidtoneSplit: 50
- ParametricShadows: 0
- ParametricShadowSplit: 25
- PerspectiveAspect: 0
- PerspectiveHorizontal: 0
- PerspectiveRotate: 0.0
- PerspectiveScale: 100
- PerspectiveUpright: 0
- PerspectiveVertical: 0
- PerspectiveX: 0.00
- PerspectiveY: 0.00
- PostCropVignetteAmount: 0
- ProcessVersion: 15.4
- Shadows2012: +48
- SharpenDetail: 25
- SharpenEdgeMasking: 0
- SharpenRadius: +1.0
- Sharpness: 26
- SplitToningBalance: 0
- SplitToningHighlightHue: 0
- SplitToningHighlightSaturation: 0
- SplitToningShadowHue: 0
- SplitToningShadowSaturation: 0
- Texture: 0
- ToneCurveName2012: Custom
- ToneCurvePV2012: 0, 0, 78, 72, 132, 130, 183, 198, 255, 255
- ToneCurvePV2012Blue: 0, 0, 255, 255
- ToneCurvePV2012Green: 0, 0, 255, 255
- ToneCurvePV2012Red: 0, 0, 255, 255
- Version: 16.0
- VignetteAmount: 0
- Whites2012: -15
- XMP-dc
- XMP-exifEX
- XMP-xmp
- CreatorTool: 1.1.0.0
- ModifyDate: 2024:07:22 16:54:49+03:00
- XMP-xmpMM
- Просмотров: 45
- Рейтинг: голосов еще нет
- Отзывов: 0