- Раздел: Другое, разное
- Дата съёмки: неизвестно
- Дата загрузки фото: 07.01.2025 20:51
- Оригинальная фотография: 2000 x 1500 (475 Кб)
- Технические характеристики:
- Фотоаппарат: FujiFilm GFX100 II
- Выдержка: 0,0
- Гиперфокальное расстояние: inf m
- Диафрагма: 5,6
- Светочувствительность: 800
- Фокусное расстояние: 500,0 mm
- Полный EXIF
- Adobe
- ColorTransform: YCbCr
- Composite
- Aperture: 5,6
- CircleOfConfusion: 0,038 mm
- FocalLength35efl: 500,0 mm
- HyperfocalDistance: inf m
- Megapixels: 3,0
- ScaleFactor35efl: 0,8
- ShutterSpeed: 0,0
- ExifIFD
- ApertureValue: 4,0
- BrightnessValue: 4,69
- CameraElevationAngle: -3
- ColorSpace: sRGB
- CreateDate: 2025:01:07 14:44:21
- CustomRendered: Normal
- DateTimeOriginal: 2025:01:07 14:44:21
- ExifImageHeight: 1500
- ExifImageWidth: 2000
- ExposureCompensation: 0
- ExposureMode: Auto
- ExposureProgram: Aperture-priority AE
- ExposureTime: 0,0
- Flash: No Flash
- FNumber: 5,6
- FocalLength: 500,0 mm
- FocalLengthIn35mmFormat: 396 mm
- ISO: 800
- LensInfo: 500mm f/5.6
- LensMake: FUJIFILM
- LensModel: GF500mmF5.6 R LM OIS WR
- LensSerialNumber: 46A00112
- LightSource: Unknown
- MaxApertureValue: 5,7
- MeteringMode: Multi-segment
- SceneCaptureType: Standard
- SceneType: Directly photographed
- SensingMethod: One-chip color area
- SensitivityType: Standard Output Sensitivity
- SerialNumber: 33001094
- Sharpness: Normal
- ShutterSpeedValue: 1/64
- StandardOutputSensitivity: 800
- SubjectDistanceRange: Unknown
- WhiteBalance: Auto
- ICC-header
- ICC-meas
- ICC-view
- IFD0
- Make: FUJIFILM
- Model: GFX100 II
- ModifyDate: 2025:01:07 19:43:04
- Orientation: Horizontal (normal)
- IFD1
- IPTC
- DateCreated: 2025:01:07
- System
- XMP-aux
- DistortionCorrectionAlreadyApplied: True
- FujiRatingAlreadyApplied: True
- LateralChromaticAberrationCorrectionAlreadyApplied: True
- Lens: GF500mmF5.6 R LM OIS WR
- VignetteCorrectionAlreadyApplied: True
- XMP-crs
- AlreadyApplied: True
- AutoLateralCA: 1
- Blacks2012: 0
- BlueHue: 0
- BlueSaturation: 0
- Clarity2012: 0
- ColorGradeBlending: 50
- ColorGradeGlobalHue: 0
- ColorGradeGlobalLum: 0
- ColorGradeGlobalSat: 0
- ColorGradeHighlightLum: 0
- ColorGradeMidtoneHue: 0
- ColorGradeMidtoneLum: 0
- ColorGradeMidtoneSat: 0
- ColorGradeShadowLum: 0
- ColorNoiseReduction: 25
- ColorNoiseReductionDetail: 50
- ColorNoiseReductionSmoothness: 50
- ColorTemperature: 6050
- Contrast2012: 0
- DefringeGreenAmount: 0
- DefringeGreenHueHi: 60
- DefringeGreenHueLo: 40
- DefringePurpleAmount: 0
- DefringePurpleHueHi: 70
- DefringePurpleHueLo: 30
- Dehaze: 0
- Exposure2012: 0.00
- GrainAmount: 0
- GreenHue: 0
- GreenSaturation: 0
- HasCrop: False
- HasSettings: True
- HDREditMode: 0
- Highlights2012: 0
- HueAdjustmentAqua: 0
- HueAdjustmentBlue: 0
- HueAdjustmentGreen: 0
- HueAdjustmentMagenta: 0
- HueAdjustmentOrange: 0
- HueAdjustmentPurple: 0
- HueAdjustmentRed: 0
- HueAdjustmentYellow: 0
- LensManualDistortionAmount: 0
- LensProfileDistortionScale: 100
- LensProfileEnable: 1
- LensProfileIsEmbedded: True
- LensProfileName: Camera Settings
- LensProfileSetup: LensDefaults
- LensProfileVignettingScale: 100
- LookAmount: 1
- LookGroup: Profiles
- LookParametersConvertToGrayscale: False
- LookParametersLookTable: E1095149FDB39D7A057BAB208837E2E1
- LookParametersProcessVersion: 15.4
- LookParametersToneCurvePV2012: 0, 0, 22, 16, 40, 35, 127, 127, 224, 230, 240, 246, 255, 255
- LookParametersToneCurvePV2012Blue: 0, 0, 255, 255
- LookParametersToneCurvePV2012Green: 0, 0, 255, 255
- LookParametersToneCurvePV2012Red: 0, 0, 255, 255
- LookParametersVersion: 16.0
- LookSupportsAmount: false
- LookSupportsMonochrome: false
- LookSupportsOutputReferred: false
- LuminanceAdjustmentAqua: 0
- LuminanceAdjustmentBlue: 0
- LuminanceAdjustmentGreen: 0
- LuminanceAdjustmentMagenta: -100
- LuminanceAdjustmentOrange: 0
- LuminanceAdjustmentPurple: 0
- LuminanceAdjustmentRed: -55
- LuminanceAdjustmentYellow: 0
- LuminanceSmoothing: 0
- OverrideLookVignette: False
- ParametricDarks: -6
- ParametricHighlights: 0
- ParametricHighlightSplit: 75
- ParametricLights: 0
- ParametricMidtoneSplit: 50
- ParametricShadows: -41
- ParametricShadowSplit: 25
- PerspectiveAspect: 0
- PerspectiveHorizontal: 0
- PerspectiveRotate: 0.0
- PerspectiveScale: 100
- PerspectiveUpright: 0
- PerspectiveVertical: 0
- PerspectiveX: 0.00
- PerspectiveY: 0.00
- PostCropVignetteAmount: 0
- ProcessVersion: 15.4
- RedHue: 0
- RedSaturation: 0
- Saturation: +24
- SaturationAdjustmentAqua: 0
- SaturationAdjustmentBlue: 0
- SaturationAdjustmentGreen: 0
- SaturationAdjustmentMagenta: 0
- SaturationAdjustmentOrange: 0
- SaturationAdjustmentPurple: -100
- SaturationAdjustmentRed: 0
- SaturationAdjustmentYellow: 0
- Shadows2012: 0
- ShadowTint: 0
- SharpenDetail: 25
- SharpenEdgeMasking: 0
- SharpenRadius: +1.0
- Sharpness: 40
- SplitToningBalance: 0
- SplitToningHighlightHue: 0
- SplitToningHighlightSaturation: 0
- SplitToningShadowHue: 0
- SplitToningShadowSaturation: 0
- Texture: 0
- Tint: +16
- ToneCurveName2012: Linear
- ToneCurvePV2012: 0, 0, 255, 255
- ToneCurvePV2012Blue: 0, 0, 255, 255
- ToneCurvePV2012Green: 0, 0, 255, 255
- ToneCurvePV2012Red: 0, 0, 255, 255
- Version: 16.0
- Vibrance: 0
- VignetteAmount: 0
- WhiteBalance: As Shot
- Whites2012: 0
- XMP-dc
- XMP-exifEX
- XMP-xmp
- CreatorTool: Digital Camera GFX100 II Ver2.30
- ModifyDate: 2025:01:07 19:43:04+03:00
- Rating: 0
- XMP-xmpMM
- Просмотров: 16
- Рейтинг: голосов еще нет
- Отзывов: 0