Уважаемые друзья и участники проекта iXBT.photo! К сожалению, 1 марта 2026 года проект iXBT.photo прекратит свою работу и будет закрыт. Мы высоко ценим ваше участие и тот вклад, который вы внесли в развитие нашего сообщества. Пожалуйста, не забудьте сохранить ваши фотографии до этой даты.
С уважением, команда iXBT.com
| Выше только небо |
Выше только небо
- Раздел: Пейзаж
- Дата съёмки: 10.03.2008 02:28
- Дата загрузки фото: 10.03.2008 02:29
- Оригинальная фотография: 3043 x 2036 (2,2 Мб)
- Технические характеристики:
- Фотоаппарат: FujiFilm FinePix S5Pro
- Выдержка: 1/115
- Гиперфокальное расстояние: 2,81 m
- Диафрагма: 7,1
- Светочувствительность: 100
- Фокусное расстояние: 20,0mm (35mm эквивалент: 30,0mm)
- Экспокоррекция: 0,67
- Полный EXIF
- Adobe
- ColorTransform: YCbCr
- Composite
- Aperture: 7,1
- CircleOfConfusion: 0,020 mm
- FocalLength35efl: 20,0mm (35mm equivalent: 30,0mm)
- HyperfocalDistance: 2,81 m
- LightValue: 12,5
- ScaleFactor35efl: 1,5
- ShutterSpeed: 1/115
- ExifIFD
- ApertureValue: 7,1
- BrightnessValue: 8,25
- ColorSpace: sRGB
- Contrast: Normal
- CreateDate: 2007:09:10 14:26:52
- CustomRendered: Normal
- DateTimeOriginal: 2007:09:10 14:26:52
- ExifImageLength: 2036
- ExifImageWidth: 3043
- ExposureCompensation: 0,67
- ExposureMode: Auto
- ExposureProgram: Aperture-priority AE
- ExposureTime: 1/115
- FNumber: 7,1
- Flash: Off
- FocalLength: 20,0mm
- FocalLengthIn35mmFormat: 30mm
- ISO: 100
- LightSource: Unknown (0)
- MaxApertureValue: 2,8
- MeteringMode: Multi-segment
- Saturation: Normal
- SceneCaptureType: Standard
- SceneType: Directly photographed
- SensingMethod: One-chip color area
- Sharpness: Normal
- ShutterSpeedValue: 1/115
- UserComment: (C)ANDREY I.KHODAK AIH3@PROGTECH.RU
- WhiteBalance: Auto
- ICC-header
- ICC-meas
- ICC-view
- IFD0
- Make: FUJIFILM
- Model: FinePix S5Pro
- ModifyDate: 2008:03:10 02:28:55
- Orientation: Horizontal (normal)
- IFD1
- IPTC
- XMP-aux
- Lens: 20.0 mm f/2.8
- LensInfo: 2000/100 2000/100 280/100 280/100
- XMP-crs
- AlreadyApplied: True
- BlueHue: 0
- BlueSaturation: +9
- Brightness: +11
- CameraProfile: ACR 4.1
- ChromaticAberrationB: 0
- ChromaticAberrationR: -39
- Clarity: 18
- ColorNoiseReduction: 1
- Contrast: +23
- ConvertToGrayscale: False
- Defringe: 1
- Exposure: -0.55
- FillLight: 41
- GreenHue: +12
- GreenSaturation: +12
- HasCrop: False
- HasSettings: True
- HighlightRecovery: 8
- HueAdjustmentAqua: 0
- HueAdjustmentBlue: -2
- HueAdjustmentGreen: +7
- HueAdjustmentMagenta: 0
- HueAdjustmentOrange: 0
- HueAdjustmentPurple: 0
- HueAdjustmentRed: 0
- HueAdjustmentYellow: 0
- LuminanceAdjustmentAqua: 0
- LuminanceAdjustmentBlue: -26
- LuminanceAdjustmentGreen: +24
- LuminanceAdjustmentMagenta: 0
- LuminanceAdjustmentOrange: 0
- LuminanceAdjustmentPurple: 0
- LuminanceAdjustmentRed: 0
- LuminanceAdjustmentYellow: 0
- LuminanceSmoothing: 3
- ParametricDarks: 0
- ParametricHighlightSplit: 75
- ParametricHighlights: 0
- ParametricLights: 0
- ParametricMidtoneSplit: 50
- ParametricShadowSplit: 25
- ParametricShadows: 0
- RawFileName: _DSF1491.RAF
- RedHue: 0
- RedSaturation: +11
- Saturation: +8
- SaturationAdjustmentAqua: +2
- SaturationAdjustmentBlue: +5
- SaturationAdjustmentGreen: +9
- SaturationAdjustmentMagenta: 0
- SaturationAdjustmentOrange: 0
- SaturationAdjustmentPurple: 0
- SaturationAdjustmentRed: 0
- SaturationAdjustmentYellow: +10
- ShadowTint: 0
- Shadows: 15
- SharpenDetail: 25
- SharpenEdgeMasking: 0
- SharpenRadius: +0.5
- Sharpness: 37
- SplitToningBalance: 0
- SplitToningHighlightHue: 0
- SplitToningHighlightSaturation: 0
- SplitToningShadowHue: 60
- SplitToningShadowSaturation: 21
- Temperature: 5000
- Tint: +4
- ToneCurve: 0, 0, 32, 22, 64, 56, 128, 128, 192, 196, 255, 255
- ToneCurveName: Medium Contrast
- Version: 4.3.1
- Vibrance: 0
- VignetteAmount: 0
- WhiteBalance: Custom
- XMP-dc
- XMP-exif
- DateTimeDigitized: 2007:09:10 14:26:52+04:00
- DateTimeOriginal: 2007:09:10 14:26:52+04:00
- FlashFired: False
- FlashFunction: False
- FlashMode: Off
- FlashRedEyeMode: False
- FlashReturn: No return detection
- FocalLengthIn35mmFormat: 30
- SubjectDistanceRange: Unknown
- XMP-tiff
- XMP-xmp
- CreateDate: 2008:03:10 02:28:55+03:00
- ModifyDate: 2008:03:10 02:28:55+03:00
- Rating: 0
- XMP-xmpMM
- DerivedFrom:
Получить код для блога
| Вставка фотографии в текущем разрешении |
Вставка миниатюры |
HTML (для вставки в блог):
BBCode (для вставки в форум):
Ссылка на фото:
Ссылка на миниатюру:
- Послать ссылку другу
| Комментарии к фотографии |