- Раздел: Природа
- Дата съёмки: 08.02.2007 03:42
- Дата загрузки фото: 27.03.2008 20:11
- Оригинальная фотография: 1000 x 750 (1014 Кб)
- Технические характеристики:
- Фотоаппарат: FujiFilm FinePix S6500fd
- Выдержка: 1/550
- Гиперфокальное расстояние: 1,84 m
- Диафрагма: 5,0
- Светочувствительность: 200
- Фокусное расстояние: 6,2mm (35mm эквивалент: 44,6mm)
- Полный EXIF
- Adobe
- ColorTransform: YCbCr
- Composite
- Aperture: 5,0
- CircleOfConfusion: 0,004 mm
- FocalLength35efl: 6,2mm (35mm equivalent: 44,6mm)
- HyperfocalDistance: 1,84 m
- LightValue: 12,7
- ScaleFactor35efl: 7,2
- ShutterSpeed: 1/550
- ExifIFD
- ApertureValue: 5,0
- BrightnessValue: 7,78
- CreateDate: 2007:02:08 03:42:42
- CustomRendered: Normal
- DateTimeOriginal: 2007:02:08 03:42:42
- ExposureCompensation: 0
- ExposureMode: Auto
- ExposureProgram: Program AE
- ExposureTime: 1/550
- FNumber: 5,0
- Flash: Off
- FocalLength: 6,2mm
- ISO: 200
- LightSource: Unknown (0)
- MaxApertureValue: 2,8
- MeteringMode: Average
- SceneCaptureType: Standard
- SceneType: Directly photographed
- SensingMethod: One-chip color area
- Sharpness: Normal
- ShutterSpeedValue: 1/550
- WhiteBalance: Auto
- ICC-header
- IFD0
- Make: FUJIFILM
- Model: FinePix S6500fd
- ModifyDate: 2007:10:22 01:13:36
- Software: Digital Camera FinePix S6500fd Ver1.00
- TimeZoneOffset: 3 4
- XMP-crs
- AlreadyApplied: True
- BlueHue: 0
- BlueSaturation: 0
- Brightness: +50
- CameraProfile: ACR 3.6
- ChromaticAberrationB: 0
- ChromaticAberrationR: 0
- Clarity: 100
- ColorNoiseReduction: 100
- Contrast: +25
- ConvertToGrayscale: False
- Defringe: 0
- Exposure: 0.00
- FillLight: 24
- GreenHue: 0
- GreenSaturation: 0
- HasCrop: False
- HasSettings: True
- HighlightRecovery: 95
- HueAdjustmentAqua: 0
- HueAdjustmentBlue: 0
- HueAdjustmentGreen: 0
- HueAdjustmentMagenta: 0
- HueAdjustmentOrange: 0
- HueAdjustmentPurple: 0
- HueAdjustmentRed: 0
- HueAdjustmentYellow: 0
- LuminanceAdjustmentAqua: 0
- LuminanceAdjustmentBlue: 0
- LuminanceAdjustmentGreen: -36
- LuminanceAdjustmentMagenta: 0
- LuminanceAdjustmentOrange: +29
- LuminanceAdjustmentPurple: 0
- LuminanceAdjustmentRed: 0
- LuminanceAdjustmentYellow: 0
- LuminanceSmoothing: 100
- ParametricDarks: 0
- ParametricHighlightSplit: 75
- ParametricHighlights: 0
- ParametricLights: 0
- ParametricMidtoneSplit: 50
- ParametricShadowSplit: 25
- ParametricShadows: 0
- RedHue: 0
- RedSaturation: 0
- Saturation: +18
- SaturationAdjustmentAqua: +25
- SaturationAdjustmentBlue: +51
- SaturationAdjustmentGreen: +29
- SaturationAdjustmentMagenta: 0
- SaturationAdjustmentOrange: +36
- SaturationAdjustmentPurple: 0
- SaturationAdjustmentRed: 0
- SaturationAdjustmentYellow: +36
- ShadowTint: 0
- Shadows: 9
- SharpenDetail: 45
- SharpenEdgeMasking: 40
- SharpenRadius: +1.0
- Sharpness: 72
- SplitToningBalance: 0
- SplitToningHighlightHue: 0
- SplitToningHighlightSaturation: 0
- SplitToningShadowHue: 0
- SplitToningShadowSaturation: 0
- Temperature: 4824
- Tint: -7
- ToneCurve: 0, 0, 32, 22, 64, 56, 128, 128, 192, 196, 255, 255
- ToneCurveName: Medium Contrast
- Version: 1.0
- Vibrance: +18
- VignetteAmount: 0
- WhiteBalance: Custom
- XMP-exif
- DateTimeDigitized: 2007:02:08 03:42:42+03:00
- DateTimeOriginal: 2007:02:08 03:42:42+03:00
- FlashFired: False
- FlashFunction: False
- FlashMode: Off
- FlashRedEyeMode: False
- FlashReturn: No return detection
- SubjectDistanceRange: Unknown
- XMP-tiff
- ImageHeight: 750
- ImageWidth: 1000
- XMP-xmp
- ModifyDate: 2007:10:22 01:13:36+04:00
- Просмотров: 339
- Рейтинг: голосов еще нет
- Отзывов: 0