| » Участники » VasilIII » Портфолио3 Светлая и Черно-Белый » 080422 StKiselevPortfolioPentax-9722.jpg |
Уважаемые друзья и участники проекта iXBT.photo! К сожалению, 1 марта 2026 года проект iXBT.photo прекратит свою работу и будет закрыт. Мы высоко ценим ваше участие и тот вклад, который вы внесли в развитие нашего сообщества. Пожалуйста, не забудьте сохранить ваши фотографии до этой даты.
С уважением, команда iXBT.com
| 080422 StKiselevPortfolioPentax-9722.jpg |
080422 StKiselevPortfolioPentax-9722.jpg
- Раздел: Портрет
- Дата съёмки: 22.04.2008 18:46
- Дата загрузки фото: 13.05.2008 00:39
- Оригинальная фотография: 469 x 700 ( 40 Кб)
- Технические характеристики:
- Фотоаппарат: Pentax K10D
- Выдержка: 1/125
- Светочувствительность: 400
- Фокусное расстояние: 135,0mm (35mm эквивалент: 202,0mm)
- Экспокоррекция: -1/2
- Полный EXIF
- Composite
- CircleOfConfusion: 0,020 mm
- FocalLength35efl: 135,0mm (35mm equivalent: 202,0mm)
- ScaleFactor35efl: 1,5
- ShutterSpeed: 1/125
- ExifIFD
- Contrast: Low
- CreateDate: 2008:04:22 18:46:00
- CustomRendered: Normal
- DateTimeOriginal: 2008:04:22 18:46:00
- ExifImageLength: 700
- ExifImageWidth: 469
- ExposureCompensation: -1/2
- ExposureMode: Manual
- ExposureProgram: Aperture-priority AE
- ExposureTime: 1/125
- Flash: Off
- FocalLength: 135,0mm
- FocalLengthIn35mmFormat: 202mm
- ISO: 400
- MeteringMode: Center-weighted average
- Saturation: High
- SceneCaptureType: Standard
- SensingMethod: One-chip color area
- Sharpness: Hard
- ShutterSpeedValue: 1/125
- SubjectDistanceRange: Distant
- WhiteBalance: Auto
- ICC-header
- ICC-meas
- ICC-view
- IFD0
- Make: PENTAX Corporation
- Model: PENTAX K10D
- ModifyDate: 2008:05:13 00:33:28
- Orientation: Horizontal (normal)
- Software: ACD Systems Digital Imaging
- IPTC
- XMP-aux
- Lens: K,M Lens
- LensID: 1 0
- XMP-crs
- AlreadyApplied: True
- BlueHue: 0
- BlueSaturation: 0
- Brightness: +50
- CameraProfile: ACR 4.4
- ChromaticAberrationB: 0
- ChromaticAberrationR: 0
- Clarity: 31
- ColorNoiseReduction: 25
- Contrast: +25
- ConvertToGrayscale: False
- Defringe: 0
- Exposure: 0.00
- FillLight: 43
- GreenHue: 0
- GreenSaturation: 0
- HasCrop: False
- HasSettings: True
- HighlightRecovery: 0
- HueAdjustmentAqua: 0
- HueAdjustmentBlue: 0
- HueAdjustmentGreen: 0
- HueAdjustmentMagenta: 0
- HueAdjustmentOrange: 0
- HueAdjustmentPurple: 0
- HueAdjustmentRed: 0
- HueAdjustmentYellow: 0
- LuminanceAdjustmentAqua: 0
- LuminanceAdjustmentBlue: 0
- LuminanceAdjustmentGreen: 0
- LuminanceAdjustmentMagenta: 0
- LuminanceAdjustmentOrange: 0
- LuminanceAdjustmentPurple: 0
- LuminanceAdjustmentRed: 0
- LuminanceAdjustmentYellow: 0
- LuminanceSmoothing: 0
- ParametricDarks: 0
- ParametricHighlightSplit: 75
- ParametricHighlights: 0
- ParametricLights: 0
- ParametricMidtoneSplit: 50
- ParametricShadowSplit: 25
- ParametricShadows: 0
- RedHue: 0
- RedSaturation: 0
- Saturation: -19
- SaturationAdjustmentAqua: 0
- SaturationAdjustmentBlue: 0
- SaturationAdjustmentGreen: 0
- SaturationAdjustmentMagenta: 0
- SaturationAdjustmentOrange: 0
- SaturationAdjustmentPurple: 0
- SaturationAdjustmentRed: 0
- SaturationAdjustmentYellow: 0
- ShadowTint: 0
- Shadows: 21
- SharpenDetail: 25
- SharpenEdgeMasking: 0
- SharpenRadius: +1.9
- Sharpness: 104
- SplitToningBalance: 0
- SplitToningHighlightHue: 0
- SplitToningHighlightSaturation: 0
- SplitToningShadowHue: 0
- SplitToningShadowSaturation: 0
- Temperature: 3000
- Tint: +5
- ToneCurve: 0, 0, 32, 22, 64, 56, 128, 128, 192, 196, 255, 255
- ToneCurveName: Medium Contrast
- Version: 4.4.1
- Vibrance: 0
- VignetteAmount: 0
- XMP-dc
- XMP-exif
- DateTimeDigitized: 2008:04:22 18:46:00.0+3:00
- DateTimeOriginal: 2008:04:22 18:46:00.0+3:00
- FlashFired: False
- FlashFunction: False
- FlashMode: Off
- FlashRedEyeMode: False
- FlashReturn: No return detection
- FocalLengthIn35mmFormat: 202
- XMP-tiff
- ImageHeight: 3872
- ImageWidth: 2592
- XMP-xmp
- ModifyDate: 2008:05:10 01:25:44.0+3:00
- Просмотров: 320
- Рейтинг: голосов еще нет
- Отзывов: 0
Получить код для блога
| Вставка фотографии в текущем разрешении |
Вставка миниатюры |
HTML (для вставки в блог):
BBCode (для вставки в форум):
Ссылка на фото:
Ссылка на миниатюру:
- Послать ссылку другу
| Комментарии к фотографии |