- Раздел: Другое, разное
- Дата съёмки: 21.03.2008 00:14
- Дата загрузки фото: 05.06.2008 13:43
- Оригинальная фотография: 760 x 567 (151 Кб)
- Технические характеристики:
- Фотоаппарат: Nikon D70s
- Выдержка: 1/50
- Гиперфокальное расстояние: 1,16 m
- Диафрагма: 14,0
- Светочувствительность: 320
- Фокусное расстояние: 18,0mm (35mm эквивалент: 27,0mm)
- Полный EXIF
- Composite
- Aperture: 14,0
- CircleOfConfusion: 0,020 mm
- FocalLength35efl: 18,0mm (35mm equivalent: 27,0mm)
- HyperfocalDistance: 1,16 m
- LightValue: 11,6
- ScaleFactor35efl: 1,5
- ShutterSpeed: 1/50
- ExifIFD
- ApertureValue: 14,0
- CFAPattern: [Blue,Green][Green,Red]
- ColorSpace: Uncalibrated
- Contrast: Normal
- CreateDate: 2008:03:20 17:17:28
- CustomRendered: Normal
- DateTimeOriginal: 2008:03:20 17:17:28
- DigitalZoomRatio: 1
- ExifImageLength: 567
- ExifImageWidth: 760
- ExposureCompensation: 0
- ExposureMode: Auto
- ExposureProgram: Aperture-priority AE
- ExposureTime: 1/50
- FNumber: 14,0
- Flash: No Flash
- FocalLength: 18,0mm
- FocalLengthIn35mmFormat: 27mm
- GainControl: None
- ISO: 320
- LightSource: Fine Weather
- MaxApertureValue: 3,5
- MeteringMode: Center-weighted average
- Saturation: Normal
- SceneCaptureType: Standard
- SceneType: Directly photographed
- SensingMethod: One-chip color area
- Sharpness: Hard
- ShutterSpeedValue: 0,7
- WhiteBalance: Manual
- ICC-header
- ICC-meas
- ICC-view
- IFD0
- Make: NIKON CORPORATION
- Model: NIKON D70s
- ModifyDate: 2008:06:05 13:43:00
- Orientation: Horizontal (normal)
- Software: Capture NX 1.3.0 W
- TimeZoneOffset: 3 3
- IFD1
- IPTC
- By-line:
- By-lineTitle:
- Caption-Abstract:
- Category:
- City:
- CopyrightNotice:
- Country-PrimaryLocationCode:
- Country-PrimaryLocationName:
- Credit:
- DateCreated:
- DateSent:
- Destination:
- ExpirationDate:
- ExpirationTime:
- FileFormat: No ObjectData
- FileVersion: 0
- Headline:
- LanguageIdentifier:
- ObjectName:
- OriginalTransmissionReference:
- OriginatingProgram:
- ProductID:
- ProgramVersion:
- Province-State:
- ReleaseDate:
- ReleaseTime:
- ServiceIdentifier:
- Source:
- SpecialInstructions:
- TimeSent:
- Writer-Editor:
- Nikon
- IFD0_Offset: 1096
- ImageDataSize: 113379
- MakerNoteVersion: 2.10
- NikonCaptureVersion: Capture NX 1.3.0 W
- PreviewIFD_Offset: 996
- NikonPreview
- XMP-aux
- ImageNumber: 1966
- Lens: 18.0-70.0 mm f/3.5-4.5
- LensInfo: 180/10 700/10 35/10 45/10
- XMP-crs
- AlreadyApplied: True
- BlueHue: 0
- BlueSaturation: 0
- Brightness: +50
- CameraProfile: ACR 2.4
- ChromaticAberrationB: 0
- ChromaticAberrationR: 0
- ColorNoiseReduction: 25
- Contrast: +25
- ConvertToGrayscale: False
- Exposure: 0.00
- FillLight: 0
- GreenHue: 0
- GreenSaturation: 0
- HasCrop: False
- HasSettings: True
- HighlightRecovery: 50
- HueAdjustmentAqua: 0
- HueAdjustmentBlue: 0
- HueAdjustmentGreen: 0
- HueAdjustmentMagenta: 0
- HueAdjustmentOrange: 0
- HueAdjustmentPurple: 0
- HueAdjustmentRed: 0
- HueAdjustmentYellow: 0
- LuminanceAdjustmentAqua: 0
- LuminanceAdjustmentBlue: 0
- LuminanceAdjustmentGreen: 0
- LuminanceAdjustmentMagenta: 0
- LuminanceAdjustmentOrange: 0
- LuminanceAdjustmentPurple: 0
- LuminanceAdjustmentRed: 0
- LuminanceAdjustmentYellow: 0
- LuminanceSmoothing: 13
- ParametricDarks: +4
- ParametricHighlightSplit: 75
- ParametricHighlights: +100
- ParametricLights: +8
- ParametricMidtoneSplit: 50
- ParametricShadowSplit: 25
- ParametricShadows: +3
- RawFileName: DSC_0011.NEF
- RedHue: 0
- RedSaturation: 0
- Saturation: 0
- SaturationAdjustmentAqua: 0
- SaturationAdjustmentBlue: 0
- SaturationAdjustmentGreen: 0
- SaturationAdjustmentMagenta: 0
- SaturationAdjustmentOrange: 0
- SaturationAdjustmentPurple: 0
- SaturationAdjustmentRed: 0
- SaturationAdjustmentYellow: 0
- ShadowTint: 0
- Shadows: 5
- Sharpness: 100
- SplitToningBalance: 0
- SplitToningHighlightHue: 0
- SplitToningHighlightSaturation: 0
- SplitToningShadowHue: 0
- SplitToningShadowSaturation: 0
- Temperature: 5400
- Tint: -4
- ToneCurve: 0, 0, 32, 22, 64, 56, 128, 128, 192, 196, 255, 255
- ToneCurveName: Medium Contrast
- Version: 4.0
- Vibrance: 0
- VignetteAmount: 0
- WhiteBalance: Custom
- XMP-dc
- XMP-exif
- ColorSpace: sRGB
- DateTimeDigitized: 2008:03:20 17:17:28.70+03:00
- DateTimeOriginal: 2008:03:20 17:17:28.70+03:00
- FlashFired: False
- FlashFunction: False
- FlashMode: Unknown
- FlashRedEyeMode: False
- FlashReturn: No return detection
- FocalLengthIn35mmFormat: 27
- ShutterSpeedValue: 1/50
- SubjectDistanceRange: Unknown
- XMP-tiff
- XMP-xmp
- CreateDate: 2008:03:21 00:14:49+03:00
- ModifyDate: 2008:03:21 00:14:49+03:00
- Rating: 0
- XMP-xmpMM