» Участники » Don Basilio » Полоцк » Крестовоздвиженский собор. |
Крестовоздвиженский собор. |
Крестовоздвиженский собор.
- Раздел: Город
- Дата съёмки: 02.06.2008 16:26
- Дата загрузки фото: 17.06.2008 04:12
- Оригинальная фотография: 683 x 1024 (174 Кб)
- Технические характеристики:
- Фотоаппарат: Pentax K100D Super
- Выдержка: 1/4000
- Гиперфокальное расстояние: 8,70 m
- Диафрагма: 4,5
- Светочувствительность: 200
- Фокусное расстояние: 28,0mm (35mm эквивалент: 42,0mm)
- Полный EXIF
- Composite
- Aperture: 4,5
- CircleOfConfusion: 0,020 mm
- FocalLength35efl: 28,0mm (35mm equivalent: 42,0mm)
- HyperfocalDistance: 8,70 m
- LightValue: 15,3
- ScaleFactor35efl: 1,5
- ShutterSpeed: 1/4000
- ExifIFD
- ApertureValue: 4,5
- Contrast: Normal
- CreateDate: 2008:06:02 16:26:16
- CustomRendered: Normal
- DateTimeOriginal: 2008:06:02 16:26:16
- ExifImageLength: 1024
- ExifImageWidth: 683
- ExposureCompensation: 0
- ExposureMode: Auto
- ExposureProgram: Aperture-priority AE
- ExposureTime: 1/4000
- FNumber: 4,5
- Flash: Off
- FocalLength: 28,0mm
- FocalLengthIn35mmFormat: 42mm
- ISO: 200
- MeteringMode: Spot
- Saturation: Normal
- SceneCaptureType: Standard
- SceneType: Directly photographed
- SensingMethod: One-chip color area
- Sharpness: Normal
- ShutterSpeedValue: 1/4000
- SubjectDistanceRange: Distant
- WhiteBalance: Auto
- ICC-header
- IFD0
- Make: PENTAX Corporation
- Model: PENTAX K100D Super
- ModifyDate: 2008:06:17 03:04:39
- Orientation: Horizontal (normal)
- Software: ACD Systems Digital Imaging
- XMP-aux
- Lens: TAMRON AF 28-200mm F/3.8-5.6 LD Super II MACRO
- LensID: 4 29
- LensInfo: 280/10 2000/10 38/10 56/10
- XMP-crs
- AlreadyApplied: True
- BlueHue: 0
- BlueSaturation: 0
- Brightness: +50
- CameraProfile: ACR 4.4
- ChromaticAberrationB: 0
- ChromaticAberrationR: 0
- Clarity: 15
- ColorNoiseReduction: 27
- Contrast: +64
- ConvertToGrayscale: False
- Defringe: 0
- Exposure: 0.00
- FillLight: 0
- GreenHue: 0
- GreenSaturation: 0
- HasCrop: False
- HasSettings: True
- HighlightRecovery: 0
- HueAdjustmentAqua: 0
- HueAdjustmentBlue: 0
- HueAdjustmentGreen: 0
- HueAdjustmentMagenta: 0
- HueAdjustmentOrange: 0
- HueAdjustmentPurple: 0
- HueAdjustmentRed: 0
- HueAdjustmentYellow: 0
- LuminanceAdjustmentAqua: 0
- LuminanceAdjustmentBlue: 0
- LuminanceAdjustmentGreen: 0
- LuminanceAdjustmentMagenta: 0
- LuminanceAdjustmentOrange: 0
- LuminanceAdjustmentPurple: 0
- LuminanceAdjustmentRed: 0
- LuminanceAdjustmentYellow: 0
- LuminanceSmoothing: 12
- ParametricDarks: 0
- ParametricHighlightSplit: 75
- ParametricHighlights: 0
- ParametricLights: 0
- ParametricMidtoneSplit: 50
- ParametricShadowSplit: 25
- ParametricShadows: 0
- RedHue: 0
- RedSaturation: 0
- Saturation: 0
- SaturationAdjustmentAqua: 0
- SaturationAdjustmentBlue: 0
- SaturationAdjustmentGreen: 0
- SaturationAdjustmentMagenta: 0
- SaturationAdjustmentOrange: 0
- SaturationAdjustmentPurple: 0
- SaturationAdjustmentRed: 0
- SaturationAdjustmentYellow: 0
- ShadowTint: 0
- Shadows: 5
- SharpenDetail: 35
- SharpenEdgeMasking: 11
- SharpenRadius: +1.2
- Sharpness: 39
- SplitToningBalance: 0
- SplitToningHighlightHue: 0
- SplitToningHighlightSaturation: 0
- SplitToningShadowHue: 0
- SplitToningShadowSaturation: 0
- Temperature: 5100
- Tint: +13
- ToneCurve: 0, 0, 32, 22, 64, 56, 128, 128, 192, 196, 255, 255
- ToneCurveName: Medium Contrast
- Version: 4.4.1
- Vibrance: +5
- VignetteAmount: 0
- WhiteBalance: As Shot
- XMP-exif
- DateTimeDigitized: 2008:06:02 16:26:16+03:00
- DateTimeOriginal: 2008:06:02 16:26:16+03:00
- FlashFired: False
- FlashFunction: False
- FlashMode: Off
- FlashRedEyeMode: False
- FlashReturn: No return detection
- FocalLengthIn35mmFormat: 42
- XMP-tiff
- ImageHeight: 2008
- ImageWidth: 3008
- XMP-xmp
- ModifyDate: 2008:06:16 00:46:51+03:00
- Просмотров: 935
- Рейтинг: голосов еще нет
- Отзывов: 0
Получить код для блога
Вставка фотографии в текущем разрешении |
Вставка миниатюры |
HTML (для вставки в блог):
BBCode (для вставки в форум):
Ссылка на фото:
Ссылка на миниатюру:
- Послать ссылку другу
Комментарии к фотографии |