- Раздел: Отдых, развлечения
- Дата съёмки: 27.06.2008 23:56
- Дата загрузки фото: 28.06.2008 02:41
- Оригинальная фотография: 2311 x 2534 (1,9 Мб)
- Технические характеристики:
- Фотоаппарат: Nikon D80
- Выдержка: 122,0
- Гиперфокальное расстояние: 2,28 m
- Диафрагма: 7,1
- Светочувствительность: 100
- Фокусное расстояние: 18,0mm (35mm эквивалент: 27,0mm)
- Полный EXIF
- Adobe
- ColorTransform: YCbCr
- Composite
- Aperture: 7,1
- CircleOfConfusion: 0,020 mm
- FocalLength35efl: 18,0mm (35mm equivalent: 27,0mm)
- HyperfocalDistance: 2,28 m
- LightValue: -1,3
- ScaleFactor35efl: 1,5
- ShutterSpeed: 122,0
- ExifIFD
- ApertureValue: 7,1
- CFAPattern: [Green,Blue][Red,Green]
- Contrast: Low
- CreateDate: 2008:06:27 23:56:31
- CustomRendered: Normal
- DateTimeOriginal: 2008:06:27 23:56:31
- DigitalZoomRatio: 1
- ExposureCompensation: 0
- ExposureMode: Manual
- ExposureProgram: Manual
- ExposureTime: 122,0
- FNumber: 7,1
- Flash: No Flash
- FocalLength: 18,0mm
- FocalLengthIn35mmFormat: 27mm
- GainControl: None
- ISO: 100
- LightSource: Unknown (0)
- MaxApertureValue: 3,5
- MeteringMode: Multi-segment
- Saturation: Normal
- SceneCaptureType: Standard
- SceneType: Directly photographed
- SensingMethod: One-chip color area
- Sharpness: Normal
- ShutterSpeedValue: 122,0
- UserComment: Tsemenko Ilya ilya@topmods.net 80508
- WhiteBalance: Auto
- ICC-header
- ICC-meas
- ICC-view
- IFD0
- Make: NIKON CORPORATION
- Model: NIKON D80
- ModifyDate: 2008:06:28 01:28:52
- Software: Ver.1.10
- XMP-aux
- ImageNumber: 7607
- Lens: 18.0-135.0 mm f/3.5-5.6
- LensInfo: 180/10 1350/10 35/10 56/10
- XMP-crs
- AlreadyApplied: True
- BlueHue: 0
- BlueSaturation: 0
- Brightness: +43
- CameraProfile: ACR 3.6
- ChromaticAberrationB: 0
- ChromaticAberrationR: 0
- Clarity: 85
- ColorNoiseReduction: 25
- Contrast: 0
- ConvertToGrayscale: False
- CropAngle: 0
- CropBottom: 1
- CropHeight: 2534
- CropLeft: 0.070356
- CropRight: 0.667194
- CropTop: 0.022432
- CropUnit: 0
- CropWidth: 2311
- Defringe: 0
- Exposure: +1.81
- FillLight: 0
- GreenHue: 0
- GreenSaturation: 0
- HasCrop: True
- HasSettings: True
- HighlightRecovery: 43
- HueAdjustmentAqua: 0
- HueAdjustmentBlue: 0
- HueAdjustmentGreen: 0
- HueAdjustmentMagenta: 0
- HueAdjustmentOrange: 0
- HueAdjustmentPurple: 0
- HueAdjustmentRed: 0
- HueAdjustmentYellow: 0
- LuminanceAdjustmentAqua: 0
- LuminanceAdjustmentBlue: 0
- LuminanceAdjustmentGreen: 0
- LuminanceAdjustmentMagenta: 0
- LuminanceAdjustmentOrange: 0
- LuminanceAdjustmentPurple: 0
- LuminanceAdjustmentRed: 0
- LuminanceAdjustmentYellow: 0
- LuminanceSmoothing: 0
- ParametricDarks: 0
- ParametricHighlightSplit: 75
- ParametricHighlights: 0
- ParametricLights: 0
- ParametricMidtoneSplit: 50
- ParametricShadowSplit: 25
- ParametricShadows: 0
- RedHue: 0
- RedSaturation: 0
- Saturation: 0
- SaturationAdjustmentAqua: 0
- SaturationAdjustmentBlue: 0
- SaturationAdjustmentGreen: 0
- SaturationAdjustmentMagenta: 0
- SaturationAdjustmentOrange: 0
- SaturationAdjustmentPurple: 0
- SaturationAdjustmentRed: 0
- SaturationAdjustmentYellow: 0
- ShadowTint: 0
- Shadows: 0
- SharpenDetail: 25
- SharpenEdgeMasking: 0
- SharpenRadius: +1.0
- Sharpness: 25
- SplitToningBalance: 0
- SplitToningHighlightHue: 0
- SplitToningHighlightSaturation: 0
- SplitToningShadowHue: 0
- SplitToningShadowSaturation: 0
- Temperature: 3400
- Tint: +5
- ToneCurve: 0, 0, 32, 22, 64, 56, 128, 128, 192, 196, 255, 255
- ToneCurveName: Medium Contrast
- Version: 1.0
- Vibrance: 0
- VignetteAmount: 0
- WhiteBalance: As Shot
- XMP-exif
- DateTimeDigitized: 2008:06:27 23:56:31.60+03:00
- DateTimeOriginal: 2008:06:27 23:56:31.60+03:00
- FlashFired: False
- FlashFunction: False
- FlashMode: Unknown
- FlashRedEyeMode: False
- FlashReturn: No return detection
- FocalLengthIn35mmFormat: 27
- SubjectDistanceRange: Unknown
- XMP-tiff
- ImageHeight: 2534
- ImageWidth: 2311
- XMP-xmp
- ModifyDate: 2008:06:28 01:28:52+03:00
- Просмотров: 258
- Рейтинг: голосов еще нет
- Отзывов: 0