- Раздел: Спорт
- Дата съёмки: 25.06.2008 13:57
- Дата загрузки фото: 08.07.2008 15:05
- Оригинальная фотография: 1000 x 656 (316 Кб)
- Технические характеристики:
- Фотоаппарат: Nikon D1
- Выдержка: 1/1250
- Светочувствительность: 200
- Полный EXIF
- Adobe
- ColorTransform: YCbCr
- Composite
- ShutterSpeed: 1/1250
- ExifIFD
- CFAPattern: [Blue,Green][Green,Red]
- ColorSpace: sRGB
- CreateDate: 2008:05:31 17:55:23
- DateTimeOriginal: 2008:05:31 17:55:23
- ExifImageLength: 656
- ExifImageWidth: 1000
- ExposureCompensation: 0
- ExposureProgram: Aperture-priority AE
- ExposureTime: 1/1250
- ISO: 200
- MaxApertureValue: 1,0
- MeteringMode: Spot
- SceneType: Directly photographed
- SensingMethod: One-chip color area
- ShutterSpeedValue: 1/1250
- ICC-header
- ICC-meas
- ICC-view
- IFD0
- Copyright: Copyright,NIKON CORPORATION,1999
- Make: NIKON CORPORATION
- Model: NIKON D1
- ModifyDate: 2008:06:25 13:57:07
- Orientation: Horizontal (normal)
- IFD1
- IPTC
- CopyrightNotice: Copyright,NIKON CORPORATION,1999
- XMP-aux
- Lens: 0.0 mm f/0.0
- LensInfo: 0/10 0/10 0/10 0/10
- XMP-crs
- AlreadyApplied: True
- BlueHue: 0
- BlueSaturation: 0
- Brightness: +50
- CameraProfile: ACR 4.4
- ChromaticAberrationB: 0
- ChromaticAberrationR: 0
- Clarity: 50
- ColorNoiseReduction: 25
- Contrast: +67
- ConvertToGrayscale: False
- Defringe: 0
- Exposure: -0.15
- FillLight: 31
- GreenHue: 0
- GreenSaturation: 0
- HasCrop: False
- HasSettings: True
- HighlightRecovery: 0
- HueAdjustmentAqua: 0
- HueAdjustmentBlue: 0
- HueAdjustmentGreen: 0
- HueAdjustmentMagenta: 0
- HueAdjustmentOrange: 0
- HueAdjustmentPurple: 0
- HueAdjustmentRed: 0
- HueAdjustmentYellow: 0
- LuminanceAdjustmentAqua: 0
- LuminanceAdjustmentBlue: 0
- LuminanceAdjustmentGreen: 0
- LuminanceAdjustmentMagenta: 0
- LuminanceAdjustmentOrange: 0
- LuminanceAdjustmentPurple: 0
- LuminanceAdjustmentRed: 0
- LuminanceAdjustmentYellow: 0
- LuminanceSmoothing: 0
- ParametricDarks: 0
- ParametricHighlightSplit: 75
- ParametricHighlights: 0
- ParametricLights: 0
- ParametricMidtoneSplit: 50
- ParametricShadowSplit: 25
- ParametricShadows: 0
- RawFileName: DSC_1880.NEF
- RedHue: 0
- RedSaturation: 0
- Saturation: 0
- SaturationAdjustmentAqua: 0
- SaturationAdjustmentBlue: 0
- SaturationAdjustmentGreen: 0
- SaturationAdjustmentMagenta: 0
- SaturationAdjustmentOrange: 0
- SaturationAdjustmentPurple: 0
- SaturationAdjustmentRed: 0
- SaturationAdjustmentYellow: 0
- ShadowTint: 0
- Shadows: 5
- SharpenDetail: 25
- SharpenEdgeMasking: 0
- SharpenRadius: +1.0
- Sharpness: 25
- SplitToningBalance: 0
- SplitToningHighlightHue: 0
- SplitToningHighlightSaturation: 0
- SplitToningShadowHue: 0
- SplitToningShadowSaturation: 0
- Temperature: 4650
- Tint: -12
- ToneCurve: 0, 0, 32, 22, 64, 56, 128, 128, 192, 196, 255, 255
- ToneCurveName: Medium Contrast
- Version: 4.4.1
- Vibrance: 0
- VignetteAmount: 0
- WhiteBalance: Custom
- XMP-dc
- Format: image/jpeg
- Rights: Copyright,NIKON CORPORATION,1999
- XMP-exif
- DateTimeDigitized: 2008:05:31 17:55:23.14+04:00
- DateTimeOriginal: 2008:05:31 17:55:23.14+04:00
- XMP-tiff
- XMP-xmp
- CreateDate: 2008:06:25 13:57:07+04:00
- ModifyDate: 2008:06:25 13:57:07+04:00
- Rating: 0
- XMP-xmpMM
- DerivedFrom:
- Просмотров: 454
- Рейтинг: голосов еще нет
- Отзывов: 0