- Раздел: Пейзаж
- Дата съёмки: 27.07.2008 23:44
- Дата загрузки фото: 29.07.2008 22:49
- Оригинальная фотография: 3888 x 2592 (2,3 Мб)
- Технические характеристики:
- Фотоаппарат: Canon EOS 400D DIGITAL
- Выдержка: 1/500
- Гиперфокальное расстояние: 3,46 m
- Диафрагма: 4,5
- Светочувствительность: 100
- Фокусное расстояние: 17,0mm (35mm эквивалент: 27,5mm)
- Полный EXIF
- Adobe
- ColorTransform: YCbCr
- Composite
- Aperture: 4,5
- CircleOfConfusion: 0,019 mm
- FocalLength35efl: 17,0mm (35mm equivalent: 27,5mm)
- HyperfocalDistance: 3,46 m
- LightValue: 13,3
- ScaleFactor35efl: 1,6
- ShutterSpeed: 1/500
- ExifIFD
- ApertureValue: 4,5
- ColorSpace: sRGB
- CreateDate: 2008:07:26 17:42:50
- CustomRendered: Normal
- DateTimeOriginal: 2008:07:26 17:42:50
- ExifImageLength: 2592
- ExifImageWidth: 3888
- ExposureCompensation: 0
- ExposureMode: Manual
- ExposureProgram: Manual
- ExposureTime: 1/500
- FNumber: 4,5
- Flash: Off
- FocalLength: 17,0mm
- ISO: 100
- MaxApertureValue: 4,0
- MeteringMode: Multi-segment
- SceneCaptureType: Standard
- ShutterSpeedValue: 1/500
- WhiteBalance: Manual
- ICC-header
- ICC-meas
- ICC-view
- IFD0
- Artist: unknown
- Make: Canon
- Model: Canon EOS 400D DIGITAL
- ModifyDate: 2008:07:27 23:44:09
- Orientation: Horizontal (normal)
- IFD1
- IPTC
- By-line: unknown
- XMP-aux
- Firmware: 1.1.1
- FlashCompensation: 0
- ImageNumber: 128
- Lens: EF-S17-85mm f/4-5.6 IS USM
- LensInfo: 17/1 85/1 0/0 0/0
- OwnerName: unknown
- SerialNumber: 1581058964
- XMP-crs
- AlreadyApplied: True
- BlueHue: 0
- BlueSaturation: 0
- Brightness: 0
- CameraProfile: Embedded
- ChromaticAberrationB: 0
- ChromaticAberrationR: 0
- Clarity: 0
- ColorNoiseReduction: 0
- Contrast: 0
- ConvertToGrayscale: False
- Defringe: 0
- Exposure: 0.00
- FillLight: 0
- GreenHue: +10
- GreenSaturation: +12
- HasCrop: False
- HasSettings: True
- HighlightRecovery: 0
- HueAdjustmentAqua: 0
- HueAdjustmentBlue: 0
- HueAdjustmentGreen: +10
- HueAdjustmentMagenta: 0
- HueAdjustmentOrange: 0
- HueAdjustmentPurple: 0
- HueAdjustmentRed: 0
- HueAdjustmentYellow: 0
- IncrementalTemperature: +12
- IncrementalTint: 0
- LuminanceAdjustmentAqua: +31
- LuminanceAdjustmentBlue: -69
- LuminanceAdjustmentGreen: +100
- LuminanceAdjustmentMagenta: 0
- LuminanceAdjustmentOrange: +100
- LuminanceAdjustmentPurple: 0
- LuminanceAdjustmentRed: 0
- LuminanceAdjustmentYellow: +100
- LuminanceSmoothing: 0
- ParametricDarks: 0
- ParametricHighlightSplit: 75
- ParametricHighlights: 0
- ParametricLights: 0
- ParametricMidtoneSplit: 50
- ParametricShadowSplit: 25
- ParametricShadows: 0
- RedHue: 0
- RedSaturation: 0
- Saturation: +17
- SaturationAdjustmentAqua: +38
- SaturationAdjustmentBlue: +31
- SaturationAdjustmentGreen: +90
- SaturationAdjustmentMagenta: 0
- SaturationAdjustmentOrange: +50
- SaturationAdjustmentPurple: 0
- SaturationAdjustmentRed: 0
- SaturationAdjustmentYellow: +31
- ShadowTint: 0
- Shadows: 0
- SharpenDetail: 25
- SharpenEdgeMasking: 0
- SharpenRadius: +1.0
- Sharpness: 0
- SplitToningBalance: 0
- SplitToningHighlightHue: 360
- SplitToningHighlightSaturation: 0
- SplitToningShadowHue: 0
- SplitToningShadowSaturation: 0
- ToneCurve: 0, 0, 255, 255
- ToneCurveName: Linear
- Version: 1.0
- Vibrance: 0
- VignetteAmount: 0
- WhiteBalance: Custom
- XMP-dc
- Creator: unknown
- Format: image/jpeg
- XMP-exif
- DateTimeDigitized: 2008:07:26 17:42:50+03:00
- DateTimeOriginal: 2008:07:26 17:42:50+03:00
- FlashFired: False
- FlashFunction: False
- FlashMode: Off
- FlashRedEyeMode: False
- FlashReturn: No return detection
- XMP-tiff
- ImageHeight: 2592
- ImageWidth: 3888
- XMP-xmp
- CreateDate: 2008:07:27 23:44:09+03:00
- ModifyDate: 2008:07:27 23:44:09+03:00
- XMP-xmpMM
- DerivedFrom: