Уважаемые друзья и участники проекта iXBT.photo! К сожалению, 1 марта 2026 года проект iXBT.photo прекратит свою работу и будет закрыт. Мы высоко ценим ваше участие и тот вклад, который вы внесли в развитие нашего сообщества. Пожалуйста, не забудьте сохранить ваши фотографии до этой даты.
С уважением, команда iXBT.com
| Венеция |
Венеция
- Раздел: Активный отдых, туризм
- Дата съёмки: 31.07.2008 08:26
- Дата загрузки фото: 31.07.2008 09:30
- Оригинальная фотография: 1000 x 667 (776 Кб)
- Технические характеристики:
- Фотоаппарат: Canon EOS 400D DIGITAL
- Выдержка: 1/640
- Гиперфокальное расстояние: 3,46 m
- Диафрагма: 4,5
- Светочувствительность: 100
- Фокусное расстояние: 17,0mm (35mm эквивалент: 27,5mm)
- Полный EXIF
- Composite
- Aperture: 4,5
- CircleOfConfusion: 0,019 mm
- FocalLength35efl: 17,0mm (35mm equivalent: 27,5mm)
- HyperfocalDistance: 3,46 m
- LightValue: 13,7
- ScaleFactor35efl: 1,6
- ShutterSpeed: 1/640
- ExifIFD
- ApertureValue: 4,5
- ColorSpace: sRGB
- CreateDate: 2008:07:04 19:15:47
- CustomRendered: Normal
- DateTimeOriginal: 2008:07:04 19:15:47
- ExifImageLength: 667
- ExifImageWidth: 1000
- ExposureCompensation: 0
- ExposureMode: Auto
- ExposureProgram: Aperture-priority AE
- ExposureTime: 1/640
- FNumber: 4,5
- Flash: Off
- FocalLength: 17,0mm
- ISO: 100
- MaxApertureValue: 4,0
- MeteringMode: Average
- SceneCaptureType: Standard
- ShutterSpeedValue: 1/640
- WhiteBalance: Manual
- ICC-header
- ICC-meas
- ICC-view
- IFD0
- Artist: unknown
- Make: Canon
- Model: Canon EOS 400D DIGITAL
- ModifyDate: 2008:07:31 08:28:44
- Orientation: Horizontal (normal)
- Software: ACD Systems Digital Imaging
- IFD1
- IPTC
- XMP-aux
- Firmware: 1.1.1
- FlashCompensation: 0
- ImageNumber: 160
- Lens: EF-S17-85mm f/4-5.6 IS USM
- LensInfo: 17/1 85/1 0/0 0/0
- OwnerName: unknown
- SerialNumber: 1731111124
- XMP-crs
- AlreadyApplied: True
- BlueHue: 0
- BlueSaturation: 0
- Brightness: +50
- CameraProfile: ACR 4.4
- ChromaticAberrationB: 0
- ChromaticAberrationR: 0
- Clarity: 0
- ColorNoiseReduction: 25
- Contrast: +25
- ConvertToGrayscale: False
- Defringe: 0
- Exposure: 0.00
- FillLight: 14
- GreenHue: 0
- GreenSaturation: 0
- HasCrop: False
- HasSettings: True
- HighlightRecovery: 7
- HueAdjustmentAqua: 0
- HueAdjustmentBlue: 0
- HueAdjustmentGreen: 0
- HueAdjustmentMagenta: 0
- HueAdjustmentOrange: 0
- HueAdjustmentPurple: 0
- HueAdjustmentRed: 0
- HueAdjustmentYellow: 0
- LuminanceAdjustmentAqua: 0
- LuminanceAdjustmentBlue: 0
- LuminanceAdjustmentGreen: 0
- LuminanceAdjustmentMagenta: 0
- LuminanceAdjustmentOrange: 0
- LuminanceAdjustmentPurple: 0
- LuminanceAdjustmentRed: 0
- LuminanceAdjustmentYellow: 0
- LuminanceSmoothing: 0
- ParametricDarks: 0
- ParametricHighlightSplit: 75
- ParametricHighlights: 0
- ParametricLights: 0
- ParametricMidtoneSplit: 50
- ParametricShadowSplit: 25
- ParametricShadows: 0
- PostCropVignetteAmount: 0
- RawFileName: IMG_6874.CR2
- RedHue: 0
- RedSaturation: 0
- Saturation: 0
- SaturationAdjustmentAqua: 0
- SaturationAdjustmentBlue: 0
- SaturationAdjustmentGreen: 0
- SaturationAdjustmentMagenta: 0
- SaturationAdjustmentOrange: 0
- SaturationAdjustmentPurple: 0
- SaturationAdjustmentRed: 0
- SaturationAdjustmentYellow: 0
- ShadowTint: 0
- Shadows: 4
- SharpenDetail: 25
- SharpenEdgeMasking: 0
- SharpenRadius: +1.0
- Sharpness: 25
- SplitToningBalance: 0
- SplitToningHighlightHue: 0
- SplitToningHighlightSaturation: 0
- SplitToningShadowHue: 0
- SplitToningShadowSaturation: 0
- Temperature: 5150
- Tint: +8
- ToneCurve: 0, 0, 32, 22, 64, 56, 128, 128, 192, 196, 255, 255
- ToneCurveName: Medium Contrast
- Version: 4.5
- Vibrance: 0
- VignetteAmount: 0
- WhiteBalance: As Shot
- XMP-dc
- Creator: unknown
- Format: image/jpeg
- XMP-exif
- DateTimeDigitized: 2008:07:04 19:15:47.0+2:00
- DateTimeOriginal: 2008:07:04 19:15:47.0+2:00
- ExifImageLength: 2592
- ExifImageWidth: 3888
- FlashFired: False
- FlashFunction: False
- FlashMode: Off
- FlashRedEyeMode: False
- FlashReturn: No return detection
- XMP-tiff
- XMP-xmp
- CreateDate: 2008:07:31 08:26:14+03:00
- ModifyDate: 2008:07:31 07:26:14.0+2:00
- Rating: 0
- XMP-xmpMM
- DerivedFrom:
- Просмотров: 374
- Рейтинг: голосов еще нет
- Отзывов: 0
Получить код для блога
| Вставка фотографии в текущем разрешении |
Вставка миниатюры |
HTML (для вставки в блог):
BBCode (для вставки в форум):
Ссылка на фото:
Ссылка на миниатюру:
- Послать ссылку другу
| Комментарии к фотографии |