- Раздел: Другое, разное
- Дата съёмки: 04.08.2008 23:51
- Дата загрузки фото: 04.08.2008 21:07
- Оригинальная фотография: 600 x 900 (201 Кб)
- Технические характеристики:
- Фотоаппарат: Samsung GX10
- Выдержка: 1/250
- Гиперфокальное расстояние: 105,25 m
- Диафрагма: 2,8
- Светочувствительность: 100
- Фокусное расстояние: 77,0mm (35mm эквивалент: 115,0mm)
- Полный EXIF
- Adobe
- ColorTransform: YCbCr
- Composite
- Aperture: 2,8
- CircleOfConfusion: 0,020 mm
- FocalLength35efl: 77,0mm (35mm equivalent: 115,0mm)
- HyperfocalDistance: 105,25 m
- LightValue: 10,9
- ScaleFactor35efl: 1,5
- ShutterSpeed: 1/250
- ExifIFD
- ApertureValue: 2,8
- ColorSpace: sRGB
- Contrast: Normal
- CreateDate: 2008:08:02 16:13:51
- CustomRendered: Normal
- DateTimeOriginal: 2008:08:02 16:13:51
- ExifImageLength: 900
- ExifImageWidth: 600
- ExposureCompensation: 0
- ExposureMode: Manual
- ExposureProgram: Manual
- ExposureTime: 1/250
- FNumber: 2,8
- Flash: On
- FocalLength: 77,0mm
- FocalLengthIn35mmFormat: 115mm
- ISO: 100
- MeteringMode: Multi-segment
- Saturation: Normal
- SceneCaptureType: Standard
- SensingMethod: One-chip color area
- Sharpness: Normal
- ShutterSpeedValue: 1/250
- SubjectDistanceRange: Distant
- WhiteBalance: Manual
- ICC-header
- ICC-meas
- ICC-view
- IFD0
- Make: SAMSUNG TECHWIN Co.
- Model: SAMSUNG GX10
- ModifyDate: 2008:08:04 23:51:23
- Orientation: Horizontal (normal)
- TimeZoneOffset: 7 7
- IFD1
- IPTC
- XMP-crs
- AlreadyApplied: True
- BlueHue: 0
- BlueSaturation: 0
- Brightness: +66
- CameraProfile: Embedded
- ChromaticAberrationB: 0
- ChromaticAberrationR: 0
- Clarity: 0
- ColorNoiseReduction: 25
- Contrast: +16
- ConvertToGrayscale: False
- CropAngle: 0.980019
- CropBottom: 0.997315
- CropHeight: 3
- CropLeft: 0.035598
- CropRight: 0.853259
- CropTop: 0.15249
- CropUnit: 3
- CropWidth: 2
- Defringe: 0
- Exposure: +1.40
- FillLight: 34
- GreenHue: 0
- GreenSaturation: 0
- HasCrop: True
- HasSettings: True
- HighlightRecovery: 4
- HueAdjustmentAqua: 0
- HueAdjustmentBlue: 0
- HueAdjustmentGreen: 0
- HueAdjustmentMagenta: 0
- HueAdjustmentOrange: 0
- HueAdjustmentPurple: 0
- HueAdjustmentRed: 0
- HueAdjustmentYellow: 0
- LuminanceAdjustmentAqua: 0
- LuminanceAdjustmentBlue: 0
- LuminanceAdjustmentGreen: 0
- LuminanceAdjustmentMagenta: 0
- LuminanceAdjustmentOrange: 0
- LuminanceAdjustmentPurple: 0
- LuminanceAdjustmentRed: 0
- LuminanceAdjustmentYellow: 0
- LuminanceSmoothing: 0
- ParametricDarks: 0
- ParametricHighlightSplit: 75
- ParametricHighlights: 0
- ParametricLights: 0
- ParametricMidtoneSplit: 50
- ParametricShadowSplit: 25
- ParametricShadows: 0
- RawFileName: SG108119.DNG
- RedHue: 0
- RedSaturation: 0
- Saturation: 0
- SaturationAdjustmentAqua: 0
- SaturationAdjustmentBlue: 0
- SaturationAdjustmentGreen: 0
- SaturationAdjustmentMagenta: 0
- SaturationAdjustmentOrange: 0
- SaturationAdjustmentPurple: 0
- SaturationAdjustmentRed: 0
- SaturationAdjustmentYellow: 0
- ShadowTint: 0
- Shadows: 30
- SharpenDetail: 25
- SharpenEdgeMasking: 0
- SharpenRadius: +1.0
- Sharpness: 25
- SplitToningBalance: 0
- SplitToningHighlightHue: 0
- SplitToningHighlightSaturation: 0
- SplitToningShadowHue: 0
- SplitToningShadowSaturation: 0
- Temperature: 6650
- Tint: +71
- ToneCurve: 0, 0, 32, 22, 64, 56, 128, 128, 192, 196, 255, 255
- ToneCurveName: Medium Contrast
- Version: 4.1
- Vibrance: 0
- VignetteAmount: 0
- WhiteBalance: Custom
- XMP-dc
- XMP-exif
- DateTimeDigitized: 2008:08:02 16:13:51+07:00
- DateTimeOriginal: 2008:08:02 16:13:51+07:00
- FlashFired: True
- FlashFunction: False
- FlashMode: On
- FlashRedEyeMode: False
- FlashReturn: No return detection
- FocalLengthIn35mmFormat: 115
- XMP-tiff
- XMP-xmp
- CreateDate: 2008:08:04 23:51:23+07:00
- ModifyDate: 2008:08:04 23:51:23+07:00
- Rating: 0
- XMP-xmpMM
- DerivedFrom:
- Просмотров: 543
- Рейтинг: голосов еще нет
- Отзывов: 1