Уважаемые друзья и участники проекта iXBT.photo! К сожалению, 1 марта 2026 года проект iXBT.photo прекратит свою работу и будет закрыт. Мы высоко ценим ваше участие и тот вклад, который вы внесли в развитие нашего сообщества. Пожалуйста, не забудьте сохранить ваши фотографии до этой даты.
С уважением, команда iXBT.com
| DSC09320.JPG |
DSC09320.JPG
- Раздел: Природа
- Дата съёмки: 29.07.2008 14:22
- Дата загрузки фото: 07.08.2008 11:54
- Оригинальная фотография: 5450 x 3757 (2,6 Мб)
- Технические характеристики:
- Фотоаппарат: Sony DSLR-A100
- Выдержка: 1/500
- Гиперфокальное расстояние: 1,60 m
- Диафрагма: 8,0
- Светочувствительность: 100
- Фокусное расстояние: 16,0mm (35mm эквивалент: 24,0mm)
- Экспокоррекция: 0,7
- Полный EXIF
- Adobe
- ColorTransform: YCbCr
- Composite
- Aperture: 8,0
- CircleOfConfusion: 0,020 mm
- FocalLength35efl: 16,0mm (35mm equivalent: 24,0mm)
- HyperfocalDistance: 1,60 m
- LightValue: 15,0
- ScaleFactor35efl: 1,5
- ShutterSpeed: 1/500
- ExifIFD
- ApertureValue: 8,0
- BrightnessValue: 10,62
- ColorSpace: sRGB
- Contrast: Normal
- CreateDate: 2008:07:29 14:22:10
- CustomRendered: Normal
- DateTimeOriginal: 2008:07:29 14:22:10
- DigitalZoomRatio: 0
- ExifImageLength: 3757
- ExifImageWidth: 5450
- ExposureCompensation: 0,7
- ExposureMode: Auto bracket
- ExposureProgram: Aperture-priority AE
- ExposureTime: 1/500
- FNumber: 8,0
- Flash: Off
- FocalLength: 16,0mm
- FocalLengthIn35mmFormat: 24mm
- GainControl: None
- ISO: 100
- LightSource: Unknown (0)
- MaxApertureValue: 3,5
- MeteringMode: Center-weighted average
- Saturation: Normal
- SceneCaptureType: Standard
- SceneType: Directly photographed
- Sharpness: Normal
- ShutterSpeedValue: 1/500
- SubjectLocation: 2721 982 329 393
- WhiteBalance: Auto
- ICC-header
- ICC-meas
- ICC-view
- IFD0
- ImageDescription: SONY DSC
- Make: SONY
- Model: DSLR-A100
- ModifyDate: 2008:08:07 02:10:39
- Orientation: Horizontal (normal)
- TimeZoneOffset: 4 4
- IFD1
- IPTC
- Caption-Abstract: SONY DSC
- XMP-crs
- AlreadyApplied: True
- BlueHue: 0
- BlueSaturation: 0
- Brightness: +73
- CameraProfile: ACR 3.5
- ChromaticAberrationB: 0
- ChromaticAberrationR: 0
- ColorNoiseReduction: 25
- Contrast: +29
- ConvertToGrayscale: False
- Exposure: +0.25
- FillLight: 0
- GreenHue: 0
- GreenSaturation: 0
- HasCrop: False
- HasSettings: True
- HighlightRecovery: 46
- HueAdjustmentAqua: 0
- HueAdjustmentBlue: -1
- HueAdjustmentGreen: +54
- HueAdjustmentMagenta: 0
- HueAdjustmentOrange: -7
- HueAdjustmentPurple: 0
- HueAdjustmentRed: 0
- HueAdjustmentYellow: +17
- LuminanceAdjustmentAqua: -100
- LuminanceAdjustmentBlue: -35
- LuminanceAdjustmentGreen: +46
- LuminanceAdjustmentMagenta: -100
- LuminanceAdjustmentOrange: 0
- LuminanceAdjustmentPurple: -100
- LuminanceAdjustmentRed: 0
- LuminanceAdjustmentYellow: 0
- LuminanceSmoothing: 0
- ParametricDarks: 0
- ParametricHighlightSplit: 75
- ParametricHighlights: 0
- ParametricLights: 0
- ParametricMidtoneSplit: 50
- ParametricShadowSplit: 25
- ParametricShadows: 0
- RawFileName: DSC09320.ARW
- RedHue: 0
- RedSaturation: 0
- Saturation: +13
- SaturationAdjustmentAqua: 0
- SaturationAdjustmentBlue: -3
- SaturationAdjustmentGreen: +21
- SaturationAdjustmentMagenta: +3
- SaturationAdjustmentOrange: +5
- SaturationAdjustmentPurple: -5
- SaturationAdjustmentRed: +28
- SaturationAdjustmentYellow: +28
- ShadowTint: 0
- Shadows: 5
- Sharpness: 45
- SplitToningBalance: 0
- SplitToningHighlightHue: 0
- SplitToningHighlightSaturation: 0
- SplitToningShadowHue: 0
- SplitToningShadowSaturation: 0
- Temperature: 4950
- Tint: +1
- ToneCurve: 0, 0, 32, 22, 64, 56, 128, 128, 192, 196, 255, 255
- ToneCurveName: Medium Contrast
- Version: 4.0
- Vibrance: +38
- VignetteAmount: -40
- VignetteMidpoint: 0
- WhiteBalance: Custom
- XMP-dc
- Description: SONY DSC
- Format: image/jpeg
- XMP-exif
- DateTimeDigitized: 2008:07:29 14:22:10+04:00
- DateTimeOriginal: 2008:07:29 14:22:10+04:00
- FlashFired: False
- FlashFunction: False
- FlashMode: Off
- FlashRedEyeMode: False
- FlashReturn: No return detection
- FocalLengthIn35mmFormat: 24
- SubjectArea: 2721, 982, 329, 393
- XMP-tiff
- ImageHeight: 3427
- ImageWidth: 5120
- XMP-xmp
- CreateDate: 2008:07:29 14:22:10+04:00
- ModifyDate: 2008:08:07 02:10:39+04:00
- XMP-xmpMM
Получить код для блога
| Вставка фотографии в текущем разрешении |
Вставка миниатюры |
HTML (для вставки в блог):
BBCode (для вставки в форум):
Ссылка на фото:
Ссылка на миниатюру:
- Послать ссылку другу
| Комментарии к фотографии |