- Раздел: Тесты фототехники
- Дата съёмки: 09.08.2008 14:38
- Дата загрузки фото: 09.08.2008 18:58
- Оригинальная фотография: 3008 x 2008 (1,7 Мб)
- Технические характеристики:
- Фотоаппарат: Pentax K100D Super
- Выдержка: 1/3000
- Гиперфокальное расстояние: 5,05 m
- Диафрагма: 2,8
- Светочувствительность: 200
- Фокусное расстояние: 17,0mm (35mm эквивалент: 25,0mm)
- Экспокоррекция: -1/2
- Полный EXIF
- Adobe
- ColorTransform: YCbCr
- Composite
- Aperture: 2,8
- CircleOfConfusion: 0,020 mm
- FocalLength35efl: 17,0mm (35mm equivalent: 25,0mm)
- HyperfocalDistance: 5,05 m
- LightValue: 13,5
- ScaleFactor35efl: 1,5
- ShutterSpeed: 1/3000
- ExifIFD
- ApertureValue: 2,8
- CFAPattern: [Red,Green][Green,Blue]
- Contrast: High
- CreateDate: 2008:08:09 14:38:14
- CustomRendered: Normal
- DateTimeOriginal: 2008:08:09 14:38:14
- ExposureCompensation: -1/2
- ExposureMode: Manual
- ExposureProgram: Aperture-priority AE
- ExposureTime: 1/3000
- FNumber: 2,8
- Flash: Off
- FocalLength: 17,0mm
- FocalLengthIn35mmFormat: 25mm
- ISO: 200
- MeteringMode: Multi-segment
- Saturation: Normal
- SceneCaptureType: Standard
- SceneType: Directly photographed
- SensingMethod: One-chip color area
- Sharpness: Hard
- ShutterSpeedValue: 1/3000
- SubjectDistanceRange: Close
- WhiteBalance: Auto
- ICC-header
- ICC-meas
- ICC-view
- IFD0
- Make: PENTAX Corporation
- Model: PENTAX K100D Super
- ModifyDate: 2008:08:09 18:01:34
- Software: K100D Super Ver 1.00
- XMP-aux
- Lens: Tamron 35-90mm F4 AF or various SIGMA models
- LensID: 3 44
- XMP-crs
- AlreadyApplied: True
- BlueHue: 0
- BlueSaturation: 0
- Brightness: +50
- CameraProfile: ACR 4.4
- ChromaticAberrationB: 0
- ChromaticAberrationR: 0
- Clarity: 0
- ColorNoiseReduction: 25
- Contrast: +25
- ConvertToGrayscale: False
- Defringe: 0
- Exposure: +0.98
- FillLight: 0
- GreenHue: 0
- GreenSaturation: 0
- HasCrop: False
- HasSettings: True
- HighlightRecovery: 100
- HueAdjustmentAqua: 0
- HueAdjustmentBlue: 0
- HueAdjustmentGreen: 0
- HueAdjustmentMagenta: 0
- HueAdjustmentOrange: 0
- HueAdjustmentPurple: 0
- HueAdjustmentRed: 0
- HueAdjustmentYellow: 0
- LuminanceAdjustmentAqua: 0
- LuminanceAdjustmentBlue: 0
- LuminanceAdjustmentGreen: 0
- LuminanceAdjustmentMagenta: 0
- LuminanceAdjustmentOrange: 0
- LuminanceAdjustmentPurple: 0
- LuminanceAdjustmentRed: 0
- LuminanceAdjustmentYellow: 0
- LuminanceSmoothing: 0
- ParametricDarks: 0
- ParametricHighlightSplit: 75
- ParametricHighlights: 0
- ParametricLights: 0
- ParametricMidtoneSplit: 50
- ParametricShadowSplit: 25
- ParametricShadows: 0
- PostCropVignetteAmount: 0
- RedHue: 0
- RedSaturation: 0
- Saturation: 0
- SaturationAdjustmentAqua: 0
- SaturationAdjustmentBlue: 0
- SaturationAdjustmentGreen: 0
- SaturationAdjustmentMagenta: 0
- SaturationAdjustmentOrange: 0
- SaturationAdjustmentPurple: 0
- SaturationAdjustmentRed: 0
- SaturationAdjustmentYellow: 0
- ShadowTint: 0
- Shadows: 0
- SharpenDetail: 25
- SharpenEdgeMasking: 0
- SharpenRadius: +1.0
- Sharpness: 25
- SplitToningBalance: 0
- SplitToningHighlightHue: 0
- SplitToningHighlightSaturation: 0
- SplitToningShadowHue: 0
- SplitToningShadowSaturation: 0
- Temperature: 4900
- Tint: +10
- ToneCurve: 0, 0, 32, 22, 64, 56, 128, 128, 192, 196, 255, 255
- ToneCurveName: Medium Contrast
- Version: 4.5
- Vibrance: 0
- VignetteAmount: 0
- WhiteBalance: As Shot
- XMP-exif
- DateTimeDigitized: 2008:08:09 14:38:14+04:00
- DateTimeOriginal: 2008:08:09 14:38:14+04:00
- ExifImageLength: 2008
- ExifImageWidth: 3008
- FlashFired: False
- FlashFunction: False
- FlashMode: Off
- FlashRedEyeMode: False
- FlashReturn: No return detection
- FocalLengthIn35mmFormat: 25
- XMP-tiff
- ImageHeight: 2008
- ImageWidth: 3008
- XMP-xmp
- CreateDate: 2008:08:09 14:38:14+04:00
- ModifyDate: 2008:08:09 18:01:34+04:00
- Просмотров: 338
- Рейтинг: голосов еще нет
- Отзывов: отключены