| » Участники » jn » Отпуск в Елабуге. Лето-2008 » Ресторан на Чертовом городище.jpg |
Уважаемые друзья и участники проекта iXBT.photo! К сожалению, 1 марта 2026 года проект iXBT.photo прекратит свою работу и будет закрыт. Мы высоко ценим ваше участие и тот вклад, который вы внесли в развитие нашего сообщества. Пожалуйста, не забудьте сохранить ваши фотографии до этой даты.
С уважением, команда iXBT.com
| Ресторан на Чертовом городище.jpg |
Ресторан на Чертовом городище.jpg
- Раздел: Природа
- Дата съёмки: 10.08.2008 00:33
- Дата загрузки фото: 10.08.2008 00:37
- Оригинальная фотография: 4886 x 3366 (3,3 Мб)
- Технические характеристики:
- Фотоаппарат: Sony DSLR-A100
- Выдержка: 1/80
- Гиперфокальное расстояние: 1,28 m
- Диафрагма: 10,0
- Светочувствительность: 100
- Фокусное расстояние: 16,0mm (35mm эквивалент: 24,0mm)
- Экспокоррекция: 1,7
- Полный EXIF
- Adobe
- ColorTransform: YCbCr
- Composite
- Aperture: 10,0
- CircleOfConfusion: 0,020 mm
- FocalLength35efl: 16,0mm (35mm equivalent: 24,0mm)
- HyperfocalDistance: 1,28 m
- LightValue: 13,0
- ScaleFactor35efl: 1,5
- ShutterSpeed: 1/80
- ExifIFD
- ApertureValue: 10,0
- BrightnessValue: 9,62
- ColorSpace: sRGB
- Contrast: Normal
- CreateDate: 2008:08:01 16:16:56
- CustomRendered: Normal
- DateTimeOriginal: 2008:08:01 16:16:56
- DigitalZoomRatio: 0
- ExifImageLength: 3366
- ExifImageWidth: 4886
- ExposureCompensation: 1,7
- ExposureMode: Auto bracket
- ExposureProgram: Program AE
- ExposureTime: 1/80
- FNumber: 10,0
- Flash: Off
- FocalLength: 16,0mm
- FocalLengthIn35mmFormat: 24mm
- GainControl: None
- ISO: 100
- LightSource: Unknown (0)
- MaxApertureValue: 3,5
- MeteringMode: Center-weighted average
- Saturation: Normal
- SceneCaptureType: Standard
- SceneType: Directly photographed
- Sharpness: Normal
- ShutterSpeedValue: 1/80
- SubjectLocation: 2721 982 329 393
- WhiteBalance: Auto
- ICC-header
- ICC-meas
- ICC-view
- IFD0
- ImageDescription: SONY DSC
- Make: SONY
- Model: DSLR-A100
- ModifyDate: 2008:08:10 00:34:57
- Orientation: Horizontal (normal)
- TimeZoneOffset: 4 4
- IFD1
- IPTC
- Caption-Abstract: SONY DSC
- XMP-crs
- AlreadyApplied: True
- BlueHue: 0
- BlueSaturation: 0
- Brightness: +60
- CameraProfile: ACR 3.5
- ChromaticAberrationB: 0
- ChromaticAberrationR: -88
- ColorNoiseReduction: 25
- Contrast: +88
- ConvertToGrayscale: False
- CropAngle: 0
- CropBottom: 0.972209
- CropHeight: 3
- CropLeft: 0.059104
- CropRight: 0.948528
- CropTop: 0.086446
- CropUnit: 3
- CropWidth: 2
- Exposure: 0.00
- FillLight: 15
- GreenHue: 0
- GreenSaturation: 0
- HasCrop: True
- HasSettings: True
- HighlightRecovery: 100
- HueAdjustmentAqua: +16
- HueAdjustmentBlue: 0
- HueAdjustmentGreen: +54
- HueAdjustmentMagenta: 0
- HueAdjustmentOrange: -5
- HueAdjustmentPurple: 0
- HueAdjustmentRed: -11
- HueAdjustmentYellow: +4
- LuminanceAdjustmentAqua: -75
- LuminanceAdjustmentBlue: -55
- LuminanceAdjustmentGreen: +15
- LuminanceAdjustmentMagenta: 0
- LuminanceAdjustmentOrange: -89
- LuminanceAdjustmentPurple: 0
- LuminanceAdjustmentRed: -20
- LuminanceAdjustmentYellow: +59
- LuminanceSmoothing: 0
- ParametricDarks: 0
- ParametricHighlightSplit: 75
- ParametricHighlights: 0
- ParametricLights: 0
- ParametricMidtoneSplit: 50
- ParametricShadowSplit: 25
- ParametricShadows: 0
- RawFileName: DSC09598.ARW
- RedHue: 0
- RedSaturation: 0
- Saturation: +19
- SaturationAdjustmentAqua: 0
- SaturationAdjustmentBlue: +28
- SaturationAdjustmentGreen: +39
- SaturationAdjustmentMagenta: 0
- SaturationAdjustmentOrange: +37
- SaturationAdjustmentPurple: 0
- SaturationAdjustmentRed: -28
- SaturationAdjustmentYellow: +17
- ShadowTint: 0
- Shadows: 0
- Sharpness: 47
- SplitToningBalance: 0
- SplitToningHighlightHue: 0
- SplitToningHighlightSaturation: 0
- SplitToningShadowHue: 0
- SplitToningShadowSaturation: 0
- Temperature: 4900
- Tint: 0
- ToneCurve: 0, 0, 32, 22, 64, 56, 128, 128, 192, 196, 255, 255
- ToneCurveName: Medium Contrast
- Version: 4.0
- Vibrance: +21
- VignetteAmount: -100
- VignetteMidpoint: 29
- WhiteBalance: Custom
- XMP-dc
- Description: SONY DSC
- Format: image/jpeg
- XMP-exif
- DateTimeDigitized: 2008:08:01 16:16:56+04:00
- DateTimeOriginal: 2008:08:01 16:16:56+04:00
- FlashFired: False
- FlashFunction: False
- FlashMode: Off
- FlashRedEyeMode: False
- FlashReturn: No return detection
- FocalLengthIn35mmFormat: 24
- SubjectArea: 2721, 982, 329, 393
- XMP-tiff
- ImageHeight: 3036
- ImageWidth: 4554
- XMP-xmp
- CreateDate: 2008:08:10 00:33:53+04:00
- ModifyDate: 2008:08:10 00:34:57+04:00
- XMP-xmpMM
- DerivedFrom:
Получить код для блога
| Вставка фотографии в текущем разрешении |
Вставка миниатюры |
HTML (для вставки в блог):
BBCode (для вставки в форум):
Ссылка на фото:
Ссылка на миниатюру:
- Послать ссылку другу
| Комментарии к фотографии |