- Раздел: Другое, разное
- Дата съёмки: 14.08.2008 19:34
- Дата загрузки фото: 25.08.2008 12:28
- Оригинальная фотография: 804 x 548 (109 Кб)
- Технические характеристики:
- Фотоаппарат: Canon EOS 5D
- Выдержка: 1/3200
- Гиперфокальное расстояние: 60,64 m
- Диафрагма: 1,4
- Светочувствительность: 400
- Фокусное расстояние: 50,0mm (35mm эквивалент: 51,0mm)
- Полный EXIF
- Adobe
- ColorTransform: YCbCr
- Composite
- Aperture: 1,4
- CircleOfConfusion: 0,029 mm
- FocalLength35efl: 50,0mm (35mm equivalent: 51,0mm)
- HyperfocalDistance: 60,64 m
- LightValue: 10,6
- ScaleFactor35efl: 1,0
- ShutterSpeed: 1/3200
- ExifIFD
- ApertureValue: 1,4
- ColorSpace: sRGB
- CreateDate: 2008:08:14 19:34:00
- CustomRendered: Normal
- DateTimeOriginal: 2008:08:14 19:34:00
- ExifImageLength: 548
- ExifImageWidth: 804
- ExposureCompensation: 0
- ExposureMode: Auto
- ExposureProgram: Aperture-priority AE
- ExposureTime: 1/3200
- FNumber: 1,4
- Flash: Off
- FocalLength: 50,0mm
- ISO: 400
- MaxApertureValue: 1,4
- MeteringMode: Multi-segment
- SceneCaptureType: Standard
- ShutterSpeedValue: 1/3200
- WhiteBalance: Auto
- ICC-header
- ICC-meas
- ICC-view
- IFD0
- Make: Canon
- Model: Canon EOS 5D
- ModifyDate: 2008:08:25 12:26:15
- Orientation: Horizontal (normal)
- IFD1
- XMP-aux
- Firmware: 1.1.0
- FlashCompensation: 0
- ImageNumber: 12
- Lens: EF50mm f/1.4 USM
- LensInfo: 50/1 50/1 0/0 0/0
- SerialNumber: 2921204720
- XMP-crs
- AlreadyApplied: True
- BlueHue: +11
- BlueSaturation: -70
- Brightness: +57
- CameraProfile: ACR 2.4
- ChromaticAberrationB: 0
- ChromaticAberrationR: 0
- Clarity: 0
- ColorNoiseReduction: 25
- Contrast: +25
- ConvertToGrayscale: False
- CropAngle: -0.696321
- CropBottom: 0.982096
- CropHeight: 2860
- CropLeft: 0.004973
- CropRight: 0.995027
- CropTop: 0.017904
- CropUnit: 0
- CropWidth: 4290
- Defringe: 0
- Exposure: +0.75
- FillLight: 0
- GreenHue: +11
- GreenSaturation: +25
- HasCrop: True
- HasSettings: True
- HighlightRecovery: 35
- HueAdjustmentAqua: 0
- HueAdjustmentBlue: 0
- HueAdjustmentGreen: 0
- HueAdjustmentMagenta: 0
- HueAdjustmentOrange: 0
- HueAdjustmentPurple: 0
- HueAdjustmentRed: 0
- HueAdjustmentYellow: 0
- LuminanceAdjustmentAqua: 0
- LuminanceAdjustmentBlue: 0
- LuminanceAdjustmentGreen: 0
- LuminanceAdjustmentMagenta: 0
- LuminanceAdjustmentOrange: 0
- LuminanceAdjustmentPurple: 0
- LuminanceAdjustmentRed: 0
- LuminanceAdjustmentYellow: 0
- LuminanceSmoothing: 0
- ParametricDarks: -3
- ParametricHighlightSplit: 75
- ParametricHighlights: 0
- ParametricLights: 0
- ParametricMidtoneSplit: 50
- ParametricShadowSplit: 25
- ParametricShadows: -14
- PostCropVignetteAmount: 0
- RedHue: +96
- RedSaturation: +3
- Saturation: -71
- SaturationAdjustmentAqua: 0
- SaturationAdjustmentBlue: 0
- SaturationAdjustmentGreen: 0
- SaturationAdjustmentMagenta: 0
- SaturationAdjustmentOrange: 0
- SaturationAdjustmentPurple: 0
- SaturationAdjustmentRed: 0
- SaturationAdjustmentYellow: 0
- ShadowTint: +8
- Shadows: 11
- SharpenDetail: 25
- SharpenEdgeMasking: 0
- SharpenRadius: +0.7
- Sharpness: 30
- SplitToningBalance: 0
- SplitToningHighlightHue: 0
- SplitToningHighlightSaturation: 0
- SplitToningShadowHue: 0
- SplitToningShadowSaturation: 0
- Temperature: 12500
- Tint: +35
- ToneCurve: 0, 0, 255, 255
- ToneCurveName: Linear
- Version: 4.5
- Vibrance: 0
- VignetteAmount: -61
- VignetteMidpoint: 34
- WhiteBalance: Custom
- XMP-exif
- DateTimeDigitized: 2008:08:14 19:34:00+04:00
- DateTimeOriginal: 2008:08:14 19:34:00+04:00
- ExifImageLength: 2860
- ExifImageWidth: 4290
- FlashFired: False
- FlashFunction: False
- FlashMode: Off
- FlashRedEyeMode: False
- FlashReturn: No return detection
- XMP-tiff
- ImageHeight: 2860
- ImageWidth: 4290
- XMP-xmp
- CreateDate: 2008:08:14 19:34:00+04:00
- ModifyDate: 2008:08:25 12:19:50+04:00