- Раздел: Другое, разное
- Дата съёмки: 25.02.2008 23:37
- Дата загрузки фото: 26.08.2008 23:43
- Оригинальная фотография: 498 x 338 ( 83 Кб)
- Технические характеристики:
- Фотоаппарат: Canon EOS 5D
- Выдержка: 1/20
- Гиперфокальное расстояние: 451,72 m
- Диафрагма: 7,1
- Светочувствительность: 400
- Фокусное расстояние: 105,0mm (35mm эквивалент: 917,8mm)
- Полный EXIF
- Adobe
- ColorTransform: YCbCr
- Composite
- Aperture: 7,1
- CircleOfConfusion: 0,003 mm
- FocalLength35efl: 105,0mm (35mm equivalent: 917,8mm)
- HyperfocalDistance: 451,72 m
- LightValue: 8,0
- ScaleFactor35efl: 8,7
- ShutterSpeed: 1/20
- ExifIFD
- ApertureValue: 7,1
- ColorSpace: Uncalibrated
- CreateDate: 2008:02:25 23:20:49
- CustomRendered: Normal
- DateTimeOriginal: 2008:02:25 23:20:49
- ExifImageLength: 338
- ExifImageWidth: 498
- ExposureCompensation: 0
- ExposureMode: Manual
- ExposureProgram: Manual
- ExposureTime: 1/20
- FNumber: 7,1
- Flash: On
- FocalLength: 105,0mm
- ISO: 400
- MaxApertureValue: 4,0
- MeteringMode: Unknown (0)
- SceneCaptureType: Standard
- ShutterSpeedValue: 1/20
- WhiteBalance: Auto
- IFD0
- Artist: В© Iskander Gilfanov 2007
- Make: Canon
- Model: Canon EOS 5D
- ModifyDate: 2008:02:25 23:37:22
- Orientation: Horizontal (normal)
- IFD1
- IPTC
- By-line: В© Iskander Gilfanov 2007
- XMP-aux
- Firmware: 1.0.5
- FlashCompensation: 0
- ImageNumber: 3
- Lens: EF24-105mm f/4L IS USM
- LensInfo: 24/1 105/1 0/0 0/0
- OwnerName: В© Iskander Gilfanov 2007
- SerialNumber: 1130701142
- XMP-crs
- AlreadyApplied: True
- BlueHue: 0
- BlueSaturation: 0
- Brightness: +50
- CameraProfile: ACR 3.3
- ChromaticAberrationB: 0
- ChromaticAberrationR: 0
- Clarity: 0
- ColorNoiseReduction: 25
- Contrast: +58
- ConvertToGrayscale: False
- Defringe: 0
- Exposure: 0.00
- FillLight: 24
- GreenHue: 0
- GreenSaturation: 0
- HasCrop: False
- HasSettings: True
- HighlightRecovery: 77
- HueAdjustmentAqua: 0
- HueAdjustmentBlue: 0
- HueAdjustmentGreen: 0
- HueAdjustmentMagenta: 0
- HueAdjustmentOrange: 0
- HueAdjustmentPurple: 0
- HueAdjustmentRed: 0
- HueAdjustmentYellow: 0
- LuminanceAdjustmentAqua: 0
- LuminanceAdjustmentBlue: 0
- LuminanceAdjustmentGreen: 0
- LuminanceAdjustmentMagenta: 0
- LuminanceAdjustmentOrange: 0
- LuminanceAdjustmentPurple: 0
- LuminanceAdjustmentRed: 0
- LuminanceAdjustmentYellow: 0
- LuminanceSmoothing: 0
- ParametricDarks: 0
- ParametricHighlightSplit: 75
- ParametricHighlights: 0
- ParametricLights: 0
- ParametricMidtoneSplit: 50
- ParametricShadowSplit: 25
- ParametricShadows: 0
- RawFileName: IMG_9591.CR2
- RedHue: 0
- RedSaturation: 0
- Saturation: 0
- SaturationAdjustmentAqua: 0
- SaturationAdjustmentBlue: 0
- SaturationAdjustmentGreen: 0
- SaturationAdjustmentMagenta: 0
- SaturationAdjustmentOrange: 0
- SaturationAdjustmentPurple: 0
- SaturationAdjustmentRed: 0
- SaturationAdjustmentYellow: 0
- ShadowTint: 0
- Shadows: 5
- SharpenDetail: 25
- SharpenEdgeMasking: 0
- SharpenRadius: +1.0
- Sharpness: 25
- SplitToningBalance: 0
- SplitToningHighlightHue: 0
- SplitToningHighlightSaturation: 0
- SplitToningShadowHue: 0
- SplitToningShadowSaturation: 0
- Temperature: 5850
- Tint: -1
- ToneCurve: 0, 0, 32, 22, 64, 56, 128, 128, 192, 196, 255, 255
- ToneCurveName: Medium Contrast
- Version: 4.2
- Vibrance: 0
- VignetteAmount: 0
- WhiteBalance: Custom
- XMP-dc
- Creator: В© Iskander Gilfanov 2007
- Format: image/jpeg
- XMP-exif
- ColorSpace: Unknown (-1)
- DateTimeDigitized: 2008:02:25 23:20:49+03:00
- DateTimeOriginal: 2008:02:25 23:20:49+03:00
- FlashFired: True
- FlashFunction: False
- FlashMode: On
- FlashRedEyeMode: False
- FlashReturn: No return detection
- XMP-tiff
- XMP-xmp
- CreateDate: 2008:02:25 23:37:22+03:00
- ModifyDate: 2008:02:25 23:37:22+03:00
- Rating: 0
- XMP-xmpMM
- DerivedFrom:
- Просмотров: 312
- Рейтинг: голосов еще нет
- Отзывов: отключены