- Раздел: Путешествия
- Дата съёмки: 28.08.2008 19:47
- Дата загрузки фото: 28.08.2008 22:33
- Оригинальная фотография: 933 x 622 (304 Кб)
- Технические характеристики:
- Фотоаппарат: Canon EOS 400D DIGITAL
- Выдержка: 2,0
- Гиперфокальное расстояние: 18,21 m
- Диафрагма: 7,1
- Светочувствительность: 100
- Фокусное расстояние: 24,0mm (35mm эквивалент: 161,9mm)
- Экспокоррекция: +2
- Полный EXIF
- Adobe
- ColorTransform: YCbCr
- Composite
- Aperture: 7,1
- CircleOfConfusion: 0,004 mm
- FocalLength35efl: 24,0mm (35mm equivalent: 161,9mm)
- HyperfocalDistance: 18,21 m
- LightValue: 4,7
- ScaleFactor35efl: 6,7
- ShutterSpeed: 2,0
- ExifIFD
- ApertureValue: 7,1
- ColorSpace: Uncalibrated
- CreateDate: 2008:08:05 23:33:38
- CustomRendered: Normal
- DateTimeOriginal: 2008:08:05 23:33:38
- ExifImageLength: 622
- ExifImageWidth: 933
- ExposureCompensation: +2
- ExposureMode: Auto
- ExposureProgram: Aperture-priority AE
- ExposureTime: 2,0
- FNumber: 7,1
- Flash: Off
- FocalLength: 24,0mm
- ISO: 100
- MaxApertureValue: 3,5
- MeteringMode: Multi-segment
- SceneCaptureType: Standard
- ShutterSpeedValue: 2,0
- WhiteBalance: Auto
- ICC-header
- IFD0
- Artist: unknown
- Make: Canon
- Model: Canon EOS 400D DIGITAL
- ModifyDate: 2008:08:28 19:47:56
- Orientation: Horizontal (normal)
- IFD1
- IPTC
- By-line: unknown
- XMP-aux
- Firmware: 1.1.1
- FlashCompensation: 0
- ImageNumber: 32
- Lens: EF-S18-55mm f/3.5-5.6
- LensInfo: 18/1 55/1 0/0 0/0
- OwnerName: unknown
- SerialNumber: 1030571902
- XMP-crs
- AlreadyApplied: True
- BlueHue: 0
- BlueSaturation: 0
- Brightness: +50
- CameraProfile: ACR 4.4
- ChromaticAberrationB: 0
- ChromaticAberrationR: 0
- Clarity: 74
- ColorNoiseReduction: 25
- Contrast: -24
- ConvertToGrayscale: False
- Defringe: 0
- Exposure: 0.00
- FillLight: 28
- GreenHue: 0
- GreenSaturation: 0
- HasCrop: False
- HasSettings: True
- HighlightRecovery: 0
- HueAdjustmentAqua: 0
- HueAdjustmentBlue: 0
- HueAdjustmentGreen: 0
- HueAdjustmentMagenta: 0
- HueAdjustmentOrange: 0
- HueAdjustmentPurple: 0
- HueAdjustmentRed: 0
- HueAdjustmentYellow: 0
- LuminanceAdjustmentAqua: +17
- LuminanceAdjustmentBlue: +26
- LuminanceAdjustmentGreen: +4
- LuminanceAdjustmentMagenta: 0
- LuminanceAdjustmentOrange: +26
- LuminanceAdjustmentPurple: +33
- LuminanceAdjustmentRed: -3
- LuminanceAdjustmentYellow: -16
- LuminanceSmoothing: 0
- ParametricDarks: +47
- ParametricHighlightSplit: 75
- ParametricHighlights: -28
- ParametricLights: +15
- ParametricMidtoneSplit: 50
- ParametricShadowSplit: 25
- ParametricShadows: +3
- RawFileName: _MG_6210.CR2
- RedHue: 0
- RedSaturation: 0
- Saturation: 0
- SaturationAdjustmentAqua: +13
- SaturationAdjustmentBlue: +23
- SaturationAdjustmentGreen: +100
- SaturationAdjustmentMagenta: 0
- SaturationAdjustmentOrange: 0
- SaturationAdjustmentPurple: +8
- SaturationAdjustmentRed: 0
- SaturationAdjustmentYellow: +32
- ShadowTint: 0
- Shadows: 5
- SharpenDetail: 25
- SharpenEdgeMasking: 0
- SharpenRadius: +1.0
- Sharpness: 25
- SplitToningBalance: 0
- SplitToningHighlightHue: 0
- SplitToningHighlightSaturation: 0
- SplitToningShadowHue: 0
- SplitToningShadowSaturation: 0
- Temperature: 3150
- Tint: +14
- ToneCurve: 0, 0, 32, 22, 64, 56, 128, 128, 192, 196, 255, 255
- ToneCurveName: Medium Contrast
- Version: 4.4.1
- Vibrance: +100
- VignetteAmount: 0
- WhiteBalance: Custom
- XMP-dc
- Creator: unknown
- Format: image/jpeg
- XMP-exif
- ColorSpace: Unknown (-1)
- DateTimeDigitized: 2008:08:05 23:33:38+04:00
- DateTimeOriginal: 2008:08:05 23:33:38+04:00
- FlashFired: False
- FlashFunction: False
- FlashMode: Off
- FlashRedEyeMode: False
- FlashReturn: No return detection
- XMP-tiff
- XMP-xmp
- CreateDate: 2008:08:28 19:47:56+05:00
- ModifyDate: 2008:08:28 19:47:56+05:00
- Rating: 0
- XMP-xmpMM
- Просмотров: 264
- Рейтинг: голосов еще нет
- Отзывов: 0