- Раздел: Путешествия
- Дата съёмки: 28.08.2008 19:31
- Дата загрузки фото: 28.08.2008 22:41
- Оригинальная фотография: 700 x 467 (174 Кб)
- Технические характеристики:
- Фотоаппарат: Canon EOS 400D DIGITAL
- Выдержка: 1/200
- Гиперфокальное расстояние: 133,24 m
- Диафрагма: 11,0
- Светочувствительность: 100
- Фокусное расстояние: 70,0mm (35mm эквивалент: 629,1mm)
- Полный EXIF
- Adobe
- ColorTransform: YCbCr
- Composite
- Aperture: 11,0
- CircleOfConfusion: 0,003 mm
- FocalLength35efl: 70,0mm (35mm equivalent: 629,1mm)
- HyperfocalDistance: 133,24 m
- LightValue: 14,6
- ScaleFactor35efl: 9,0
- ShutterSpeed: 1/200
- ExifIFD
- ApertureValue: 11,0
- ColorSpace: Uncalibrated
- CreateDate: 2008:08:09 16:06:24
- CustomRendered: Normal
- DateTimeOriginal: 2008:08:09 16:06:24
- ExifImageLength: 467
- ExifImageWidth: 700
- ExposureCompensation: 0
- ExposureMode: Auto
- ExposureProgram: Aperture-priority AE
- ExposureTime: 1/200
- FNumber: 11,0
- Flash: On
- FocalLength: 70,0mm
- ISO: 100
- MaxApertureValue: 4,0
- MeteringMode: Average
- SceneCaptureType: Standard
- ShutterSpeedValue: 1/200
- WhiteBalance: Auto
- ICC-header
- IFD0
- Artist: unknown
- Make: Canon
- Model: Canon EOS 400D DIGITAL
- ModifyDate: 2008:08:28 19:31:35
- Orientation: Horizontal (normal)
- IFD1
- IPTC
- By-line: unknown
- XMP-aux
- Firmware: 1.1.1
- FlashCompensation: 0,333333333333333
- ImageNumber: 208
- Lens: EF70-300mm f/4-5.6 IS USM
- LensInfo: 70/1 300/1 0/0 0/0
- OwnerName: unknown
- SerialNumber: 1030571902
- XMP-crs
- AlreadyApplied: True
- BlueHue: 0
- BlueSaturation: 0
- Brightness: +74
- CameraProfile: ACR 4.4
- ChromaticAberrationB: 0
- ChromaticAberrationR: 0
- Clarity: 51
- ColorNoiseReduction: 25
- Contrast: +74
- ConvertToGrayscale: False
- Defringe: 0
- Exposure: +0.15
- FillLight: 39
- GreenHue: 0
- GreenSaturation: 0
- HasCrop: False
- HasSettings: True
- HighlightRecovery: 100
- HueAdjustmentAqua: 0
- HueAdjustmentBlue: 0
- HueAdjustmentGreen: 0
- HueAdjustmentMagenta: 0
- HueAdjustmentOrange: 0
- HueAdjustmentPurple: 0
- HueAdjustmentRed: 0
- HueAdjustmentYellow: 0
- LuminanceAdjustmentAqua: -71
- LuminanceAdjustmentBlue: -85
- LuminanceAdjustmentGreen: +31
- LuminanceAdjustmentMagenta: 0
- LuminanceAdjustmentOrange: -47
- LuminanceAdjustmentPurple: 0
- LuminanceAdjustmentRed: 0
- LuminanceAdjustmentYellow: +63
- LuminanceSmoothing: 0
- ParametricDarks: -3
- ParametricHighlightSplit: 75
- ParametricHighlights: +39
- ParametricLights: -12
- ParametricMidtoneSplit: 50
- ParametricShadowSplit: 25
- ParametricShadows: -51
- RawFileName: _MG_6749.CR2
- RedHue: 0
- RedSaturation: 0
- Saturation: 0
- SaturationAdjustmentAqua: +12
- SaturationAdjustmentBlue: +43
- SaturationAdjustmentGreen: +38
- SaturationAdjustmentMagenta: 0
- SaturationAdjustmentOrange: +17
- SaturationAdjustmentPurple: 0
- SaturationAdjustmentRed: 0
- SaturationAdjustmentYellow: +1
- ShadowTint: 0
- Shadows: 3
- SharpenDetail: 25
- SharpenEdgeMasking: 0
- SharpenRadius: +1.0
- Sharpness: 25
- SplitToningBalance: 0
- SplitToningHighlightHue: 0
- SplitToningHighlightSaturation: 0
- SplitToningShadowHue: 0
- SplitToningShadowSaturation: 0
- Temperature: 5850
- Tint: +18
- ToneCurve: 0, 0, 32, 22, 64, 56, 128, 128, 192, 196, 255, 255
- ToneCurveName: Medium Contrast
- Version: 4.4.1
- Vibrance: +38
- VignetteAmount: 0
- WhiteBalance: As Shot
- XMP-dc
- Creator: unknown
- Format: image/jpeg
- XMP-exif
- ColorSpace: Unknown (-1)
- DateTimeDigitized: 2008:08:09 16:06:24+04:00
- DateTimeOriginal: 2008:08:09 16:06:24+04:00
- FlashFired: True
- FlashFunction: False
- FlashMode: On
- FlashRedEyeMode: False
- FlashReturn: No return detection
- XMP-tiff
- XMP-xmp
- CreateDate: 2008:08:28 19:31:35+05:00
- ModifyDate: 2008:08:28 19:31:35+05:00
- Rating: 0
- XMP-xmpMM
- Просмотров: 300
- Рейтинг: голосов еще нет
- Отзывов: 0