- Раздел: Другое, разное
- Дата съёмки: 30.08.2008 13:20
- Дата загрузки фото: 31.08.2008 23:44
- Оригинальная фотография: 3043 x 2036 (261 Кб)
- Технические характеристики:
- Фотоаппарат: FujiFilm FinePix S5Pro
- Выдержка: 1/500
- Гиперфокальное расстояние: 139,95 m
- Диафрагма: 1,2
- Светочувствительность: 100
- Фокусное расстояние: 58,0mm (35mm эквивалент: 87,0mm)
- Полный EXIF
- Adobe
- ColorTransform: YCbCr
- Composite
- Aperture: 1,2
- CircleOfConfusion: 0,020 mm
- FocalLength35efl: 58,0mm (35mm equivalent: 87,0mm)
- HyperfocalDistance: 139,95 m
- LightValue: 9,5
- ScaleFactor35efl: 1,5
- ShutterSpeed: 1/500
- ExifIFD
- ApertureValue: 1,2
- BrightnessValue: 4,91
- Contrast: Normal
- CreateDate: 2008:08:30 13:20:19
- CustomRendered: Normal
- DateTimeOriginal: 2008:08:30 13:20:19
- ExposureCompensation: 0
- ExposureMode: Auto
- ExposureProgram: Aperture-priority AE
- ExposureTime: 1/500
- FNumber: 1,2
- Flash: Off
- FocalLength: 58,0mm
- FocalLengthIn35mmFormat: 87mm
- ISO: 100
- LightSource: Unknown (0)
- MaxApertureValue: 1,3
- MeteringMode: Multi-segment
- Saturation: Normal
- SceneCaptureType: Standard
- SceneType: Directly photographed
- SensingMethod: One-chip color area
- Sharpness: Normal
- ShutterSpeedValue: 1/500
- WhiteBalance: Auto
- ICC-header
- ICC-meas
- ICC-view
- IFD0
- Make: FUJIFILM
- Model: FinePix S5Pro
- ModifyDate: 2008:08:31 21:59:46
- Software: Digital Camera FinePix S5Pro Ver1.08
- XMP-crs
- AlreadyApplied: True
- BlueHue: 0
- BlueSaturation: 0
- Brightness: +50
- CameraProfile: ACR 4.4
- ChromaticAberrationB: 0
- ChromaticAberrationR: 0
- Clarity: 0
- ColorNoiseReduction: 0
- Contrast: +25
- ConvertToGrayscale: False
- Defringe: 0
- Exposure: 0.00
- FillLight: 0
- GreenHue: 0
- GreenSaturation: 0
- HasCrop: False
- HasSettings: True
- HighlightRecovery: 0
- HueAdjustmentAqua: 0
- HueAdjustmentBlue: 0
- HueAdjustmentGreen: 0
- HueAdjustmentMagenta: 0
- HueAdjustmentOrange: 0
- HueAdjustmentPurple: 0
- HueAdjustmentRed: 0
- HueAdjustmentYellow: 0
- LuminanceAdjustmentAqua: 0
- LuminanceAdjustmentBlue: 0
- LuminanceAdjustmentGreen: 0
- LuminanceAdjustmentMagenta: 0
- LuminanceAdjustmentOrange: 0
- LuminanceAdjustmentPurple: 0
- LuminanceAdjustmentRed: 0
- LuminanceAdjustmentYellow: 0
- LuminanceSmoothing: 0
- ParametricDarks: +10
- ParametricHighlightSplit: 75
- ParametricHighlights: 0
- ParametricLights: -68
- ParametricMidtoneSplit: 50
- ParametricShadowSplit: 25
- ParametricShadows: -10
- PostCropVignetteAmount: 0
- RawFileName: DSCF1592.RAF
- RedHue: 0
- RedSaturation: 0
- Saturation: 0
- SaturationAdjustmentAqua: 0
- SaturationAdjustmentBlue: 0
- SaturationAdjustmentGreen: 0
- SaturationAdjustmentMagenta: 0
- SaturationAdjustmentOrange: 0
- SaturationAdjustmentPurple: 0
- SaturationAdjustmentRed: 0
- SaturationAdjustmentYellow: 0
- ShadowTint: 0
- Shadows: 5
- SharpenDetail: 0
- SharpenEdgeMasking: 0
- SharpenRadius: +0.5
- Sharpness: 0
- SplitToningBalance: 0
- SplitToningHighlightHue: 0
- SplitToningHighlightSaturation: 0
- SplitToningShadowHue: 0
- SplitToningShadowSaturation: 0
- Temperature: 4250
- Tint: +24
- ToneCurve: 0, 0, 32, 22, 64, 56, 128, 128, 192, 196, 255, 255
- ToneCurveName: Medium Contrast
- Version: 4.5
- Vibrance: 0
- VignetteAmount: 0
- WhiteBalance: As Shot
- XMP-exif
- DateTimeDigitized: 2008:08:30 13:20:19+04:00
- DateTimeOriginal: 2008:08:30 13:20:19+04:00
- ExifImageLength: 2036
- ExifImageWidth: 3043
- FlashFired: False
- FlashFunction: False
- FlashMode: Off
- FlashRedEyeMode: False
- FlashReturn: No return detection
- FocalLengthIn35mmFormat: 87
- SubjectDistanceRange: Unknown
- XMP-tiff
- ImageHeight: 2036
- ImageWidth: 3043
- XMP-xmp
- CreateDate: 2008:08:30 13:20:19+04:00
- CreatorTool: Digital Camera FinePix S5Pro Ver1.08
- ModifyDate: 2008:08:31 21:59:46+04:00
- Просмотров: 270
- Рейтинг: голосов еще нет
- Отзывов: 0